BEGIN:VCALENDAR
VERSION:2.0
PRODID:-//Taylor Community Library - ECPv6.15.20//NONSGML v1.0//EN
CALSCALE:GREGORIAN
METHOD:PUBLISH
X-ORIGINAL-URL:https://taylor.lib.mi.us
X-WR-CALDESC:Events for Taylor Community Library
REFRESH-INTERVAL;VALUE=DURATION:PT1H
X-Robots-Tag:noindex
X-PUBLISHED-TTL:PT1H
BEGIN:VTIMEZONE
TZID:America/Detroit
BEGIN:DAYLIGHT
TZOFFSETFROM:-0500
TZOFFSETTO:-0400
TZNAME:EDT
DTSTART:20230312T070000
END:DAYLIGHT
BEGIN:STANDARD
TZOFFSETFROM:-0400
TZOFFSETTO:-0500
TZNAME:EST
DTSTART:20231105T060000
END:STANDARD
BEGIN:DAYLIGHT
TZOFFSETFROM:-0500
TZOFFSETTO:-0400
TZNAME:EDT
DTSTART:20240310T070000
END:DAYLIGHT
BEGIN:STANDARD
TZOFFSETFROM:-0400
TZOFFSETTO:-0500
TZNAME:EST
DTSTART:20241103T060000
END:STANDARD
BEGIN:DAYLIGHT
TZOFFSETFROM:-0500
TZOFFSETTO:-0400
TZNAME:EDT
DTSTART:20250309T070000
END:DAYLIGHT
BEGIN:STANDARD
TZOFFSETFROM:-0400
TZOFFSETTO:-0500
TZNAME:EST
DTSTART:20251102T060000
END:STANDARD
END:VTIMEZONE
BEGIN:VEVENT
DTSTART;TZID=America/Detroit:20240605T120000
DTEND;TZID=America/Detroit:20240605T140000
DTSTAMP:20260425T210516
CREATED:20240603T192912Z
LAST-MODIFIED:20240603T192912Z
UID:14112-1717588800-1717596000@taylor.lib.mi.us
SUMMARY:Audio Described Movie Day
DESCRIPTION:Audio Described Movie Day\nPop in the 1st Wednesday of each month to watch a new\, popular film with the Audio Description (AD) narration track added.
URL:https://taylor.lib.mi.us/event/audio-described-movie-day-5/
LOCATION:Trolley (North) Unity Room\, 12303 Pardee Road\, Taylor\, MI\, 48180\, United States
CATEGORIES:Adults
END:VEVENT
BEGIN:VEVENT
DTSTART;TZID=America/Detroit:20240605T160000
DTEND;TZID=America/Detroit:20240605T180000
DTSTAMP:20260425T210516
CREATED:20221208T231101Z
LAST-MODIFIED:20240315T172048Z
UID:12417-1717603200-1717610400@taylor.lib.mi.us
SUMMARY:Teen Volunteer Group
DESCRIPTION:Teen Volunteer Group\nAre you a teen who’s looking for volunteer hours? Join our Teen Volunteer Group! \nTeen volunteers help plan\, implement\, and promote ways to improve services offered at TCL. Joining our group builds your resume\, earns you volunteer hours\, and gives you a chance to be heard. Tasks will include helping the library with collection maintenance\, programming prep\, maintaining the TCL Tiny Taylor Library\, and more! \nWe meet every other Wednesday at 4 p.m. in person at the library. \nWant to earn volunteer hours for this? Visit our Volunteer page to see if space is available and to sign up! 
URL:https://taylor.lib.mi.us/event/teen-volunteer-group-2023-09-13-2023-09-27-2023-10-11-2024-06-05/
LOCATION:Community Rooms (Papp & Trolley)\, 12303 Pardee Road\, Taylor\, MI\, 48180\, United States
CATEGORIES:Teens
ORGANIZER;CN="Jasmine Riehl":MAILTO:jriehl@cityoftaylormi.gov
END:VEVENT
BEGIN:VEVENT
DTSTART;TZID=America/Detroit:20240605T173000
DTEND;TZID=America/Detroit:20240605T193000
DTSTAMP:20260425T210516
CREATED:20240411T224028Z
LAST-MODIFIED:20240411T224146Z
UID:13815-1717608600-1717615800@taylor.lib.mi.us
SUMMARY:Wind Down Wednesdays
DESCRIPTION:Wind Down Wednesdays\nWind down your Wednesday nights at the library! Enjoy a quiet designated space for you to read\, journal\, crochet\, knit\, scrapbook\, diamond dot etc.\, every Wednesday this summer. \nThis is a bring your own quiet activity drop-in event. Some donated supplies will be available\, but not guaranteed.
URL:https://taylor.lib.mi.us/event/wind-down-wednesdays/
LOCATION:Community Rooms (Papp & Trolley)\, 12303 Pardee Road\, Taylor\, MI\, 48180\, United States
CATEGORIES:Adults
ORGANIZER;CN="Becky Price":MAILTO:bprice@cityoftaylormi.gov
END:VEVENT
END:VCALENDAR