BEGIN:VCALENDAR
VERSION:2.0
PRODID:-//Taylor Community Library - ECPv6.15.20//NONSGML v1.0//EN
CALSCALE:GREGORIAN
METHOD:PUBLISH
X-ORIGINAL-URL:https://taylor.lib.mi.us
X-WR-CALDESC:Events for Taylor Community Library
REFRESH-INTERVAL;VALUE=DURATION:PT1H
X-Robots-Tag:noindex
X-PUBLISHED-TTL:PT1H
BEGIN:VTIMEZONE
TZID:America/Detroit
BEGIN:DAYLIGHT
TZOFFSETFROM:-0500
TZOFFSETTO:-0400
TZNAME:EDT
DTSTART:20230312T070000
END:DAYLIGHT
BEGIN:STANDARD
TZOFFSETFROM:-0400
TZOFFSETTO:-0500
TZNAME:EST
DTSTART:20231105T060000
END:STANDARD
BEGIN:DAYLIGHT
TZOFFSETFROM:-0500
TZOFFSETTO:-0400
TZNAME:EDT
DTSTART:20240310T070000
END:DAYLIGHT
BEGIN:STANDARD
TZOFFSETFROM:-0400
TZOFFSETTO:-0500
TZNAME:EST
DTSTART:20241103T060000
END:STANDARD
BEGIN:DAYLIGHT
TZOFFSETFROM:-0500
TZOFFSETTO:-0400
TZNAME:EDT
DTSTART:20250309T070000
END:DAYLIGHT
BEGIN:STANDARD
TZOFFSETFROM:-0400
TZOFFSETTO:-0500
TZNAME:EST
DTSTART:20251102T060000
END:STANDARD
END:VTIMEZONE
BEGIN:VEVENT
DTSTART;TZID=America/Detroit:20240715T110000
DTEND;TZID=America/Detroit:20240715T130000
DTSTAMP:20260425T211642
CREATED:20240606T223733Z
LAST-MODIFIED:20240606T223733Z
UID:12830-1721041200-1721048400@taylor.lib.mi.us
SUMMARY:Hooks & Needles
DESCRIPTION:Hooks & Needles\nCome and join other yarn enthusiasts in our community who love to knit and crochet.  This is a weekly event to share ideas\, projects\, and do a little yarning.  Bring your own projects to work on. \nMasks are required while attending indoor programming. If you need to request accommodation\, please contact our director at least a week in advance.
URL:https://taylor.lib.mi.us/event/2024-07-15/
LOCATION:Trolley (North) Unity Room\, 12303 Pardee Road\, Taylor\, MI\, 48180\, United States
CATEGORIES:Adults
ORGANIZER;CN="Stephanie Herm":MAILTO:sherm@cityoftaylormi.gov
END:VEVENT
BEGIN:VEVENT
DTSTART;TZID=America/Detroit:20240715T180000
DTEND;TZID=America/Detroit:20240715T190000
DTSTAMP:20260425T211642
CREATED:20221205T212808Z
LAST-MODIFIED:20240606T223736Z
UID:12584-1721066400-1721070000@taylor.lib.mi.us
SUMMARY:LEGO Club
DESCRIPTION:LEGO Club\nDo you love Legos? Join our Lego Club! Every Monday at 6 p.m. come in and start building.  Everyone is welcome to free build.  If you are up for it\, we will provide a challenge or theme for you to make something related to that week’s challenge or theme. We will display your creation for one week and will tear them apart at the next event. This event is open to kids\, tweens\, teens\, and parents. No registration is required\, just stop in and build!
URL:https://taylor.lib.mi.us/event/lego-club-2-2023-03-06-2023-07-03-2023-10-02-2024-07-15/
LOCATION:Taylor Community Library\, 12303 Pardee Road\, Taylor\, MI\, 48180\, United States
CATEGORIES:Teens,Youth & Families
END:VEVENT
BEGIN:VEVENT
DTSTART;TZID=America/Detroit:20240715T180000
DTEND;TZID=America/Detroit:20240715T193000
DTSTAMP:20260425T211642
CREATED:20240607T210759Z
LAST-MODIFIED:20240607T210759Z
UID:14406-1721066400-1721071800@taylor.lib.mi.us
SUMMARY:Cold Case Michigan
DESCRIPTION:Cold Case Michigan\nA family bludgeoned to death in Dowagiac. A trunk full of skulls found in an attic in Ferndale. A Detroit cult leader found with his head next to his chair. A typist left to die in a warehouse. A middle school kid who never came home. These are the cases that haunt Michigan residents. Plunge into the world of unsolved homicide. Examine the evidence\, ponder the forensics\, and consider the suspects in some of the most vexing murder mysteries in Michigan history with author Tobin T. Buhk.
URL:https://taylor.lib.mi.us/event/cold-case-michigan/
LOCATION:Community Rooms (Papp & Trolley)\, 12303 Pardee Road\, Taylor\, MI\, 48180\, United States
CATEGORIES:Adults
ORGANIZER;CN="Becky Price":MAILTO:bprice@cityoftaylormi.gov
END:VEVENT
END:VCALENDAR