BEGIN:VCALENDAR
VERSION:2.0
PRODID:-//Taylor Community Library - ECPv6.15.20//NONSGML v1.0//EN
CALSCALE:GREGORIAN
METHOD:PUBLISH
X-ORIGINAL-URL:https://taylor.lib.mi.us
X-WR-CALDESC:Events for Taylor Community Library
REFRESH-INTERVAL;VALUE=DURATION:PT1H
X-Robots-Tag:noindex
X-PUBLISHED-TTL:PT1H
BEGIN:VTIMEZONE
TZID:America/Detroit
BEGIN:DAYLIGHT
TZOFFSETFROM:-0500
TZOFFSETTO:-0400
TZNAME:EDT
DTSTART:20230312T070000
END:DAYLIGHT
BEGIN:STANDARD
TZOFFSETFROM:-0400
TZOFFSETTO:-0500
TZNAME:EST
DTSTART:20231105T060000
END:STANDARD
BEGIN:DAYLIGHT
TZOFFSETFROM:-0500
TZOFFSETTO:-0400
TZNAME:EDT
DTSTART:20240310T070000
END:DAYLIGHT
BEGIN:STANDARD
TZOFFSETFROM:-0400
TZOFFSETTO:-0500
TZNAME:EST
DTSTART:20241103T060000
END:STANDARD
BEGIN:DAYLIGHT
TZOFFSETFROM:-0500
TZOFFSETTO:-0400
TZNAME:EDT
DTSTART:20250309T070000
END:DAYLIGHT
BEGIN:STANDARD
TZOFFSETFROM:-0400
TZOFFSETTO:-0500
TZNAME:EST
DTSTART:20251102T060000
END:STANDARD
END:VTIMEZONE
BEGIN:VEVENT
DTSTART;TZID=America/Detroit:20240906T100000
DTEND;TZID=America/Detroit:20240906T170000
DTSTAMP:20260424T192455
CREATED:20240620T233702Z
LAST-MODIFIED:20240620T233702Z
UID:14554-1725616800-1725642000@taylor.lib.mi.us
SUMMARY:Summer Reading Store Hours
DESCRIPTION:Summer Reading Store Hours\nStop in to spend the Taylor Library Bucks you earned through the Summer Reading Challenge at our store. Our store is only open on certain weekends: \n\nFriday\, July 12th & Saturday\, July 13th\nFriday\, July 26th & Saturday\, July 27th\nFriday\, August 9th & Saturday\, August 10th\nFriday\, August 23rd & Saturday\, August 24th\nFriday\, September 6th & Saturday\, September 7th\n\nFor more information\, visit our Summer Reading Challenge page.
URL:https://taylor.lib.mi.us/event/2024-09-06/
LOCATION:Community Rooms (Papp & Trolley)\, 12303 Pardee Road\, Taylor\, MI\, 48180\, United States
END:VEVENT
END:VCALENDAR