BEGIN:VCALENDAR
VERSION:2.0
PRODID:-//Taylor Community Library - ECPv6.15.20//NONSGML v1.0//EN
CALSCALE:GREGORIAN
METHOD:PUBLISH
X-ORIGINAL-URL:https://taylor.lib.mi.us
X-WR-CALDESC:Events for Taylor Community Library
REFRESH-INTERVAL;VALUE=DURATION:PT1H
X-Robots-Tag:noindex
X-PUBLISHED-TTL:PT1H
BEGIN:VTIMEZONE
TZID:America/Detroit
BEGIN:DAYLIGHT
TZOFFSETFROM:-0500
TZOFFSETTO:-0400
TZNAME:EDT
DTSTART:20230312T070000
END:DAYLIGHT
BEGIN:STANDARD
TZOFFSETFROM:-0400
TZOFFSETTO:-0500
TZNAME:EST
DTSTART:20231105T060000
END:STANDARD
BEGIN:DAYLIGHT
TZOFFSETFROM:-0500
TZOFFSETTO:-0400
TZNAME:EDT
DTSTART:20240310T070000
END:DAYLIGHT
BEGIN:STANDARD
TZOFFSETFROM:-0400
TZOFFSETTO:-0500
TZNAME:EST
DTSTART:20241103T060000
END:STANDARD
BEGIN:DAYLIGHT
TZOFFSETFROM:-0500
TZOFFSETTO:-0400
TZNAME:EDT
DTSTART:20250309T070000
END:DAYLIGHT
BEGIN:STANDARD
TZOFFSETFROM:-0400
TZOFFSETTO:-0500
TZNAME:EST
DTSTART:20251102T060000
END:STANDARD
END:VTIMEZONE
BEGIN:VEVENT
DTSTART;TZID=America/Detroit:20240925T120000
DTEND;TZID=America/Detroit:20240925T130000
DTSTAMP:20260422T232956
CREATED:20240603T193736Z
LAST-MODIFIED:20240603T193736Z
UID:13705-1727265600-1727269200@taylor.lib.mi.us
SUMMARY:VIP Support Group
DESCRIPTION:VIP Support Group (Visually Impaired Persons)\nThe VIP meeting is a monthly support group for people experiencing vision loss and their caregivers. Each month\, we meet to discuss important topics and connect over shared concerns\, with occasional speakers. \nMeet in person or join in remotely. \nTo join remotely by phone\, please call 267-807-9601 and use Access Code: 965803\, or join virtually by visiting bit.ly/TCLbtbcall
URL:https://taylor.lib.mi.us/event/2024-09-25/
LOCATION:Trolley (North) Unity Room\, 12303 Pardee Road\, Taylor\, MI\, 48180\, United States
CATEGORIES:Adults
END:VEVENT
BEGIN:VEVENT
DTSTART;TZID=America/Detroit:20240925T160000
DTEND;TZID=America/Detroit:20240925T180000
DTSTAMP:20260422T232957
CREATED:20221208T231101Z
LAST-MODIFIED:20240607T184510Z
UID:14172-1727280000-1727287200@taylor.lib.mi.us
SUMMARY:Teen Volunteer Group
DESCRIPTION:Teen Volunteer Group\nAre you a teen who’s looking for volunteer hours? Join our Teen Volunteer Group! \nTeen volunteers help plan\, implement\, and promote ways to improve services offered at TCL. Joining our group builds your resume\, earns you volunteer hours\, and gives you a chance to be heard. Tasks will include helping the library with collection maintenance\, programming prep\, maintaining the TCL Tiny Taylor Library\, and more! \nWe meet every other Wednesday at 4 p.m. in person at the library. \nWant to earn volunteer hours for this? Visit our Volunteer page to see if space is available and to sign up! 
URL:https://taylor.lib.mi.us/event/teen-volunteer-group-2023-09-13-2023-09-27-2023-10-11-2024-07-03-2024-09-25/
LOCATION:Community Rooms (Papp & Trolley)\, 12303 Pardee Road\, Taylor\, MI\, 48180\, United States
CATEGORIES:Teens
ORGANIZER;CN="Jasmine Riehl":MAILTO:jriehl@cityoftaylormi.gov
END:VEVENT
BEGIN:VEVENT
DTSTART;TZID=America/Detroit:20240925T163000
DTEND;TZID=America/Detroit:20240925T180000
DTSTAMP:20260422T232957
CREATED:20240614T191405Z
LAST-MODIFIED:20240614T192049Z
UID:14444-1727281800-1727287200@taylor.lib.mi.us
SUMMARY:Teen Cozy Fall Craft Night
DESCRIPTION:Teen Cozy Fall Craft Night\nMiss the feeling of excitement and joy as a tot when you’d have school Halloween parties? Join us for a cozy party with spooky crafts and snacks. We’ll screen a classic Halloween movie in the background\, listen to a Halloween playlist\, and put a teen twist on some favorite childhood crafts. \nThis event is for teens ages 13-17.
URL:https://taylor.lib.mi.us/event/teen-cozy-fall-craft-night/
LOCATION:Trolley (North) Unity Room\, 12303 Pardee Road\, Taylor\, MI\, 48180\, United States
CATEGORIES:Teens
ORGANIZER;CN="Jasmine Riehl":MAILTO:jriehl@cityoftaylormi.gov
END:VEVENT
END:VCALENDAR