BEGIN:VCALENDAR
VERSION:2.0
PRODID:-//Taylor Community Library - ECPv6.15.20//NONSGML v1.0//EN
CALSCALE:GREGORIAN
METHOD:PUBLISH
X-ORIGINAL-URL:https://taylor.lib.mi.us
X-WR-CALDESC:Events for Taylor Community Library
REFRESH-INTERVAL;VALUE=DURATION:PT1H
X-Robots-Tag:noindex
X-PUBLISHED-TTL:PT1H
BEGIN:VTIMEZONE
TZID:America/Detroit
BEGIN:DAYLIGHT
TZOFFSETFROM:-0500
TZOFFSETTO:-0400
TZNAME:EDT
DTSTART:20230312T070000
END:DAYLIGHT
BEGIN:STANDARD
TZOFFSETFROM:-0400
TZOFFSETTO:-0500
TZNAME:EST
DTSTART:20231105T060000
END:STANDARD
BEGIN:DAYLIGHT
TZOFFSETFROM:-0500
TZOFFSETTO:-0400
TZNAME:EDT
DTSTART:20240310T070000
END:DAYLIGHT
BEGIN:STANDARD
TZOFFSETFROM:-0400
TZOFFSETTO:-0500
TZNAME:EST
DTSTART:20241103T060000
END:STANDARD
BEGIN:DAYLIGHT
TZOFFSETFROM:-0500
TZOFFSETTO:-0400
TZNAME:EDT
DTSTART:20250309T070000
END:DAYLIGHT
BEGIN:STANDARD
TZOFFSETFROM:-0400
TZOFFSETTO:-0500
TZNAME:EST
DTSTART:20251102T060000
END:STANDARD
END:VTIMEZONE
BEGIN:VEVENT
DTSTART;TZID=America/Detroit:20240928T140000
DTEND;TZID=America/Detroit:20240928T150000
DTSTAMP:20260422T003001
CREATED:20240715T154654Z
LAST-MODIFIED:20240910T225610Z
UID:14752-1727532000-1727535600@taylor.lib.mi.us
SUMMARY:CANCELLED - Using Social Media for Genealogy
DESCRIPTION:CANCELLED – Using Social Media for Genealogy\nJoin professional genealogical researcher\, speaker\, educator & author\, Katherine R. Wilson\, for a one-hour presentation to discuss the genealogical benefits of a variety of social media platforms\, finding the social media content that’s genealogically relevant\, and platform settings for privacy and notifications. A handout will be provided and a Q&A period will follow the presentation.
URL:https://taylor.lib.mi.us/event/using-social-media-for-genealogy/
LOCATION:Trolley (North) Unity Room\, 12303 Pardee Road\, Taylor\, MI\, 48180\, United States
CATEGORIES:Adults
ORGANIZER;CN="Stephanie Herm":MAILTO:sherm@cityoftaylormi.gov
END:VEVENT
END:VCALENDAR