BEGIN:VCALENDAR
VERSION:2.0
PRODID:-//Taylor Community Library - ECPv6.15.20//NONSGML v1.0//EN
CALSCALE:GREGORIAN
METHOD:PUBLISH
X-ORIGINAL-URL:https://taylor.lib.mi.us
X-WR-CALDESC:Events for Taylor Community Library
REFRESH-INTERVAL;VALUE=DURATION:PT1H
X-Robots-Tag:noindex
X-PUBLISHED-TTL:PT1H
BEGIN:VTIMEZONE
TZID:America/Detroit
BEGIN:DAYLIGHT
TZOFFSETFROM:-0500
TZOFFSETTO:-0400
TZNAME:EDT
DTSTART:20230312T070000
END:DAYLIGHT
BEGIN:STANDARD
TZOFFSETFROM:-0400
TZOFFSETTO:-0500
TZNAME:EST
DTSTART:20231105T060000
END:STANDARD
BEGIN:DAYLIGHT
TZOFFSETFROM:-0500
TZOFFSETTO:-0400
TZNAME:EDT
DTSTART:20240310T070000
END:DAYLIGHT
BEGIN:STANDARD
TZOFFSETFROM:-0400
TZOFFSETTO:-0500
TZNAME:EST
DTSTART:20241103T060000
END:STANDARD
BEGIN:DAYLIGHT
TZOFFSETFROM:-0500
TZOFFSETTO:-0400
TZNAME:EDT
DTSTART:20250309T070000
END:DAYLIGHT
BEGIN:STANDARD
TZOFFSETFROM:-0400
TZOFFSETTO:-0500
TZNAME:EST
DTSTART:20251102T060000
END:STANDARD
END:VTIMEZONE
BEGIN:VEVENT
DTSTART;TZID=America/Detroit:20241010T143000
DTEND;TZID=America/Detroit:20241010T163000
DTSTAMP:20260421T145420
CREATED:20240907T202528Z
LAST-MODIFIED:20240907T202528Z
UID:13507-1728570600-1728577800@taylor.lib.mi.us
SUMMARY:Writing Sessions
DESCRIPTION:Writing Sessions\nCalling all writers! We will have one of the front Community Rooms available for those looking for motivation to start writing to come in and write every Thursday\, from 2:30-4:30pm. It’ll be a quiet place with little to no interruptions\, and enough space to spread out your notes and plotline maps. Are you up for the challenge?
URL:https://taylor.lib.mi.us/event/2024-10-10/
LOCATION:Community Rooms (Papp & Trolley)\, 12303 Pardee Road\, Taylor\, MI\, 48180\, United States
CATEGORIES:Adults
END:VEVENT
BEGIN:VEVENT
DTSTART;TZID=America/Detroit:20241010T180000
DTEND;TZID=America/Detroit:20241010T193000
DTSTAMP:20260421T145420
CREATED:20240514T183317Z
LAST-MODIFIED:20240917T181230Z
UID:13111-1728583200-1728588600@taylor.lib.mi.us
SUMMARY:Tween Book Club
DESCRIPTION:Tween Book Club\nTween Book Club is a monthly book club suggested for ages 10-14 where we will read age-appropriate titles from all genres\, have a snack\, and do a book-related activity! \nCopies of our monthly book will be placed on hold and can be picked up from our front desk before our meeting. Most of the time they are also available on Hoopla or Libby \nWe will take time to share thoughts on the book and chat about our general reading interests! \nThis month’s book is Ghost Book by Remy Lai \n \n“July Chen sees ghosts. But her dad insists ghosts aren’t real. So she pretends they don’t exist. Which is incredibly difficult now as it’s Hungry Ghost month\, when the Gates of the Underworld open and dangerous ghosts run amok in the living world. When July saves a boy ghost from being devoured by a Hungry Ghost\, he becomes her first ever friend. Except William is not a ghost. He’s a wandering soul wavering between life and death. As the new friends embark on an adventure to return William to his body\, they unearth a ghastly truth―for William to live\, July must die. \nInspired by Chinese mythology\, this dark yet resoundingly hopeful tale about friendship\, sacrifice\, and the unseen world of ghosts is a dazzling heir to beloved Studio Ghibli classics.”
URL:https://taylor.lib.mi.us/event/2024-02-08-2024-10-10/
LOCATION:Community Rooms (Papp & Trolley)\, 12303 Pardee Road\, Taylor\, MI\, 48180\, United States
CATEGORIES:Teens,Youth & Families
ORGANIZER;CN="Jasmine Riehl":MAILTO:jriehl@cityoftaylormi.gov
END:VEVENT
END:VCALENDAR