BEGIN:VCALENDAR
VERSION:2.0
PRODID:-//Taylor Community Library - ECPv6.15.20//NONSGML v1.0//EN
CALSCALE:GREGORIAN
METHOD:PUBLISH
X-ORIGINAL-URL:https://taylor.lib.mi.us
X-WR-CALDESC:Events for Taylor Community Library
REFRESH-INTERVAL;VALUE=DURATION:PT1H
X-Robots-Tag:noindex
X-PUBLISHED-TTL:PT1H
BEGIN:VTIMEZONE
TZID:America/Detroit
BEGIN:DAYLIGHT
TZOFFSETFROM:-0500
TZOFFSETTO:-0400
TZNAME:EDT
DTSTART:20230312T070000
END:DAYLIGHT
BEGIN:STANDARD
TZOFFSETFROM:-0400
TZOFFSETTO:-0500
TZNAME:EST
DTSTART:20231105T060000
END:STANDARD
BEGIN:DAYLIGHT
TZOFFSETFROM:-0500
TZOFFSETTO:-0400
TZNAME:EDT
DTSTART:20240310T070000
END:DAYLIGHT
BEGIN:STANDARD
TZOFFSETFROM:-0400
TZOFFSETTO:-0500
TZNAME:EST
DTSTART:20241103T060000
END:STANDARD
BEGIN:DAYLIGHT
TZOFFSETFROM:-0500
TZOFFSETTO:-0400
TZNAME:EDT
DTSTART:20250309T070000
END:DAYLIGHT
BEGIN:STANDARD
TZOFFSETFROM:-0400
TZOFFSETTO:-0500
TZNAME:EST
DTSTART:20251102T060000
END:STANDARD
END:VTIMEZONE
BEGIN:VEVENT
DTSTART;TZID=America/Detroit:20241113T120000
DTEND;TZID=America/Detroit:20241113T133000
DTSTAMP:20260424T042350
CREATED:20240831T161739Z
LAST-MODIFIED:20240831T162101Z
UID:14941-1731499200-1731504600@taylor.lib.mi.us
SUMMARY:Brown Bag Talking Book Discussion
DESCRIPTION:Brown Bag Talking Book Discussion\nThe group discusses two audiobooks each month. Listen to all\, one\, or even none… everyone is welcome! \nMeet in person or join in remotely. \nTo join remotely by phone\, please Call: 267-807-9601 and use Access Code: 965803\, or join virtually by visiting bit.ly/TCLbtbcall \n  \nTitles are voted on 3 months in advance. This month’s titles: \n  \nTwas the Bite Before Christmas by David Rosenfelt\nDB 116950\n6 hours\, 37 minutes.\nSuspense Fiction\, Mystery and Detective Stories\, Animals and Wildlife.\nReluctant lawyer Andy Carpenter is at the Tara Foundation’s annual Christmas party. The dog rescue organization has always been his true calling\, and this is one holiday tradition he can get behind because every dog that’s come through the rescue—and their families—are invited to celebrate. This year’s party is no exception. But before the stockings can be hung by the chimney with care\, homicide detectives ruin the evening. Derek Moore\, one of the foundation’s best foster volunteers\, is arrested for murder. Andy discovers Derek—whose real name is Bobby—is in the witness protection program after giving evidence against his former gang. The police believe Bobby murdered a member. But Bobby swears to Andy he didn’t do this. He’s built a new life\, a new business\, has two new dogs after being a double foster-failure. There isn’t much Andy likes about this case\, but he likes Bobby. If he’s innocent\, Andy wants to help. Before Andy can settle down for his long winter’s nap\, he has a client’s name to clear\, a murderer to catch\, and two new dogs to look after: a golden and a Dalmatian. Andy’s golden retriever\, Tara\, will have to adjust to not being the only golden at the house while Andy gets to the bottom of this one… \nThe Guest by Emma Cline\nDB 114407\n8 hours\, 39 minutes. Psychological Fiction.\nSummer is coming to a close on the East End of Long Island\, and Alex is no longer welcome. A misstep at a dinner party\, and the older man she’s been staying with dismisses her with a ride to the train station and a ticket back to the city. With few resources and a waterlogged phone\, but gifted with an ability to navigate the desires of others\, Alex stays on Long Island and drifts like a ghost through the hedged lanes\, gated driveways\, and sun-blasted dunes of a rarefied world that is\, at first\, closed to her. Propelled by desperation and a mutable sense of morality\, she spends the week leading up to Labor Day moving from one place to the next\, a cipher leaving destruction in her wake. \n  \n  \n  \nNew attendees: Please call the library or click on the covers above to place copies on hold. Or current BTB members can use the Talking Book Order Form to have copies sent on cartridge.
URL:https://taylor.lib.mi.us/event/brown-bag-talking-book-discussion-32/
LOCATION:Papp (South) Community Room\, 12303 Pardee Road\, Taylor\, MI\, 48180\, United States
CATEGORIES:Adults
END:VEVENT
BEGIN:VEVENT
DTSTART;TZID=America/Detroit:20241113T130000
DTEND;TZID=America/Detroit:20241113T133000
DTSTAMP:20260424T042350
CREATED:20240910T224143Z
LAST-MODIFIED:20240910T224143Z
UID:13924-1731502800-1731504600@taylor.lib.mi.us
SUMMARY:Library Access Friends Meeting
DESCRIPTION:Library Access Friends Meeting\nLAF supports public libraries to serve people with print impairments. Open to all\, join in on LAF’s biannual member meeting\, immediately following the Brown Bag Talking Book Discussion. \nMeet in person or join in remotely. \nTo join remotely by phone\, please Call: 267-807-9601 and use Access Code: 965803\, or join virtually by visiting bit.ly/TCLbtbcall
URL:https://taylor.lib.mi.us/event/library-access-friends-meeting-7/
LOCATION:Trolley (North) Unity Room\, 12303 Pardee Road\, Taylor\, MI\, 48180\, United States
CATEGORIES:Adults,Library Access Friends (Talking Books)
END:VEVENT
BEGIN:VEVENT
DTSTART;TZID=America/Detroit:20241113T173000
DTEND;TZID=America/Detroit:20241113T193000
DTSTAMP:20260424T042350
CREATED:20240910T224711Z
LAST-MODIFIED:20240910T224711Z
UID:14509-1731519000-1731526200@taylor.lib.mi.us
SUMMARY:Silent Book Club
DESCRIPTION:Silent Book Club\nEver wanted to join a book club\, but felt like it was too much pressure? Join this super low-key book club where you show up with a book of your choice and read! At each meeting the first and last 15 minutes will be designated for sharing what you’re reading/socializing with other members and then the hour and half in-between will be designated for reading. We will have an ambience room playing at low volume in the background and different options for seating. Feel free to bring a snack\, beverage\, or blanket to make this event extra cozy. This book club meets every Wednesday.
URL:https://taylor.lib.mi.us/event/2024-12-04/
LOCATION:Community Rooms (Papp & Trolley)\, 12303 Pardee Road\, Taylor\, MI\, 48180\, United States
CATEGORIES:Adults
ORGANIZER;CN="Becky Price":MAILTO:bprice@cityoftaylormi.gov
END:VEVENT
BEGIN:VEVENT
DTSTART;TZID=America/Detroit:20241113T180000
DTEND;TZID=America/Detroit:20241113T190000
DTSTAMP:20260424T042350
CREATED:20241007T201120Z
LAST-MODIFIED:20241007T201120Z
UID:15338-1731520800-1731524400@taylor.lib.mi.us
SUMMARY:Finding Records of Your Detroit and Wayne County Ancestor
DESCRIPTION:Finding Records of Your Detroit and Wayne County Ancestor\nMany researchers have ancestral ties to Detroit and Wayne County\, Michigan\, leading to a trail of records left behind by their predecessors! Join Genealogist\, Thomas Koselka\, as we delve into these extensive records\, their origins\, the information they contain\, their custodians\, the purpose behind their creation\, their historical span\, and how they can significantly enhance our genealogical research. Additionally\, we’ll explore the accessibility of these records online and methodologies for procuring images or copies of materials housed within repositories.
URL:https://taylor.lib.mi.us/event/finding-records-of-your-detroit-and-wayne-county-ancestor/
LOCATION:Trolley (North) Unity Room\, 12303 Pardee Road\, Taylor\, MI\, 48180\, United States
CATEGORIES:Adults
ORGANIZER;CN="Stephanie Herm":MAILTO:sherm@cityoftaylormi.gov
END:VEVENT
END:VCALENDAR