BEGIN:VCALENDAR
VERSION:2.0
PRODID:-//Taylor Community Library - ECPv6.15.20//NONSGML v1.0//EN
CALSCALE:GREGORIAN
METHOD:PUBLISH
X-ORIGINAL-URL:https://taylor.lib.mi.us
X-WR-CALDESC:Events for Taylor Community Library
REFRESH-INTERVAL;VALUE=DURATION:PT1H
X-Robots-Tag:noindex
X-PUBLISHED-TTL:PT1H
BEGIN:VTIMEZONE
TZID:America/Detroit
BEGIN:DAYLIGHT
TZOFFSETFROM:-0500
TZOFFSETTO:-0400
TZNAME:EDT
DTSTART:20230312T070000
END:DAYLIGHT
BEGIN:STANDARD
TZOFFSETFROM:-0400
TZOFFSETTO:-0500
TZNAME:EST
DTSTART:20231105T060000
END:STANDARD
BEGIN:DAYLIGHT
TZOFFSETFROM:-0500
TZOFFSETTO:-0400
TZNAME:EDT
DTSTART:20240310T070000
END:DAYLIGHT
BEGIN:STANDARD
TZOFFSETFROM:-0400
TZOFFSETTO:-0500
TZNAME:EST
DTSTART:20241103T060000
END:STANDARD
BEGIN:DAYLIGHT
TZOFFSETFROM:-0500
TZOFFSETTO:-0400
TZNAME:EDT
DTSTART:20250309T070000
END:DAYLIGHT
BEGIN:STANDARD
TZOFFSETFROM:-0400
TZOFFSETTO:-0500
TZNAME:EST
DTSTART:20251102T060000
END:STANDARD
END:VTIMEZONE
BEGIN:VEVENT
DTSTART;TZID=America/Detroit:20241114T143000
DTEND;TZID=America/Detroit:20241114T163000
DTSTAMP:20260422T165533
CREATED:20240910T223934Z
LAST-MODIFIED:20240910T223934Z
UID:13512-1731594600-1731601800@taylor.lib.mi.us
SUMMARY:Writing Sessions
DESCRIPTION:Writing Sessions\nCalling all writers! We will have one of the front Community Rooms available for those looking for motivation to start writing to come in and write every Thursday\, from 2:30-4:30pm. It’ll be a quiet place with little to no interruptions\, and enough space to spread out your notes and plotline maps. Are you up for the challenge?
URL:https://taylor.lib.mi.us/event/2024-11-14/
LOCATION:Community Rooms (Papp & Trolley)\, 12303 Pardee Road\, Taylor\, MI\, 48180\, United States
CATEGORIES:Adults
END:VEVENT
BEGIN:VEVENT
DTSTART;TZID=America/Detroit:20241114T180000
DTEND;TZID=America/Detroit:20241114T183000
DTSTAMP:20260422T165533
CREATED:20240910T224015Z
LAST-MODIFIED:20240910T224015Z
UID:14839-1731607200-1731609000@taylor.lib.mi.us
SUMMARY:Stuffy Sleepover Storytime
DESCRIPTION:Stuffy Sleepover Storytime\nWear your pjs and bring your favorite bedtime pal for this sleepy storytime! This storytime is special because we are asking you to leave your stuffy for a sleepover at the library! Us librarians will take extra special care of your stuffy and document their night so when you pick them up the next day\, you’ll also take home a photo album full of pictures of all the adventures they had at the library. This event for ages 2-8. \n*Parents\, if your child isn’t ready to leave their stuffy with us feel free to still join us for our sleepy storytime.* \n 
URL:https://taylor.lib.mi.us/event/stuffy-sleepover-storytime/
LOCATION:Community Rooms (Papp & Trolley)\, 12303 Pardee Road\, Taylor\, MI\, 48180\, United States
CATEGORIES:Youth & Families
ORGANIZER;CN="Jasmine Riehl":MAILTO:jriehl@cityoftaylormi.gov
END:VEVENT
BEGIN:VEVENT
DTSTART;TZID=America/Detroit:20241114T180000
DTEND;TZID=America/Detroit:20241114T193000
DTSTAMP:20260422T165533
CREATED:20240514T183317Z
LAST-MODIFIED:20240917T181302Z
UID:13112-1731607200-1731612600@taylor.lib.mi.us
SUMMARY:Tween Book Club
DESCRIPTION:Tween Book Club\nTween Book Club is a monthly book club suggested for ages 10-14 where we will read age-appropriate titles from all genres\, have a snack\, and do a book-related activity! \nCopies of our monthly book will be placed on hold and can be picked up from our front desk before our meeting. Most of the time they are also available on Hoopla or Libby \nWe will take time to share thoughts on the book and chat about our general reading interests! \nThis month’s book is We Still Belong by Christine Day \n \n“A thoughtful and heartfelt middle grade novel by American Indian Youth Literature Honor–winning author Christine Day (Upper Skagit)\, about a girl whose hopeful plans for Indigenous Peoples’ Day (and plans to ask her crush to the school dance) go all wrong—until she finds herself surrounded by the love of her Indigenous family and community at an intertribal powwow. \nWesley is proud of the poem she wrote for Indigenous Peoples’ Day—but the reaction from a teacher makes her wonder if expressing herself is important enough. And due to the specific tribal laws of her family’s Nation\, Wesley is unable to enroll in the Upper Skagit tribe and is left feeling “not Native enough.” Through the course of the novel\, with the help of her family and friends\, she comes to embrace her own place within the Native community.”
URL:https://taylor.lib.mi.us/event/2024-02-08-2024-11-14/
LOCATION:Community Rooms (Papp & Trolley)\, 12303 Pardee Road\, Taylor\, MI\, 48180\, United States
CATEGORIES:Teens,Youth & Families
ORGANIZER;CN="Jasmine Riehl":MAILTO:jriehl@cityoftaylormi.gov
END:VEVENT
END:VCALENDAR