BEGIN:VCALENDAR
VERSION:2.0
PRODID:-//Taylor Community Library - ECPv6.15.20//NONSGML v1.0//EN
CALSCALE:GREGORIAN
METHOD:PUBLISH
X-ORIGINAL-URL:https://taylor.lib.mi.us
X-WR-CALDESC:Events for Taylor Community Library
REFRESH-INTERVAL;VALUE=DURATION:PT1H
X-Robots-Tag:noindex
X-PUBLISHED-TTL:PT1H
BEGIN:VTIMEZONE
TZID:America/Detroit
BEGIN:DAYLIGHT
TZOFFSETFROM:-0500
TZOFFSETTO:-0400
TZNAME:EDT
DTSTART:20230312T070000
END:DAYLIGHT
BEGIN:STANDARD
TZOFFSETFROM:-0400
TZOFFSETTO:-0500
TZNAME:EST
DTSTART:20231105T060000
END:STANDARD
BEGIN:DAYLIGHT
TZOFFSETFROM:-0500
TZOFFSETTO:-0400
TZNAME:EDT
DTSTART:20240310T070000
END:DAYLIGHT
BEGIN:STANDARD
TZOFFSETFROM:-0400
TZOFFSETTO:-0500
TZNAME:EST
DTSTART:20241103T060000
END:STANDARD
BEGIN:DAYLIGHT
TZOFFSETFROM:-0500
TZOFFSETTO:-0400
TZNAME:EDT
DTSTART:20250309T070000
END:DAYLIGHT
BEGIN:STANDARD
TZOFFSETFROM:-0400
TZOFFSETTO:-0500
TZNAME:EST
DTSTART:20251102T060000
END:STANDARD
END:VTIMEZONE
BEGIN:VEVENT
DTSTART;TZID=America/Detroit:20241211T120000
DTEND;TZID=America/Detroit:20241211T133000
DTSTAMP:20260420T081720
CREATED:20240831T162625Z
LAST-MODIFIED:20240831T162625Z
UID:14946-1733918400-1733923800@taylor.lib.mi.us
SUMMARY:Brown Bag Talking Book Discussion
DESCRIPTION:Brown Bag Talking Book Discussion\nThe group discusses two audiobooks each month. Listen to all\, one\, or even none… everyone is welcome! \nMeet in person or join in remotely. \nTo join remotely by phone\, please Call: 267-807-9601 and use Access Code: 965803\, or join virtually by visiting bit.ly/TCLbtbcall \n  \nTitles are voted on 3 months in advance. This month’s titles: \n  \nThe Librarianist by Patrick deWitt\nDB 116100\n10 hours\, 6 minutes. General Fiction.\nBob Comet is a retired librarian passing his solitary days surrounded by books and small comforts in a mint-colored house in Portland\, Oregon. One morning on his daily walk he encounters a confused elderly woman lost in a market and returns her to the senior center that is her home. Hoping to fill the void he’s known since retiring\, he begins volunteering at the center. Here\, as a community of strange peers gathers around Bob\, and following a happenstance brush with a painful complication from his past\, the events of his life and the details of his character are revealed. Behind Bob Comet’s straight-man facade is the story of an unhappy child’s runaway adventure during the last days of the Second World War\, of true love won and stolen away\, of the purpose and pride found in the librarian’s vocation\, and of the pleasures of a life lived to the side of the masses. Bob’s experiences are imbued with melancholy but also a bright\, sustained comedy; he has a talent for locating bizarre and outsize players to welcome onto the stage of his life. \nWeyward by Emilia Hart\nDB 113239\n10 hours\, 55 minutes. Historical Fiction\nThree women. Five centuries. One secret. ‘I had nature in my heart\, she said. Like she did\, and her mother before her. There was something about us – the Weyward women – that bonded us more tightly with the natural world. We can feel it\, she said\, the same way we feel rage\, sorrow or joy.’ In 2019\, Kate flees an abusive relationship in London for Crows Beck\, a remote Cumbrian village. Her destination is Weyward Cottage\, inherited from her great Aunt Violet\, an eccentric entomologist. As Kate struggles with the trauma of her past\, she uncovers a secret about the women in her family. A secret dating back to 1619\, when her ancestor Altha Weyward was put on trial for witchcraft…. Weyward is a stunning debut novel about gender and control – about the long echoes of male violence through the centuries. But more than that\, it is a celebration of nature\, female power and breaking free. \n  \n  \n  \nNew attendees: Please call the library or click on the covers above to place copies on hold. Or current BTB members can use the Talking Book Order Form to have copies sent on cartridge.
URL:https://taylor.lib.mi.us/event/brown-bag-talking-book-discussion-33/
LOCATION:Papp (South) Community Room\, 12303 Pardee Road\, Taylor\, MI\, 48180\, United States
CATEGORIES:Adults
END:VEVENT
BEGIN:VEVENT
DTSTART;TZID=America/Detroit:20241211T173000
DTEND;TZID=America/Detroit:20241211T193000
DTSTAMP:20260420T081720
CREATED:20240910T225140Z
LAST-MODIFIED:20240910T225140Z
UID:15089-1733938200-1733945400@taylor.lib.mi.us
SUMMARY:Silent Book Club
DESCRIPTION:Silent Book Club\nEver wanted to join a book club\, but felt like it was too much pressure? Join this super low-key book club where you show up with a book of your choice and read! At each meeting the first and last 15 minutes will be designated for sharing what you’re reading/socializing with other members and then the hour and half in-between will be designated for reading. We will have an ambience room playing at low volume in the background and different options for seating. Feel free to bring a snack\, beverage\, or blanket to make this event extra cozy. This book club meets every Wednesday.
URL:https://taylor.lib.mi.us/event/2024-12-04-2024-12-11/
LOCATION:Community Rooms (Papp & Trolley)\, 12303 Pardee Road\, Taylor\, MI\, 48180\, United States
CATEGORIES:Adults
ORGANIZER;CN="Becky Price":MAILTO:bprice@cityoftaylormi.gov
END:VEVENT
END:VCALENDAR