BEGIN:VCALENDAR
VERSION:2.0
PRODID:-//Taylor Community Library - ECPv6.15.20//NONSGML v1.0//EN
CALSCALE:GREGORIAN
METHOD:PUBLISH
X-ORIGINAL-URL:https://taylor.lib.mi.us
X-WR-CALDESC:Events for Taylor Community Library
REFRESH-INTERVAL;VALUE=DURATION:PT1H
X-Robots-Tag:noindex
X-PUBLISHED-TTL:PT1H
BEGIN:VTIMEZONE
TZID:America/Detroit
BEGIN:DAYLIGHT
TZOFFSETFROM:-0500
TZOFFSETTO:-0400
TZNAME:EDT
DTSTART:20230312T070000
END:DAYLIGHT
BEGIN:STANDARD
TZOFFSETFROM:-0400
TZOFFSETTO:-0500
TZNAME:EST
DTSTART:20231105T060000
END:STANDARD
BEGIN:DAYLIGHT
TZOFFSETFROM:-0500
TZOFFSETTO:-0400
TZNAME:EDT
DTSTART:20240310T070000
END:DAYLIGHT
BEGIN:STANDARD
TZOFFSETFROM:-0400
TZOFFSETTO:-0500
TZNAME:EST
DTSTART:20241103T060000
END:STANDARD
BEGIN:DAYLIGHT
TZOFFSETFROM:-0500
TZOFFSETTO:-0400
TZNAME:EDT
DTSTART:20250309T070000
END:DAYLIGHT
BEGIN:STANDARD
TZOFFSETFROM:-0400
TZOFFSETTO:-0500
TZNAME:EST
DTSTART:20251102T060000
END:STANDARD
END:VTIMEZONE
BEGIN:VEVENT
DTSTART;TZID=America/Detroit:20241212T143000
DTEND;TZID=America/Detroit:20241212T163000
DTSTAMP:20260420T222053
CREATED:20240910T225309Z
LAST-MODIFIED:20240910T225309Z
UID:13516-1734013800-1734021000@taylor.lib.mi.us
SUMMARY:Writing Sessions
DESCRIPTION:Writing Sessions\nCalling all writers! We will have one of the front Community Rooms available for those looking for motivation to start writing to come in and write every Thursday\, from 2:30-4:30pm. It’ll be a quiet place with little to no interruptions\, and enough space to spread out your notes and plotline maps. Are you up for the challenge?
URL:https://taylor.lib.mi.us/event/2024-12-12/
LOCATION:Community Rooms (Papp & Trolley)\, 12303 Pardee Road\, Taylor\, MI\, 48180\, United States
CATEGORIES:Adults
END:VEVENT
BEGIN:VEVENT
DTSTART;TZID=America/Detroit:20241212T170000
DTEND;TZID=America/Detroit:20241212T190000
DTSTAMP:20260420T222053
CREATED:20241204T183410Z
LAST-MODIFIED:20241204T183501Z
UID:15576-1734022800-1734030000@taylor.lib.mi.us
SUMMARY:Holiday Gift Wrapping Station
DESCRIPTION:Holiday Gift Wrapping Station\nWe are offering a calm spot to wrap presents away from prying eyes! Listen to holiday music and chill with us Thursday\, December 12th and 19th from 5pm-7pm. \nWe will have some wrapping supplies available\, but we encourage you to bring your own gift paper\, bows\, or gift boxes.
URL:https://taylor.lib.mi.us/event/holiday-gift-wrapping-station/
LOCATION:Trolley (North) Unity Room\, 12303 Pardee Road\, Taylor\, MI\, 48180\, United States
END:VEVENT
BEGIN:VEVENT
DTSTART;TZID=America/Detroit:20241212T180000
DTEND;TZID=America/Detroit:20241212T193000
DTSTAMP:20260420T222053
CREATED:20240917T181208Z
LAST-MODIFIED:20240917T181208Z
UID:14965-1734026400-1734031800@taylor.lib.mi.us
SUMMARY:Tween Book Club Holiday Party!
DESCRIPTION:Tween Book Club Holiday Party\nTween Book Club is a monthly book club suggested for ages 10-14 where we will read age-appropriate titles from all genres\, have a snack\, and do a book-related activity! This month is our holiday party\, so we will discuss what our favorite reads of the year were\, our new reading goals\, and what we want to see next year from book club. \nCopies of our monthly book will be placed on hold and can be picked up from our front desk before our meeting. Most of the time they are also available on Hoopla or Libby \nWe will take time to share thoughts on the book and chat about our general reading interests! \nThis months book is Atana and the Firebird by Vivian Zhou \n \nA mermaid\, a firebird\, and a witch become entangled with the mysterious and powerful Witch Queen\, who may hold the key to each of their past in this epic middle grade fantasy by debut author Vivian Zhou. Atana’s island may be quiet and peaceful\, but mostly\, it’s lonely. With the outside world full of magic hunters who would stop at nothing to capture a mermaid like her\, Atana has never been brave enough to swim far from her island’s shores and seek the answers to her mysterious past—until a firebird named Ren unexpectedly crashes into her life. Ren’s arrival does not go unnoticed\, as it has been hundreds of years since a firebird last landed on Earth. Determined to both protect Ren and finally chase the answers she’s longed for\, Atana embarks on an adventure that takes her and the firebird to strange new islands and entangles them with the powerful yet secretive Witch Queen. Generous though the Witch Queen’s offer of protection may be\, an invitation to the Blue Palace can’t come without a price. And while the Palace’s splendid halls and library might hold the key to Atana’s past\, will she be willing to pay the cost when it risks her chance of a bright new future?
URL:https://taylor.lib.mi.us/event/tween-book-club-holiday-party/
LOCATION:Community Rooms (Papp & Trolley)\, 12303 Pardee Road\, Taylor\, MI\, 48180\, United States
CATEGORIES:Teens,Youth & Families
ORGANIZER;CN="Jasmine Riehl":MAILTO:jriehl@cityoftaylormi.gov
END:VEVENT
END:VCALENDAR