BEGIN:VCALENDAR
VERSION:2.0
PRODID:-//Taylor Community Library - ECPv6.15.20//NONSGML v1.0//EN
CALSCALE:GREGORIAN
METHOD:PUBLISH
X-ORIGINAL-URL:https://taylor.lib.mi.us
X-WR-CALDESC:Events for Taylor Community Library
REFRESH-INTERVAL;VALUE=DURATION:PT1H
X-Robots-Tag:noindex
X-PUBLISHED-TTL:PT1H
BEGIN:VTIMEZONE
TZID:America/Detroit
BEGIN:DAYLIGHT
TZOFFSETFROM:-0500
TZOFFSETTO:-0400
TZNAME:EDT
DTSTART:20240310T070000
END:DAYLIGHT
BEGIN:STANDARD
TZOFFSETFROM:-0400
TZOFFSETTO:-0500
TZNAME:EST
DTSTART:20241103T060000
END:STANDARD
BEGIN:DAYLIGHT
TZOFFSETFROM:-0500
TZOFFSETTO:-0400
TZNAME:EDT
DTSTART:20250309T070000
END:DAYLIGHT
BEGIN:STANDARD
TZOFFSETFROM:-0400
TZOFFSETTO:-0500
TZNAME:EST
DTSTART:20251102T060000
END:STANDARD
BEGIN:DAYLIGHT
TZOFFSETFROM:-0500
TZOFFSETTO:-0400
TZNAME:EDT
DTSTART:20260308T070000
END:DAYLIGHT
BEGIN:STANDARD
TZOFFSETFROM:-0400
TZOFFSETTO:-0500
TZNAME:EST
DTSTART:20261101T060000
END:STANDARD
END:VTIMEZONE
BEGIN:VEVENT
DTSTART;TZID=America/Detroit:20250402T120000
DTEND;TZID=America/Detroit:20250402T140000
DTSTAMP:20260422T030823
CREATED:20241204T171747Z
LAST-MODIFIED:20241204T172058Z
UID:15534-1743595200-1743602400@taylor.lib.mi.us
SUMMARY:Audio Described Movie Day
DESCRIPTION:Audio Described Movie Day\nPop in the 1st Wednesday of each month to watch a new\, popular film with the Audio Description (AD) narration track added. \nApril’s film: \nTwisters
URL:https://taylor.lib.mi.us/event/2025-03-05/
LOCATION:Trolley (North) Unity Room\, 12303 Pardee Road\, Taylor\, MI\, 48180\, United States
CATEGORIES:Adults
END:VEVENT
BEGIN:VEVENT
DTSTART;TZID=America/Detroit:20250402T173000
DTEND;TZID=America/Detroit:20250402T193000
DTSTAMP:20260422T030823
CREATED:20250313T234629Z
LAST-MODIFIED:20250313T234629Z
UID:14513-1743615000-1743622200@taylor.lib.mi.us
SUMMARY:Silent Book Club
DESCRIPTION:Silent Book Club\nEver wanted to join a book club\, but felt like it was too much pressure? Join this super low-key book club where you show up with a book of your choice and read! At each meeting the first and last 15 minutes will be designated for sharing what you’re reading/socializing with other members and then the hour and half in-between will be designated for reading. We will have an ambience room playing at low volume in the background and different options for seating. Feel free to bring a snack\, beverage\, or blanket to make this event extra cozy. This book club meets every Wednesday.
URL:https://taylor.lib.mi.us/event/2024-12-04-2025-04-02/
LOCATION:Community Rooms (Papp & Trolley)\, 12303 Pardee Road\, Taylor\, MI\, 48180\, United States
CATEGORIES:Adults
ORGANIZER;CN="Becky Price":MAILTO:bprice@cityoftaylormi.gov
END:VEVENT
BEGIN:VEVENT
DTSTART;TZID=America/Detroit:20250402T180000
DTEND;TZID=America/Detroit:20250402T190000
DTSTAMP:20260422T030823
CREATED:20250310T180150Z
LAST-MODIFIED:20250310T180150Z
UID:16084-1743616800-1743620400@taylor.lib.mi.us
SUMMARY:Exploring DNA Testing: Choosing the Right Company for You
DESCRIPTION:Exploring DNA Testing: Choosing the Right Company for You\nCurious about your ancestry or genetic health? Join speaker Eric Migdal for an informative session on DNA testing companies and the different types of tests available. We’ll break down the pros and cons\, costs\, and features of popular testing services\, including AncestryDNA\, 23andMe\, MyHeritage\, and more. Learn about the differences between Y-DNA (paternal lineage)\, mitochondrial DNA (maternal lineage)\, and autosomal DNA testing\, and discover how each type can help you trace your roots.
URL:https://taylor.lib.mi.us/event/exploring-dna-testing-choosing-the-right-company-for-you/
LOCATION:Trolley (North) Unity Room\, 12303 Pardee Road\, Taylor\, MI\, 48180\, United States
CATEGORIES:Adults
END:VEVENT
END:VCALENDAR