BEGIN:VCALENDAR
VERSION:2.0
PRODID:-//Taylor Community Library - ECPv6.15.20//NONSGML v1.0//EN
CALSCALE:GREGORIAN
METHOD:PUBLISH
X-WR-CALNAME:Taylor Community Library
X-ORIGINAL-URL:https://taylor.lib.mi.us
X-WR-CALDESC:Events for Taylor Community Library
REFRESH-INTERVAL;VALUE=DURATION:PT1H
X-Robots-Tag:noindex
X-PUBLISHED-TTL:PT1H
BEGIN:VTIMEZONE
TZID:America/Detroit
BEGIN:DAYLIGHT
TZOFFSETFROM:-0500
TZOFFSETTO:-0400
TZNAME:EDT
DTSTART:20240310T070000
END:DAYLIGHT
BEGIN:STANDARD
TZOFFSETFROM:-0400
TZOFFSETTO:-0500
TZNAME:EST
DTSTART:20241103T060000
END:STANDARD
BEGIN:DAYLIGHT
TZOFFSETFROM:-0500
TZOFFSETTO:-0400
TZNAME:EDT
DTSTART:20250309T070000
END:DAYLIGHT
BEGIN:STANDARD
TZOFFSETFROM:-0400
TZOFFSETTO:-0500
TZNAME:EST
DTSTART:20251102T060000
END:STANDARD
BEGIN:DAYLIGHT
TZOFFSETFROM:-0500
TZOFFSETTO:-0400
TZNAME:EDT
DTSTART:20260308T070000
END:DAYLIGHT
BEGIN:STANDARD
TZOFFSETFROM:-0400
TZOFFSETTO:-0500
TZNAME:EST
DTSTART:20261101T060000
END:STANDARD
END:VTIMEZONE
BEGIN:VEVENT
DTSTART;TZID=America/Detroit:20250430T140000
DTEND;TZID=America/Detroit:20250430T150000
DTSTAMP:20260422T024931
CREATED:20250307T010055Z
LAST-MODIFIED:20250317T184853Z
UID:15965-1746021600-1746025200@taylor.lib.mi.us
SUMMARY:Bingocize for Seniors
DESCRIPTION:Bingocize for Seniors\nJoin us for this 6-week course that combines Bingo\, physical activity\, and fall prevention education. Topics include how to prevent falls\, exercises\, and more. Bingo prizes will be provided every session. Dates include: April 9\, 16\, 23\, and 30 as well as May 7 and 14. This event is partnered by Leaders Advancing & Helping Communities.
URL:https://taylor.lib.mi.us/event/bingocize-for-seniors-2025-04-30/
LOCATION:Community Rooms (Papp & Trolley)\, 12303 Pardee Road\, Taylor\, MI\, 48180\, United States
CATEGORIES:Adults
ORGANIZER;CN="Becky Price":MAILTO:bprice@cityoftaylormi.gov
END:VEVENT
BEGIN:VEVENT
DTSTART;TZID=America/Detroit:20250430T170000
DTEND;TZID=America/Detroit:20250430T180000
DTSTAMP:20260422T024931
CREATED:20250307T220843Z
LAST-MODIFIED:20250307T220843Z
UID:16070-1746032400-1746036000@taylor.lib.mi.us
SUMMARY:Spring Teen Craft
DESCRIPTION:Spring Teen Craft\nAges 12-17 are welcome to join us for our Teen craft hour. We will have supplies for various crafts set up so teens can choose how they want to express their creativity. We’ll have stuff to make flower mason jar lanterns\, tissue paper flowers\, teen-level coloring sheets\, and more.
URL:https://taylor.lib.mi.us/event/spring-teen-craft/
LOCATION:Community Rooms (Papp & Trolley)\, 12303 Pardee Road\, Taylor\, MI\, 48180\, United States
CATEGORIES:Teens
ORGANIZER;CN="Jasmine Riehl":MAILTO:jriehl@cityoftaylormi.gov
END:VEVENT
BEGIN:VEVENT
DTSTART;TZID=America/Detroit:20250430T173000
DTEND;TZID=America/Detroit:20250430T193000
DTSTAMP:20260422T024931
CREATED:20250317T184855Z
LAST-MODIFIED:20250317T184855Z
UID:15105-1746034200-1746041400@taylor.lib.mi.us
SUMMARY:Silent Book Club
DESCRIPTION:Silent Book Club\nEver wanted to join a book club\, but felt like it was too much pressure? Join this super low-key book club where you show up with a book of your choice and read! At each meeting the first and last 15 minutes will be designated for sharing what you’re reading/socializing with other members and then the hour and half in-between will be designated for reading. We will have an ambience room playing at low volume in the background and different options for seating. Feel free to bring a snack\, beverage\, or blanket to make this event extra cozy. This book club meets every Wednesday.
URL:https://taylor.lib.mi.us/event/2024-12-04-2025-04-30/
LOCATION:Community Rooms (Papp & Trolley)\, 12303 Pardee Road\, Taylor\, MI\, 48180\, United States
CATEGORIES:Adults
ORGANIZER;CN="Becky Price":MAILTO:bprice@cityoftaylormi.gov
END:VEVENT
END:VCALENDAR