BEGIN:VCALENDAR
VERSION:2.0
PRODID:-//Taylor Community Library - ECPv6.15.20//NONSGML v1.0//EN
CALSCALE:GREGORIAN
METHOD:PUBLISH
X-WR-CALNAME:Taylor Community Library
X-ORIGINAL-URL:https://taylor.lib.mi.us
X-WR-CALDESC:Events for Taylor Community Library
REFRESH-INTERVAL;VALUE=DURATION:PT1H
X-Robots-Tag:noindex
X-PUBLISHED-TTL:PT1H
BEGIN:VTIMEZONE
TZID:America/Detroit
BEGIN:DAYLIGHT
TZOFFSETFROM:-0500
TZOFFSETTO:-0400
TZNAME:EDT
DTSTART:20240310T070000
END:DAYLIGHT
BEGIN:STANDARD
TZOFFSETFROM:-0400
TZOFFSETTO:-0500
TZNAME:EST
DTSTART:20241103T060000
END:STANDARD
BEGIN:DAYLIGHT
TZOFFSETFROM:-0500
TZOFFSETTO:-0400
TZNAME:EDT
DTSTART:20250309T070000
END:DAYLIGHT
BEGIN:STANDARD
TZOFFSETFROM:-0400
TZOFFSETTO:-0500
TZNAME:EST
DTSTART:20251102T060000
END:STANDARD
BEGIN:DAYLIGHT
TZOFFSETFROM:-0500
TZOFFSETTO:-0400
TZNAME:EDT
DTSTART:20260308T070000
END:DAYLIGHT
BEGIN:STANDARD
TZOFFSETFROM:-0400
TZOFFSETTO:-0500
TZNAME:EST
DTSTART:20261101T060000
END:STANDARD
END:VTIMEZONE
BEGIN:VEVENT
DTSTART;TZID=America/Detroit:20250508T130000
DTEND;TZID=America/Detroit:20250508T140000
DTSTAMP:20260423T022217
CREATED:20250319T202933Z
LAST-MODIFIED:20250319T202933Z
UID:16272-1746709200-1746712800@taylor.lib.mi.us
SUMMARY:Email Basics
DESCRIPTION:Adult Computer Classes: Email Basics\nJoin us in our fourth installment of the Spring Computer Class series! This class will focus on all you need to know to set-up and operate an email account. The class will be located at the Youth Computers on Thursday\, May 8th\, from 1:00-2:00 P.M. It will be offered on a first come\, first serve basis.
URL:https://taylor.lib.mi.us/event/email-basics-5/
LOCATION:Community Rooms (Papp & Trolley)\, 12303 Pardee Road\, Taylor\, MI\, 48180\, United States
CATEGORIES:Adults
ORGANIZER;CN="Hailey Boyer":MAILTO:hboyer@cityoftaylormi.gov
END:VEVENT
BEGIN:VEVENT
DTSTART;TZID=America/Detroit:20250508T180000
DTEND;TZID=America/Detroit:20250508T190000
DTSTAMP:20260423T022217
CREATED:20250307T171804Z
LAST-MODIFIED:20250307T171804Z
UID:15982-1746727200-1746730800@taylor.lib.mi.us
SUMMARY:Makerspace: Spring
DESCRIPTION:Makerspace:\nMakerspace is a monthly program that allows you to create your own masterpieces with the supplies that is given on hand. Supplies will be out for one hour on the youth side. This program is for kids and families.
URL:https://taylor.lib.mi.us/event/makerspace-spring/
LOCATION:Community Rooms (Papp & Trolley)\, 12303 Pardee Road\, Taylor\, MI\, 48180\, United States
END:VEVENT
BEGIN:VEVENT
DTSTART;TZID=America/Detroit:20250508T180000
DTEND;TZID=America/Detroit:20250508T193000
DTSTAMP:20260423T022217
CREATED:20250307T164029Z
LAST-MODIFIED:20250307T164029Z
UID:15930-1746727200-1746732600@taylor.lib.mi.us
SUMMARY:T(w)een Book Club
DESCRIPTION:T(w)een Book Club\nT(w)een Book Club is a monthly book club suggested for tweens and teens ages 12-17 where we will read age-appropriate titles from all genres\, have a snack\, and do a book-related activity! \nCopies of our monthly book will be placed on hold and can be picked up from our front desk before our meeting. Most of the time they are also available on Hoopla or Libby \nWe will take time to share thoughts on the book and chat about our general reading interests! \nThis month’s book is Buzzing by Samuel Sattin \n \nIsaac Itkin can’t get away from his thoughts. \nAs a lonely twelve-year-old kid with Obsessive Compulsive Disorder (OCD)\, everything from studying to looking in the mirror becomes a battle between him and a swarm of unhelpful thoughts. \nThe strict therapy his mother insists on doesn’t seem to be working\, but when a group of friends invites him to join their after-school role-playing game\, the thoughts feel a little less loud\, and the world feels a little brighter. \nBut Isaac’s therapist says that exposure to games can have negative effects on kids with OCD\, and when his grades slip\, his helicopter mother won’t let him play anymore. Now Isaac needs to find a way to prove to himself\, to his mother\, and to the world that the way to quiet the noise in his head may have been inside him all along.
URL:https://taylor.lib.mi.us/event/2025-05-08/
LOCATION:Community Rooms (Papp & Trolley)\, 12303 Pardee Road\, Taylor\, MI\, 48180\, United States
CATEGORIES:Teens
ORGANIZER;CN="Jasmine Riehl":MAILTO:jriehl@cityoftaylormi.gov
END:VEVENT
END:VCALENDAR