BEGIN:VCALENDAR
VERSION:2.0
PRODID:-//Taylor Community Library - ECPv6.15.20//NONSGML v1.0//EN
CALSCALE:GREGORIAN
METHOD:PUBLISH
X-WR-CALNAME:Taylor Community Library
X-ORIGINAL-URL:https://taylor.lib.mi.us
X-WR-CALDESC:Events for Taylor Community Library
REFRESH-INTERVAL;VALUE=DURATION:PT1H
X-Robots-Tag:noindex
X-PUBLISHED-TTL:PT1H
BEGIN:VTIMEZONE
TZID:America/Detroit
BEGIN:DAYLIGHT
TZOFFSETFROM:-0500
TZOFFSETTO:-0400
TZNAME:EDT
DTSTART:20240310T070000
END:DAYLIGHT
BEGIN:STANDARD
TZOFFSETFROM:-0400
TZOFFSETTO:-0500
TZNAME:EST
DTSTART:20241103T060000
END:STANDARD
BEGIN:DAYLIGHT
TZOFFSETFROM:-0500
TZOFFSETTO:-0400
TZNAME:EDT
DTSTART:20250309T070000
END:DAYLIGHT
BEGIN:STANDARD
TZOFFSETFROM:-0400
TZOFFSETTO:-0500
TZNAME:EST
DTSTART:20251102T060000
END:STANDARD
BEGIN:DAYLIGHT
TZOFFSETFROM:-0500
TZOFFSETTO:-0400
TZNAME:EDT
DTSTART:20260308T070000
END:DAYLIGHT
BEGIN:STANDARD
TZOFFSETFROM:-0400
TZOFFSETTO:-0500
TZNAME:EST
DTSTART:20261101T060000
END:STANDARD
END:VTIMEZONE
BEGIN:VEVENT
DTSTART;TZID=America/Detroit:20250512T100000
DTEND;TZID=America/Detroit:20250512T190000
DTSTAMP:20260420T062553
CREATED:20250410T234622Z
LAST-MODIFIED:20250410T234622Z
UID:16729-1747044000-1747076400@taylor.lib.mi.us
SUMMARY:Puzzle Exchange
DESCRIPTION:Puzzle Exchange\nTired of doing the same old puzzles? Stop by our puzzle exchange and swap them for new ones! From 10am till 7pm we will have one of our community rooms designated for puzzle swapping. Simply stop in\, place the puzzles you no longer want on the table\, and grab the ones you do want. There is no limit to how many puzzles you can drop off or take home. \nTHE FINE PRINT: Please only donate puzzles that have all their pieces to the best of your knowledge. Any puzzles not taken by the end of the event will either be put in our puzzle collection for circulation or recycled. You can drop off your puzzles ahead of time as early as Monday\, May 5th.
URL:https://taylor.lib.mi.us/event/puzzle-exchange/
LOCATION:Community Rooms (Papp & Trolley)\, 12303 Pardee Road\, Taylor\, MI\, 48180\, United States
CATEGORIES:Adults,Teens,Youth & Families
ORGANIZER;CN="Becky Price":MAILTO:bprice@cityoftaylormi.gov
END:VEVENT
BEGIN:VEVENT
DTSTART;TZID=America/Detroit:20250512T110000
DTEND;TZID=America/Detroit:20250512T130000
DTSTAMP:20260420T062553
CREATED:20250317T212032Z
LAST-MODIFIED:20250317T212032Z
UID:14686-1747047600-1747054800@taylor.lib.mi.us
SUMMARY:Hooks & Needles
DESCRIPTION:Hooks & Needles\n\nCome and join other yarn enthusiasts in our community who love to knit and crochet.  This is a weekly event to share ideas\, projects\, and do a little yarning.  Bring your own projects to work on.
URL:https://taylor.lib.mi.us/event/2025-01-06-2025-05-12/
LOCATION:Trolley (North) Unity Room\, 12303 Pardee Road\, Taylor\, MI\, 48180\, United States
CATEGORIES:Adults
ORGANIZER;CN="Stephanie Herm":MAILTO:sherm@cityoftaylormi.gov
END:VEVENT
BEGIN:VEVENT
DTSTART;TZID=America/Detroit:20250512T150000
DTEND;TZID=America/Detroit:20250512T160000
DTSTAMP:20260420T062553
CREATED:20250317T212306Z
LAST-MODIFIED:20250317T212306Z
UID:15910-1747062000-1747065600@taylor.lib.mi.us
SUMMARY:Creative Writing Challenge
DESCRIPTION:Creative Writing Challenge\nCalling all creative writers! We will meet at one of the front Community Rooms the second Monday of every month\, from 3:00-4:00pm.  Everyone will be given a prompt\, and your job will be to take this prompt to find words on signs\, pictures\, artwork\, book spines\, overheard phrases/quotes\, etc. on library grounds and write them down.  When everyone has something\, they will come back to the room and we will put together what we have found.
URL:https://taylor.lib.mi.us/event/creative-writing-challenge-8/
LOCATION:Community Rooms (Papp & Trolley)\, 12303 Pardee Road\, Taylor\, MI\, 48180\, United States
CATEGORIES:Adults,Teens
END:VEVENT
BEGIN:VEVENT
DTSTART;TZID=America/Detroit:20250512T180000
DTEND;TZID=America/Detroit:20250512T190000
DTSTAMP:20260420T062553
CREATED:20250414T194608Z
LAST-MODIFIED:20250414T194608Z
UID:16841-1747072800-1747076400@taylor.lib.mi.us
SUMMARY:LEGO Club
DESCRIPTION:LEGO Club\nDo you love Legos? Join our Lego Club! Every Monday at 6 p.m. come in and start building.  Everyone is welcome to free build.  If you are up for it\, we will provide a challenge or theme for you to make something related to that week’s challenge or theme. We will display your creation for one week and will tear them apart at the next event. This event is open to kids\, tweens\, teens\, and parents. No registration is required\, just stop in and build!
URL:https://taylor.lib.mi.us/event/lego-club/
LOCATION:Community Rooms (Papp & Trolley)\, 12303 Pardee Road\, Taylor\, MI\, 48180\, United States
CATEGORIES:Youth & Families
ORGANIZER;CN="Carolyn Somerville-Jones":MAILTO:csomerville@cityoftaylormi.gov
END:VEVENT
END:VCALENDAR