BEGIN:VCALENDAR
VERSION:2.0
PRODID:-//Taylor Community Library - ECPv6.15.20//NONSGML v1.0//EN
CALSCALE:GREGORIAN
METHOD:PUBLISH
X-ORIGINAL-URL:https://taylor.lib.mi.us
X-WR-CALDESC:Events for Taylor Community Library
REFRESH-INTERVAL;VALUE=DURATION:PT1H
X-Robots-Tag:noindex
X-PUBLISHED-TTL:PT1H
BEGIN:VTIMEZONE
TZID:America/Detroit
BEGIN:DAYLIGHT
TZOFFSETFROM:-0500
TZOFFSETTO:-0400
TZNAME:EDT
DTSTART:20240310T070000
END:DAYLIGHT
BEGIN:STANDARD
TZOFFSETFROM:-0400
TZOFFSETTO:-0500
TZNAME:EST
DTSTART:20241103T060000
END:STANDARD
BEGIN:DAYLIGHT
TZOFFSETFROM:-0500
TZOFFSETTO:-0400
TZNAME:EDT
DTSTART:20250309T070000
END:DAYLIGHT
BEGIN:STANDARD
TZOFFSETFROM:-0400
TZOFFSETTO:-0500
TZNAME:EST
DTSTART:20251102T060000
END:STANDARD
BEGIN:DAYLIGHT
TZOFFSETFROM:-0500
TZOFFSETTO:-0400
TZNAME:EDT
DTSTART:20260308T070000
END:DAYLIGHT
BEGIN:STANDARD
TZOFFSETFROM:-0400
TZOFFSETTO:-0500
TZNAME:EST
DTSTART:20261101T060000
END:STANDARD
END:VTIMEZONE
BEGIN:VEVENT
DTSTART;TZID=America/Detroit:20250529T180000
DTEND;TZID=America/Detroit:20250529T183000
DTSTAMP:20260420T050259
CREATED:20250416T174758Z
LAST-MODIFIED:20250416T174758Z
UID:16952-1748541600-1748543400@taylor.lib.mi.us
SUMMARY:Stuffy Sleepover Storytime
DESCRIPTION:Stuffy Sleepover Storytime\nWear your pjs and bring your favorite bedtime pal for this sleepy storytime! This storytime is special because we are asking you to leave your stuffy for a sleepover at the library! Us librarians will take extra special care of your stuffy and document their night so when you pick them up the next day\, you’ll also take home some printed pictures and a slideshow of all the adventures they had at the library. This event for ages 2-8. \n*Parents\, if your child isn’t ready to leave their stuffy with us feel free to still join us for our sleepy storytime.*
URL:https://taylor.lib.mi.us/event/stuffy-sleepover-storytime-2/
LOCATION:Community Rooms (Papp & Trolley)\, 12303 Pardee Road\, Taylor\, MI\, 48180\, United States
CATEGORIES:Youth & Families
ORGANIZER;CN="Carolyn Somerville-Jones":MAILTO:csomerville@cityoftaylormi.gov
END:VEVENT
END:VCALENDAR