BEGIN:VCALENDAR
VERSION:2.0
PRODID:-//Taylor Community Library - ECPv6.15.20//NONSGML v1.0//EN
CALSCALE:GREGORIAN
METHOD:PUBLISH
X-WR-CALNAME:Taylor Community Library
X-ORIGINAL-URL:https://taylor.lib.mi.us
X-WR-CALDESC:Events for Taylor Community Library
REFRESH-INTERVAL;VALUE=DURATION:PT1H
X-Robots-Tag:noindex
X-PUBLISHED-TTL:PT1H
BEGIN:VTIMEZONE
TZID:America/Detroit
BEGIN:DAYLIGHT
TZOFFSETFROM:-0500
TZOFFSETTO:-0400
TZNAME:EDT
DTSTART:20240310T070000
END:DAYLIGHT
BEGIN:STANDARD
TZOFFSETFROM:-0400
TZOFFSETTO:-0500
TZNAME:EST
DTSTART:20241103T060000
END:STANDARD
BEGIN:DAYLIGHT
TZOFFSETFROM:-0500
TZOFFSETTO:-0400
TZNAME:EDT
DTSTART:20250309T070000
END:DAYLIGHT
BEGIN:STANDARD
TZOFFSETFROM:-0400
TZOFFSETTO:-0500
TZNAME:EST
DTSTART:20251102T060000
END:STANDARD
BEGIN:DAYLIGHT
TZOFFSETFROM:-0500
TZOFFSETTO:-0400
TZNAME:EDT
DTSTART:20260308T070000
END:DAYLIGHT
BEGIN:STANDARD
TZOFFSETFROM:-0400
TZOFFSETTO:-0500
TZNAME:EST
DTSTART:20261101T060000
END:STANDARD
END:VTIMEZONE
BEGIN:VEVENT
DTSTART;TZID=America/Detroit:20250603T103000
DTEND;TZID=America/Detroit:20250603T111500
DTSTAMP:20260420T182241
CREATED:20250307T195759Z
LAST-MODIFIED:20250317T211434Z
UID:15922-1748946600-1748949300@taylor.lib.mi.us
SUMMARY:Toddler Storytime
DESCRIPTION:Toddler Storytime\nJoin us for stories\, songs\, fingerplays\, and fun! Toddler Storytime is for ages 2-4\, but older and younger siblings are welcome. Bring your toddler for a chance to learn and practice some early reading skills. We will reserve some time at the end for creative play or a craft.
URL:https://taylor.lib.mi.us/event/toddler-storytime-24/
LOCATION:Community Rooms (Papp & Trolley)\, 12303 Pardee Road\, Taylor\, MI\, 48180\, United States
CATEGORIES:Youth & Families
ORGANIZER;CN="Jasmine Riehl":MAILTO:jriehl@cityoftaylormi.gov
END:VEVENT
BEGIN:VEVENT
DTSTART;TZID=America/Detroit:20250603T173000
DTEND;TZID=America/Detroit:20250603T193000
DTSTAMP:20260420T182241
CREATED:20230319T192214Z
LAST-MODIFIED:20250527T164249Z
UID:14291-1748971800-1748979000@taylor.lib.mi.us
SUMMARY:Sew Crafty
DESCRIPTION:Sew Crafty\nSew Crafty is a weekly lab for textile crafters to come together and work on their projects.  If you love to quilt\, sew\, knit\, crochet\, embroider\, needlepoint\, or any other textile crafting\, this is the place for you! This is a weekly lab that is open on Tuesdays from 5:30 – 7:30 p.m. This is a collaborative\, inter-generational crafting group intended for kids\, teens\, and adults. Children under 12 must be accompanied by an adult.
URL:https://taylor.lib.mi.us/event/2023-06-27-2023-10-03-2024-07-02-2025-06-03/
LOCATION:Community Rooms (Papp & Trolley)\, 12303 Pardee Road\, Taylor\, MI\, 48180\, United States
CATEGORIES:Adults,Teens,Youth & Families
END:VEVENT
BEGIN:VEVENT
DTSTART;TZID=America/Detroit:20250603T180000
DTEND;TZID=America/Detroit:20250603T190000
DTSTAMP:20260420T182241
CREATED:20250307T164304Z
LAST-MODIFIED:20250508T171403Z
UID:15989-1748973600-1748977200@taylor.lib.mi.us
SUMMARY:World Clubfoot Day!
DESCRIPTION:World Clubfoot Day!\nCome join us in celebrating World Clubfeet Awareness Day & Our Clubfoot Warriors! There will be a special Storytime\, Comradery\, Snacks\, and a Craft. \nThis event is intended for: Babies\, Tots\, Kids\, and Family’s
URL:https://taylor.lib.mi.us/event/world-clubfoot-day/
LOCATION:Community Rooms (Papp & Trolley)\, 12303 Pardee Road\, Taylor\, MI\, 48180\, United States
END:VEVENT
END:VCALENDAR