BEGIN:VCALENDAR
VERSION:2.0
PRODID:-//Taylor Community Library - ECPv6.15.20//NONSGML v1.0//EN
CALSCALE:GREGORIAN
METHOD:PUBLISH
X-ORIGINAL-URL:https://taylor.lib.mi.us
X-WR-CALDESC:Events for Taylor Community Library
REFRESH-INTERVAL;VALUE=DURATION:PT1H
X-Robots-Tag:noindex
X-PUBLISHED-TTL:PT1H
BEGIN:VTIMEZONE
TZID:America/Detroit
BEGIN:DAYLIGHT
TZOFFSETFROM:-0500
TZOFFSETTO:-0400
TZNAME:EDT
DTSTART:20240310T070000
END:DAYLIGHT
BEGIN:STANDARD
TZOFFSETFROM:-0400
TZOFFSETTO:-0500
TZNAME:EST
DTSTART:20241103T060000
END:STANDARD
BEGIN:DAYLIGHT
TZOFFSETFROM:-0500
TZOFFSETTO:-0400
TZNAME:EDT
DTSTART:20250309T070000
END:DAYLIGHT
BEGIN:STANDARD
TZOFFSETFROM:-0400
TZOFFSETTO:-0500
TZNAME:EST
DTSTART:20251102T060000
END:STANDARD
BEGIN:DAYLIGHT
TZOFFSETFROM:-0500
TZOFFSETTO:-0400
TZNAME:EDT
DTSTART:20260308T070000
END:DAYLIGHT
BEGIN:STANDARD
TZOFFSETFROM:-0400
TZOFFSETTO:-0500
TZNAME:EST
DTSTART:20261101T060000
END:STANDARD
END:VTIMEZONE
BEGIN:VEVENT
DTSTART;TZID=America/Detroit:20250612T180000
DTEND;TZID=America/Detroit:20250612T190000
DTSTAMP:20260425T221018
CREATED:20250307T171626Z
LAST-MODIFIED:20250307T171921Z
UID:16009-1749751200-1749754800@taylor.lib.mi.us
SUMMARY:Makerspace
DESCRIPTION:Makerspace:\nMakerspace is a monthly program that allows you to create your own masterpieces with the supplies that is given on hand. Supplies will be out for one hour on the youth side. This program is for kids and families.
URL:https://taylor.lib.mi.us/event/makerspace/
LOCATION:Community Rooms (Papp & Trolley)\, 12303 Pardee Road\, Taylor\, MI\, 48180\, United States
END:VEVENT
BEGIN:VEVENT
DTSTART;TZID=America/Detroit:20250612T180000
DTEND;TZID=America/Detroit:20250612T193000
DTSTAMP:20260425T221018
CREATED:20250307T164329Z
LAST-MODIFIED:20250307T164329Z
UID:15931-1749751200-1749756600@taylor.lib.mi.us
SUMMARY:T(w)een Book Club
DESCRIPTION:T(w)een Book Club\nT(w)een Book Club is a monthly book club suggested for tweens and teens ages 12-17 where we will read age-appropriate titles from all genres\, have a snack\, and do a book-related activity! \nCopies of our monthly book will be placed on hold and can be picked up from our front desk before our meeting. Most of the time they are also available on Hoopla or Libby \nWe will take time to share thoughts on the book and chat about our general reading interests! \nThis month’s book is Blood City Rollers by V.P. Anderson \n \nIce-skater Mina is on a one-track path to Olympic gold and glory—that is\, until she totally wipes out at her biggest competition\, and is kinda-sorta-kidnapped by undead kids on roller skates. Sucked into the high stakes world of Paranormal Roller Derby\, she finds herself “recruited” by a squad of vampires who need a human player to complete their team—just in time to save the league from losing it all. \nBetween learning to play derby well enough to kick butt on the track\, crushing hard on the dreamy team captain\, and navigating the spooky rules of the supernatural\, how can Mina go from striving to be a ten alone\, to becoming one of nine chaotic bodies forming a perfectly-imperfect team? Forget being the best. Will she be enough to help her new friends survive the season?
URL:https://taylor.lib.mi.us/event/2025-06-12/
LOCATION:Community Rooms (Papp & Trolley)\, 12303 Pardee Road\, Taylor\, MI\, 48180\, United States
CATEGORIES:Teens
ORGANIZER;CN="Jasmine Riehl":MAILTO:jriehl@cityoftaylormi.gov
END:VEVENT
END:VCALENDAR