BEGIN:VCALENDAR
VERSION:2.0
PRODID:-//Taylor Community Library - ECPv6.15.20//NONSGML v1.0//EN
CALSCALE:GREGORIAN
METHOD:PUBLISH
X-ORIGINAL-URL:https://taylor.lib.mi.us
X-WR-CALDESC:Events for Taylor Community Library
REFRESH-INTERVAL;VALUE=DURATION:PT1H
X-Robots-Tag:noindex
X-PUBLISHED-TTL:PT1H
BEGIN:VTIMEZONE
TZID:America/Detroit
BEGIN:DAYLIGHT
TZOFFSETFROM:-0500
TZOFFSETTO:-0400
TZNAME:EDT
DTSTART:20240310T070000
END:DAYLIGHT
BEGIN:STANDARD
TZOFFSETFROM:-0400
TZOFFSETTO:-0500
TZNAME:EST
DTSTART:20241103T060000
END:STANDARD
BEGIN:DAYLIGHT
TZOFFSETFROM:-0500
TZOFFSETTO:-0400
TZNAME:EDT
DTSTART:20250309T070000
END:DAYLIGHT
BEGIN:STANDARD
TZOFFSETFROM:-0400
TZOFFSETTO:-0500
TZNAME:EST
DTSTART:20251102T060000
END:STANDARD
BEGIN:DAYLIGHT
TZOFFSETFROM:-0500
TZOFFSETTO:-0400
TZNAME:EDT
DTSTART:20260308T070000
END:DAYLIGHT
BEGIN:STANDARD
TZOFFSETFROM:-0400
TZOFFSETTO:-0500
TZNAME:EST
DTSTART:20261101T060000
END:STANDARD
END:VTIMEZONE
BEGIN:VEVENT
DTSTART;VALUE=DATE:20250626
DTEND;VALUE=DATE:20250629
DTSTAMP:20260423T101933
CREATED:20250411T152653Z
LAST-MODIFIED:20250411T155954Z
UID:16743-1750896000-1751155199@taylor.lib.mi.us
SUMMARY:LIBRARY CLOSED
DESCRIPTION:LIBRARY CLOSED DUE TO TAYLOR SUMMERFEST (DATES SUBJECT TO CHANGE).
URL:https://taylor.lib.mi.us/event/library-closed-7/
LOCATION:Community Rooms (Papp & Trolley)\, 12303 Pardee Road\, Taylor\, MI\, 48180\, United States
CATEGORIES:Adults,Teens,Youth & Families
END:VEVENT
BEGIN:VEVENT
DTSTART;TZID=America/Detroit:20250627T100000
DTEND;TZID=America/Detroit:20250627T110000
DTSTAMP:20260423T101933
CREATED:20250626T131957Z
LAST-MODIFIED:20250626T132155Z
UID:18151-1751018400-1751022000@taylor.lib.mi.us
SUMMARY:Special Library Board Meeting
DESCRIPTION:Special Library Board Meeting\nThere will be a public special meeting of the Library Board starting at 10:00 a.m. at 23555 Goddard Rd\, Taylor\, MI 48180 to discuss the Library Director candidate. \n**This meeting is at City Hall as the Library is inaccessible due to Summerfest.
URL:https://taylor.lib.mi.us/event/special-library-board-meeting-3/
LOCATION:City Hall\, 23555 Goddard Rd\, Taylor\, MI\, 48180\, United States
CATEGORIES:Board Meetings
END:VEVENT
END:VCALENDAR