BEGIN:VCALENDAR
VERSION:2.0
PRODID:-//Taylor Community Library - ECPv6.15.20//NONSGML v1.0//EN
CALSCALE:GREGORIAN
METHOD:PUBLISH
X-ORIGINAL-URL:https://taylor.lib.mi.us
X-WR-CALDESC:Events for Taylor Community Library
REFRESH-INTERVAL;VALUE=DURATION:PT1H
X-Robots-Tag:noindex
X-PUBLISHED-TTL:PT1H
BEGIN:VTIMEZONE
TZID:America/Detroit
BEGIN:DAYLIGHT
TZOFFSETFROM:-0500
TZOFFSETTO:-0400
TZNAME:EDT
DTSTART:20240310T070000
END:DAYLIGHT
BEGIN:STANDARD
TZOFFSETFROM:-0400
TZOFFSETTO:-0500
TZNAME:EST
DTSTART:20241103T060000
END:STANDARD
BEGIN:DAYLIGHT
TZOFFSETFROM:-0500
TZOFFSETTO:-0400
TZNAME:EDT
DTSTART:20250309T070000
END:DAYLIGHT
BEGIN:STANDARD
TZOFFSETFROM:-0400
TZOFFSETTO:-0500
TZNAME:EST
DTSTART:20251102T060000
END:STANDARD
BEGIN:DAYLIGHT
TZOFFSETFROM:-0500
TZOFFSETTO:-0400
TZNAME:EDT
DTSTART:20260308T070000
END:DAYLIGHT
BEGIN:STANDARD
TZOFFSETFROM:-0400
TZOFFSETTO:-0500
TZNAME:EST
DTSTART:20261101T060000
END:STANDARD
END:VTIMEZONE
BEGIN:VEVENT
DTSTART;TZID=America/Detroit:20250722T103000
DTEND;TZID=America/Detroit:20250722T111500
DTSTAMP:20260421T072705
CREATED:20250617T164332Z
LAST-MODIFIED:20250617T165345Z
UID:18008-1753180200-1753182900@taylor.lib.mi.us
SUMMARY:Toddler Storytime Special Guest: Ms. Anjelica
DESCRIPTION:Toddler Storytime Special Guest: Ms. Anjelica\nJoin our regular storytime mom\, Ms. Anjelica for stories\, songs\, fingerplays\, and fun! Ms. Anjelica will be talking all about her beautiful unicorn book called Luna. Toddler Storytime is for ages 2-4\, but older and younger siblings are welcome. Bring your toddler for a chance to learn and practice some early reading skills. We will reserve some time at the end for creative play or a craft.
URL:https://taylor.lib.mi.us/event/toddler-storytime-2-2025-07-22/
LOCATION:Community Rooms (Papp & Trolley)\, 12303 Pardee Road\, Taylor\, MI\, 48180\, United States
CATEGORIES:Youth & Families
ORGANIZER;CN="Jasmine Riehl":MAILTO:jriehl@cityoftaylormi.gov
END:VEVENT
BEGIN:VEVENT
DTSTART;TZID=America/Detroit:20250722T140000
DTEND;TZID=America/Detroit:20250722T150000
DTSTAMP:20260421T072705
CREATED:20250606T154434Z
LAST-MODIFIED:20250612T232449Z
UID:17442-1753192800-1753196400@taylor.lib.mi.us
SUMMARY:Summer Reading - Sand Art
DESCRIPTION:Summer Reading – Sand Art\nGet out of that house! and come join us for our Summer Reading Crafty Tuesdays at 2:00PM\, this week is Sand Art. We’ll have jars and colorful sand that you can layer up to your heart’s content and create a beautiful masterpiece. \nThis event is intended for: kids\, tweens\, and teen
URL:https://taylor.lib.mi.us/event/summer-reading-sand-art/
LOCATION:Community Rooms (Papp & Trolley)\, 12303 Pardee Road\, Taylor\, MI\, 48180\, United States
CATEGORIES:Teens,Youth & Families
ORGANIZER;CN="Jasmine Riehl":MAILTO:jriehl@cityoftaylormi.gov
END:VEVENT
BEGIN:VEVENT
DTSTART;TZID=America/Detroit:20250722T173000
DTEND;TZID=America/Detroit:20250722T193000
DTSTAMP:20260421T072705
CREATED:20230319T192214Z
LAST-MODIFIED:20250612T232500Z
UID:16358-1753205400-1753212600@taylor.lib.mi.us
SUMMARY:Sew Crafty
DESCRIPTION:Sew Crafty\nSew Crafty is a weekly lab for textile crafters to come together and work on their projects.  If you love to quilt\, sew\, knit\, crochet\, embroider\, needlepoint\, or any other textile crafting\, this is the place for you! This is a weekly lab that is open on Tuesdays from 5:30 – 7:30 p.m. This is a collaborative\, inter-generational crafting group intended for kids\, teens\, and adults. Children under 12 must be accompanied by an adult.
URL:https://taylor.lib.mi.us/event/2023-06-27-2023-10-03-2024-07-02-2025-06-03-2025-07-01-2025-07-22/
LOCATION:Community Rooms (Papp & Trolley)\, 12303 Pardee Road\, Taylor\, MI\, 48180\, United States
CATEGORIES:Adults,Teens,Youth & Families
ORGANIZER;CN="Hailey Boyer":MAILTO:hboyer@cityoftaylormi.gov
END:VEVENT
END:VCALENDAR