BEGIN:VCALENDAR
VERSION:2.0
PRODID:-//Taylor Community Library - ECPv6.15.20//NONSGML v1.0//EN
CALSCALE:GREGORIAN
METHOD:PUBLISH
X-WR-CALNAME:Taylor Community Library
X-ORIGINAL-URL:https://taylor.lib.mi.us
X-WR-CALDESC:Events for Taylor Community Library
REFRESH-INTERVAL;VALUE=DURATION:PT1H
X-Robots-Tag:noindex
X-PUBLISHED-TTL:PT1H
BEGIN:VTIMEZONE
TZID:America/Detroit
BEGIN:DAYLIGHT
TZOFFSETFROM:-0500
TZOFFSETTO:-0400
TZNAME:EDT
DTSTART:20240310T070000
END:DAYLIGHT
BEGIN:STANDARD
TZOFFSETFROM:-0400
TZOFFSETTO:-0500
TZNAME:EST
DTSTART:20241103T060000
END:STANDARD
BEGIN:DAYLIGHT
TZOFFSETFROM:-0500
TZOFFSETTO:-0400
TZNAME:EDT
DTSTART:20250309T070000
END:DAYLIGHT
BEGIN:STANDARD
TZOFFSETFROM:-0400
TZOFFSETTO:-0500
TZNAME:EST
DTSTART:20251102T060000
END:STANDARD
BEGIN:DAYLIGHT
TZOFFSETFROM:-0500
TZOFFSETTO:-0400
TZNAME:EDT
DTSTART:20260308T070000
END:DAYLIGHT
BEGIN:STANDARD
TZOFFSETFROM:-0400
TZOFFSETTO:-0500
TZNAME:EST
DTSTART:20261101T060000
END:STANDARD
END:VTIMEZONE
BEGIN:VEVENT
DTSTART;TZID=America/Detroit:20250819T103000
DTEND;TZID=America/Detroit:20250819T111500
DTSTAMP:20260423T024318
CREATED:20250617T164145Z
LAST-MODIFIED:20250617T170332Z
UID:18003-1755599400-1755602100@taylor.lib.mi.us
SUMMARY:Teddy Bear Picnic
DESCRIPTION:Teddy Bear Picnic\nJoin us for a Teddy Bear Picnic! Feel free to bring any of your stuffies (regardless of species) along for this picnic. We will be on the South side of the library\, so be sure to bring a blanket as well. We will have a few snacks\, books available to read aloud to your stuffy\, and a show-and-tell where you can introduce your stuffy to the group if you’d like. \nThis event is for ages toddlers and kids. If weather is not permitting\, we will have our picnic on the youth side of the library.
URL:https://taylor.lib.mi.us/event/toddler-storytime-2025-08-19/
LOCATION:Community Rooms (Papp & Trolley)\, 12303 Pardee Road\, Taylor\, MI\, 48180\, United States
CATEGORIES:Youth & Families
ORGANIZER;CN="Jasmine Riehl":MAILTO:jriehl@cityoftaylormi.gov
END:VEVENT
BEGIN:VEVENT
DTSTART;TZID=America/Detroit:20250819T140000
DTEND;TZID=America/Detroit:20250819T150000
DTSTAMP:20260423T024318
CREATED:20250606T154947Z
LAST-MODIFIED:20250612T234253Z
UID:17446-1755612000-1755615600@taylor.lib.mi.us
SUMMARY:Summer Reading - Cupcake Decorating
DESCRIPTION:Summer Reading – Cupcake Decorating\nGet out of that house! and come join us for our Summer Reading Crafty Tuesdays at 2:00PM\, this week is cupcake decorating. We’ll have all different kinds of frosting\, sprinkles\, and candy so you can create an edible masterpiece that’s super sweet. \nThis event is intended for: Kids\, Tweens\, and Teens
URL:https://taylor.lib.mi.us/event/2025-08-19/
LOCATION:Community Rooms (Papp & Trolley)\, 12303 Pardee Road\, Taylor\, MI\, 48180\, United States
CATEGORIES:Teens,Youth & Families
END:VEVENT
BEGIN:VEVENT
DTSTART;TZID=America/Detroit:20250819T173000
DTEND;TZID=America/Detroit:20250819T193000
DTSTAMP:20260423T024318
CREATED:20230319T192214Z
LAST-MODIFIED:20250612T234304Z
UID:16362-1755624600-1755631800@taylor.lib.mi.us
SUMMARY:Sew Crafty
DESCRIPTION:Sew Crafty\nSew Crafty is a weekly lab for textile crafters to come together and work on their projects.  If you love to quilt\, sew\, knit\, crochet\, embroider\, needlepoint\, or any other textile crafting\, this is the place for you! This is a weekly lab that is open on Tuesdays from 5:30 – 7:30 p.m. This is a collaborative\, inter-generational crafting group intended for kids\, teens\, and adults. Children under 12 must be accompanied by an adult.
URL:https://taylor.lib.mi.us/event/2023-06-27-2023-10-03-2024-07-02-2025-06-03-2025-07-01-2025-08-19/
LOCATION:Community Rooms (Papp & Trolley)\, 12303 Pardee Road\, Taylor\, MI\, 48180\, United States
CATEGORIES:Adults,Teens,Youth & Families
ORGANIZER;CN="Hailey Boyer":MAILTO:hboyer@cityoftaylormi.gov
END:VEVENT
END:VCALENDAR