BEGIN:VCALENDAR
VERSION:2.0
PRODID:-//Taylor Community Library - ECPv6.15.20//NONSGML v1.0//EN
CALSCALE:GREGORIAN
METHOD:PUBLISH
X-WR-CALNAME:Taylor Community Library
X-ORIGINAL-URL:https://taylor.lib.mi.us
X-WR-CALDESC:Events for Taylor Community Library
REFRESH-INTERVAL;VALUE=DURATION:PT1H
X-Robots-Tag:noindex
X-PUBLISHED-TTL:PT1H
BEGIN:VTIMEZONE
TZID:America/Detroit
BEGIN:DAYLIGHT
TZOFFSETFROM:-0500
TZOFFSETTO:-0400
TZNAME:EDT
DTSTART:20240310T070000
END:DAYLIGHT
BEGIN:STANDARD
TZOFFSETFROM:-0400
TZOFFSETTO:-0500
TZNAME:EST
DTSTART:20241103T060000
END:STANDARD
BEGIN:DAYLIGHT
TZOFFSETFROM:-0500
TZOFFSETTO:-0400
TZNAME:EDT
DTSTART:20250309T070000
END:DAYLIGHT
BEGIN:STANDARD
TZOFFSETFROM:-0400
TZOFFSETTO:-0500
TZNAME:EST
DTSTART:20251102T060000
END:STANDARD
BEGIN:DAYLIGHT
TZOFFSETFROM:-0500
TZOFFSETTO:-0400
TZNAME:EDT
DTSTART:20260308T070000
END:DAYLIGHT
BEGIN:STANDARD
TZOFFSETFROM:-0400
TZOFFSETTO:-0500
TZNAME:EST
DTSTART:20261101T060000
END:STANDARD
END:VTIMEZONE
BEGIN:VEVENT
DTSTART;TZID=America/Detroit:20250913T130000
DTEND;TZID=America/Detroit:20250913T140000
DTSTAMP:20260423T183704
CREATED:20250613T164134Z
LAST-MODIFIED:20250613T164134Z
UID:17522-1757768400-1757772000@taylor.lib.mi.us
SUMMARY:Grand Camp
DESCRIPTION:Grand Camp\nJoin us in celebration Grandparents Day with one last camping trip of the year with Grandmas & Grandpas. This is a camping themed event. There will be snacks\, crafts\, and photo ops so come make some amazing memories  with some of the people you love most! \nThis event in intended for: Kids and Families
URL:https://taylor.lib.mi.us/event/grand-camp/
LOCATION:Community Rooms (Papp & Trolley)\, 12303 Pardee Road\, Taylor\, MI\, 48180\, United States
CATEGORIES:Youth & Families
ORGANIZER;CN="Carolyn Somerville-Jones":MAILTO:csomerville@cityoftaylormi.gov
END:VEVENT
BEGIN:VEVENT
DTSTART;TZID=America/Detroit:20250913T150000
DTEND;TZID=America/Detroit:20250913T170000
DTSTAMP:20260423T183704
CREATED:20250613T164203Z
LAST-MODIFIED:20250821T163409Z
UID:17233-1757775600-1757782800@taylor.lib.mi.us
SUMMARY:Flashback Frights Movie Day
DESCRIPTION:Flashback Frights Movie Day\nTreat yourself to a free\, frightening film\, where you don’t have to bother with sneaking in snacks. Come join us\, bring your own snacks\, and enjoy some time away from home. We will be watching Frankenweenie (PG). All ages welcome to join us! \n \nThis event in intended for: All ages
URL:https://taylor.lib.mi.us/event/flashback-frights-movie-day-2/
LOCATION:Community Rooms (Papp & Trolley)\, 12303 Pardee Road\, Taylor\, MI\, 48180\, United States
CATEGORIES:Adults,Teens,Youth & Families
END:VEVENT
END:VCALENDAR