BEGIN:VCALENDAR
VERSION:2.0
PRODID:-//Taylor Community Library - ECPv6.15.20//NONSGML v1.0//EN
CALSCALE:GREGORIAN
METHOD:PUBLISH
X-ORIGINAL-URL:https://taylor.lib.mi.us
X-WR-CALDESC:Events for Taylor Community Library
REFRESH-INTERVAL;VALUE=DURATION:PT1H
X-Robots-Tag:noindex
X-PUBLISHED-TTL:PT1H
BEGIN:VTIMEZONE
TZID:America/Detroit
BEGIN:DAYLIGHT
TZOFFSETFROM:-0500
TZOFFSETTO:-0400
TZNAME:EDT
DTSTART:20240310T070000
END:DAYLIGHT
BEGIN:STANDARD
TZOFFSETFROM:-0400
TZOFFSETTO:-0500
TZNAME:EST
DTSTART:20241103T060000
END:STANDARD
BEGIN:DAYLIGHT
TZOFFSETFROM:-0500
TZOFFSETTO:-0400
TZNAME:EDT
DTSTART:20250309T070000
END:DAYLIGHT
BEGIN:STANDARD
TZOFFSETFROM:-0400
TZOFFSETTO:-0500
TZNAME:EST
DTSTART:20251102T060000
END:STANDARD
BEGIN:DAYLIGHT
TZOFFSETFROM:-0500
TZOFFSETTO:-0400
TZNAME:EDT
DTSTART:20260308T070000
END:DAYLIGHT
BEGIN:STANDARD
TZOFFSETFROM:-0400
TZOFFSETTO:-0500
TZNAME:EST
DTSTART:20261101T060000
END:STANDARD
END:VTIMEZONE
BEGIN:VEVENT
DTSTART;VALUE=DATE:20250918
DTEND;VALUE=DATE:20250920
DTSTAMP:20260422T092527
CREATED:20250918T220254Z
LAST-MODIFIED:20250918T220254Z
UID:18849-1758153600-1758326399@taylor.lib.mi.us
SUMMARY:LIBRARY CLOSED
DESCRIPTION:LIBRARY CLOSED\nDue to unexpected parking lot maintenance. The library will try to open for a partial day on Friday\, September 18th in the afternoon if possible. We apologize for the inconvenience.
URL:https://taylor.lib.mi.us/event/library-closed-14/
LOCATION:Community Rooms (Papp & Trolley)\, 12303 Pardee Road\, Taylor\, MI\, 48180\, United States
CATEGORIES:Adults,Teens,Youth & Families
END:VEVENT
BEGIN:VEVENT
DTSTART;TZID=America/Detroit:20250918T130000
DTEND;TZID=America/Detroit:20250918T140000
DTSTAMP:20260422T092527
CREATED:20250613T164233Z
LAST-MODIFIED:20250917T170641Z
UID:17299-1758200400-1758204000@taylor.lib.mi.us
SUMMARY:Canceled - Adult Computer Classes: Keyboarding (Typing)
DESCRIPTION:Canceled – Adult Computer Classes: Keyboarding (Typing)\nJoin us for our Keyboarding (Typing) class! This is the second installment of our Fall Computer Class series\, where we will go over typing basics and using the keyboard. The class will be held on the Youth Side Computers\, on a first come\, first served basis. The class will be held Thursday\, September 18th\, from 1:00-2:00 P.M. \nThis event in intended for: Adults
URL:https://taylor.lib.mi.us/event/adult-computer-classes-keyboarding-typing/
LOCATION:Youth Section\, 12303 Pardee Road\, Taylor\, MI\, 48180\, United States
CATEGORIES:Adults
ORGANIZER;CN="Hailey Boyer":MAILTO:hboyer@cityoftaylormi.gov
END:VEVENT
END:VCALENDAR