BEGIN:VCALENDAR
VERSION:2.0
PRODID:-//Taylor Community Library - ECPv6.15.20//NONSGML v1.0//EN
CALSCALE:GREGORIAN
METHOD:PUBLISH
X-ORIGINAL-URL:https://taylor.lib.mi.us
X-WR-CALDESC:Events for Taylor Community Library
REFRESH-INTERVAL;VALUE=DURATION:PT1H
X-Robots-Tag:noindex
X-PUBLISHED-TTL:PT1H
BEGIN:VTIMEZONE
TZID:America/Detroit
BEGIN:DAYLIGHT
TZOFFSETFROM:-0500
TZOFFSETTO:-0400
TZNAME:EDT
DTSTART:20240310T070000
END:DAYLIGHT
BEGIN:STANDARD
TZOFFSETFROM:-0400
TZOFFSETTO:-0500
TZNAME:EST
DTSTART:20241103T060000
END:STANDARD
BEGIN:DAYLIGHT
TZOFFSETFROM:-0500
TZOFFSETTO:-0400
TZNAME:EDT
DTSTART:20250309T070000
END:DAYLIGHT
BEGIN:STANDARD
TZOFFSETFROM:-0400
TZOFFSETTO:-0500
TZNAME:EST
DTSTART:20251102T060000
END:STANDARD
BEGIN:DAYLIGHT
TZOFFSETFROM:-0500
TZOFFSETTO:-0400
TZNAME:EDT
DTSTART:20260308T070000
END:DAYLIGHT
BEGIN:STANDARD
TZOFFSETFROM:-0400
TZOFFSETTO:-0500
TZNAME:EST
DTSTART:20261101T060000
END:STANDARD
END:VTIMEZONE
BEGIN:VEVENT
DTSTART;TZID=America/Detroit:20251002T100000
DTEND;TZID=America/Detroit:20251002T190000
DTSTAMP:20260423T055034
CREATED:20250911T225216Z
LAST-MODIFIED:20250911T225216Z
UID:18470-1759399200-1759431600@taylor.lib.mi.us
SUMMARY:Puzzle Exchange
DESCRIPTION:Puzzle Exchange\nTired of doing the same old puzzles? Stop by our puzzle exchange and swap them for new ones! From 10am till 7pm we will have one of our community rooms designated for puzzle swapping. Simply stop in\, place the puzzles you no longer want on the table\, and grab the ones you do want. There is no limit to how many puzzles you can drop off or take home. Don’t have any puzzles to donate? Feel free to stop by any way and see if there is something you’d like to take home. \nTHE FINE PRINT: Please only donate puzzles that have all their pieces to the best of your knowledge. Any puzzles not taken by the end of the event will either be put in our puzzle collection for circulation or recycled. You can drop off your puzzles ahead of time as early as Monday\, September 29th. \nThis event is intended for: All ages
URL:https://taylor.lib.mi.us/event/puzzle-exchange-2/
LOCATION:Community Rooms (Papp & Trolley)\, 12303 Pardee Road\, Taylor\, MI\, 48180\, United States
CATEGORIES:Adults,Teens,Youth & Families
ORGANIZER;CN="Becky Price":MAILTO:bprice@cityoftaylormi.gov
END:VEVENT
END:VCALENDAR