BEGIN:VCALENDAR
VERSION:2.0
PRODID:-//Taylor Community Library - ECPv6.15.20//NONSGML v1.0//EN
CALSCALE:GREGORIAN
METHOD:PUBLISH
X-WR-CALNAME:Taylor Community Library
X-ORIGINAL-URL:https://taylor.lib.mi.us
X-WR-CALDESC:Events for Taylor Community Library
REFRESH-INTERVAL;VALUE=DURATION:PT1H
X-Robots-Tag:noindex
X-PUBLISHED-TTL:PT1H
BEGIN:VTIMEZONE
TZID:America/Detroit
BEGIN:DAYLIGHT
TZOFFSETFROM:-0500
TZOFFSETTO:-0400
TZNAME:EDT
DTSTART:20240310T070000
END:DAYLIGHT
BEGIN:STANDARD
TZOFFSETFROM:-0400
TZOFFSETTO:-0500
TZNAME:EST
DTSTART:20241103T060000
END:STANDARD
BEGIN:DAYLIGHT
TZOFFSETFROM:-0500
TZOFFSETTO:-0400
TZNAME:EDT
DTSTART:20250309T070000
END:DAYLIGHT
BEGIN:STANDARD
TZOFFSETFROM:-0400
TZOFFSETTO:-0500
TZNAME:EST
DTSTART:20251102T060000
END:STANDARD
BEGIN:DAYLIGHT
TZOFFSETFROM:-0500
TZOFFSETTO:-0400
TZNAME:EDT
DTSTART:20260308T070000
END:DAYLIGHT
BEGIN:STANDARD
TZOFFSETFROM:-0400
TZOFFSETTO:-0500
TZNAME:EST
DTSTART:20261101T060000
END:STANDARD
END:VTIMEZONE
BEGIN:VEVENT
DTSTART;TZID=America/Detroit:20251009T130000
DTEND;TZID=America/Detroit:20251009T140000
DTSTAMP:20260421T162429
CREATED:20250613T203029Z
LAST-MODIFIED:20250902T203505Z
UID:17303-1760014800-1760018400@taylor.lib.mi.us
SUMMARY:Adult Computer Classes: Email Basics
DESCRIPTION:Adult Computer Classes: Email Basics\nJoin us in our fourth installment of the Fall Computer Class series! This class will focus on all you need to know to set-up and operate an email account. The class will be located at the Youth Computers on Thursday\, October 9th\, from 1:00-2:00 P.M. It will be offered on a first come\, first served basis. \nThis event is intended for:
URL:https://taylor.lib.mi.us/event/adult-computer-classes-email-basics/
LOCATION:Youth Section\, 12303 Pardee Road\, Taylor\, MI\, 48180\, United States
CATEGORIES:Adults
ORGANIZER;CN="Hailey Boyer":MAILTO:hboyer@cityoftaylormi.gov
END:VEVENT
BEGIN:VEVENT
DTSTART;TZID=America/Detroit:20251009T180000
DTEND;TZID=America/Detroit:20251009T193000
DTSTAMP:20260421T162429
CREATED:20250911T224115Z
LAST-MODIFIED:20250911T224115Z
UID:18434-1760032800-1760038200@taylor.lib.mi.us
SUMMARY:T(w)een Book Club
DESCRIPTION:T(w)een Book Club\nT(w)een Book Club is a monthly book club suggested for tweens and teens ages 12-17 where we will read age-appropriate titles from all genres\, have a snack\, and do a book-related activity! \nCopies of our monthly book will be placed on hold and can be picked up from our front desk before our meeting. Most of the time they are also available on Hoopla or Libby \nWe will take time to share thoughts on the book and chat about our general reading interests! \nThis month’s book is The Curse of the Eelgrass Bog by Mary Averling
URL:https://taylor.lib.mi.us/event/tween-book-club/
LOCATION:Community Rooms (Papp & Trolley)\, 12303 Pardee Road\, Taylor\, MI\, 48180\, United States
CATEGORIES:Teens,Youth & Families
ORGANIZER;CN="Jasmine Riehl":MAILTO:jriehl@cityoftaylormi.gov
END:VEVENT
BEGIN:VEVENT
DTSTART;TZID=America/Detroit:20251009T180000
DTEND;TZID=America/Detroit:20251009T200000
DTSTAMP:20260421T162429
CREATED:20250911T232346Z
LAST-MODIFIED:20251008T174150Z
UID:18472-1760032800-1760040000@taylor.lib.mi.us
SUMMARY:Spooky Watercolor*
DESCRIPTION:Spooky Watercolor*\nPainting with watercolors can seem intimidating and difficult sometimes but always an exploration in creative expression. \nJoin this informal and relaxed art class to paint step-by-step; some watercolor and color mixing techniques will be explained\, demonstrated\, and used. All skill levels welcome and all supplies will be provided. If you already own a set of watercolor paintbrushes and paints\, feel welcome to bring and use them instead! \nTheme: Spooky Season \nThis event is intended for adults. *Registration is FULL\n 
URL:https://taylor.lib.mi.us/event/spooky-watercolor/
LOCATION:Community Rooms (Papp & Trolley)\, 12303 Pardee Road\, Taylor\, MI\, 48180\, United States
CATEGORIES:Adults
ORGANIZER;CN="Becky Price":MAILTO:bprice@cityoftaylormi.gov
END:VEVENT
END:VCALENDAR