BEGIN:VCALENDAR
VERSION:2.0
PRODID:-//Taylor Community Library - ECPv6.15.20//NONSGML v1.0//EN
CALSCALE:GREGORIAN
METHOD:PUBLISH
X-WR-CALNAME:Taylor Community Library
X-ORIGINAL-URL:https://taylor.lib.mi.us
X-WR-CALDESC:Events for Taylor Community Library
REFRESH-INTERVAL;VALUE=DURATION:PT1H
X-Robots-Tag:noindex
X-PUBLISHED-TTL:PT1H
BEGIN:VTIMEZONE
TZID:America/Detroit
BEGIN:DAYLIGHT
TZOFFSETFROM:-0500
TZOFFSETTO:-0400
TZNAME:EDT
DTSTART:20240310T070000
END:DAYLIGHT
BEGIN:STANDARD
TZOFFSETFROM:-0400
TZOFFSETTO:-0500
TZNAME:EST
DTSTART:20241103T060000
END:STANDARD
BEGIN:DAYLIGHT
TZOFFSETFROM:-0500
TZOFFSETTO:-0400
TZNAME:EDT
DTSTART:20250309T070000
END:DAYLIGHT
BEGIN:STANDARD
TZOFFSETFROM:-0400
TZOFFSETTO:-0500
TZNAME:EST
DTSTART:20251102T060000
END:STANDARD
BEGIN:DAYLIGHT
TZOFFSETFROM:-0500
TZOFFSETTO:-0400
TZNAME:EDT
DTSTART:20260308T070000
END:DAYLIGHT
BEGIN:STANDARD
TZOFFSETFROM:-0400
TZOFFSETTO:-0500
TZNAME:EST
DTSTART:20261101T060000
END:STANDARD
END:VTIMEZONE
BEGIN:VEVENT
DTSTART;TZID=America/Detroit:20251013T110000
DTEND;TZID=America/Detroit:20251013T130000
DTSTAMP:20260421T223741
CREATED:20250613T212033Z
LAST-MODIFIED:20250903T192724Z
UID:18350-1760353200-1760360400@taylor.lib.mi.us
SUMMARY:Hooks & Needles
DESCRIPTION:Hooks & Needles\n\nCome and join other yarn enthusiasts in our community who love to knit and crochet.  This is a weekly event to share ideas\, projects\, and do a little yarning.  Bring your own projects to work on.\n\nThis event is intended for: Adults\, but anyone who knits’ or crochets’ is welcome!
URL:https://taylor.lib.mi.us/event/2025-09-29-2-2025-10-13/
LOCATION:Community Rooms (Papp & Trolley)\, 12303 Pardee Road\, Taylor\, MI\, 48180\, United States
CATEGORIES:Adults
ORGANIZER;CN="Stephanie Herm":MAILTO:sherm@cityoftaylormi.gov
END:VEVENT
BEGIN:VEVENT
DTSTART;TZID=America/Detroit:20251013T160000
DTEND;TZID=America/Detroit:20251013T170000
DTSTAMP:20260421T223741
CREATED:20250902T203517Z
LAST-MODIFIED:20250902T203517Z
UID:18138-1760371200-1760374800@taylor.lib.mi.us
SUMMARY:Creative Writing Challenge
DESCRIPTION:Creative Writing Challenge\nCalling all creative writers! We will meet at one of the front Community Rooms the second Monday of every month\, from 4:00-5:00p.m.  Everyone will be given a prompt\, and your job will be to take this prompt to find words on signs\, pictures\, artwork\, book spines\, overheard phrases/quotes\, etc. on library grounds and write them down.  When everyone has something\, they will come back to the room and we will put together what we have found.
URL:https://taylor.lib.mi.us/event/creative-writing-challenge-13/
LOCATION:Community Rooms (Papp & Trolley)\, 12303 Pardee Road\, Taylor\, MI\, 48180\, United States
CATEGORIES:Adults,Teens
ORGANIZER;CN="Becky Price":MAILTO:bprice@cityoftaylormi.gov
END:VEVENT
BEGIN:VEVENT
DTSTART;TZID=America/Detroit:20251013T180000
DTEND;TZID=America/Detroit:20251013T190000
DTSTAMP:20260421T223741
CREATED:20250613T165101Z
LAST-MODIFIED:20250917T171418Z
UID:18639-1760378400-1760382000@taylor.lib.mi.us
SUMMARY:LEGO Club
DESCRIPTION:LEGO Club\nDo you love Legos? Join our Lego Club! Every Monday at 6 p.m. come in and start building.  Everyone is welcome to free build.  If you are up for it\, we will provide a challenge or theme for you to make something related to that week’s challenge or theme. We will display your creation for one week and will tear them apart at the next event. This event is open to kids\, tweens\, teens\, and parents. No registration is required\, just stop in and build!
URL:https://taylor.lib.mi.us/event/2025-09-29-2025-10-13/
LOCATION:Community Rooms (Papp & Trolley)\, 12303 Pardee Road\, Taylor\, MI\, 48180\, United States
CATEGORIES:Youth & Families
ORGANIZER;CN="Carolyn Somerville-Jones":MAILTO:csomerville@cityoftaylormi.gov
END:VEVENT
BEGIN:VEVENT
DTSTART;TZID=America/Detroit:20251013T183000
DTEND;TZID=America/Detroit:20251013T193000
DTSTAMP:20260421T223741
CREATED:20250911T233249Z
LAST-MODIFIED:20250911T233249Z
UID:18473-1760380200-1760383800@taylor.lib.mi.us
SUMMARY:Cryptids Decrypted
DESCRIPTION:Cryptids Decrypted\nA history of curious cases when mysterious creatures turned out to be all too real! Everyone knows famous Cryptids like Bigfoot or the Loch Ness Monster\, but there are many more mysterious creatures around the world! From not-so-extinct fish to animals now common to zoos the world over; hear the stories of animal demystification. If you described a kangaroo to someone who had never seen one before\, would they believe you? \nWant a reminder call about this event? Fill out the form below:\nPlease enable JavaScript in your browser to complete this form.Name *FirstLastPhone Number *City you live in *You do not need to be a Taylor resident to attendSubmit
URL:https://taylor.lib.mi.us/event/cryptids-decrypted/
LOCATION:Community Rooms (Papp & Trolley)\, 12303 Pardee Road\, Taylor\, MI\, 48180\, United States
CATEGORIES:Adults
ORGANIZER;CN="Becky Price":MAILTO:bprice@cityoftaylormi.gov
END:VEVENT
END:VCALENDAR