BEGIN:VCALENDAR
VERSION:2.0
PRODID:-//Taylor Community Library - ECPv6.15.20//NONSGML v1.0//EN
CALSCALE:GREGORIAN
METHOD:PUBLISH
X-WR-CALNAME:Taylor Community Library
X-ORIGINAL-URL:https://taylor.lib.mi.us
X-WR-CALDESC:Events for Taylor Community Library
REFRESH-INTERVAL;VALUE=DURATION:PT1H
X-Robots-Tag:noindex
X-PUBLISHED-TTL:PT1H
BEGIN:VTIMEZONE
TZID:America/Detroit
BEGIN:DAYLIGHT
TZOFFSETFROM:-0500
TZOFFSETTO:-0400
TZNAME:EDT
DTSTART:20240310T070000
END:DAYLIGHT
BEGIN:STANDARD
TZOFFSETFROM:-0400
TZOFFSETTO:-0500
TZNAME:EST
DTSTART:20241103T060000
END:STANDARD
BEGIN:DAYLIGHT
TZOFFSETFROM:-0500
TZOFFSETTO:-0400
TZNAME:EDT
DTSTART:20250309T070000
END:DAYLIGHT
BEGIN:STANDARD
TZOFFSETFROM:-0400
TZOFFSETTO:-0500
TZNAME:EST
DTSTART:20251102T060000
END:STANDARD
BEGIN:DAYLIGHT
TZOFFSETFROM:-0500
TZOFFSETTO:-0400
TZNAME:EDT
DTSTART:20260308T070000
END:DAYLIGHT
BEGIN:STANDARD
TZOFFSETFROM:-0400
TZOFFSETTO:-0500
TZNAME:EST
DTSTART:20261101T060000
END:STANDARD
END:VTIMEZONE
BEGIN:VEVENT
DTSTART;TZID=America/Detroit:20251015T150000
DTEND;TZID=America/Detroit:20251015T160000
DTSTAMP:20260423T233157
CREATED:20250821T233213Z
LAST-MODIFIED:20250821T233213Z
UID:18293-1760540400-1760544000@taylor.lib.mi.us
SUMMARY:Chair Exercise for Seniors
DESCRIPTION:Chair Exercise for Seniors\n  \nJoin us for this 6-week chair exercise course where we will focus on gentle movement\, balance\, and mindful mobility. Dates include: September 10\, 17\, 24\, October 1\, 8\, and 15. This event is partnered by Leaders Advancing & Helping Communities. \nThis event is intended for: Seniors \nWant a reminder call for this program? Fill out our form:\nPlease enable JavaScript in your browser to complete this form.Name *FirstLastPhone Number *City you live in *You do not need to be a Taylor resident to attendHow often would you like a reminder call? *Remind me about the first class I attendRemind me about all the classes in this seriesSubmit
URL:https://taylor.lib.mi.us/event/2025-10-15/
LOCATION:Community Rooms (Papp & Trolley)\, 12303 Pardee Road\, Taylor\, MI\, 48180\, United States
CATEGORIES:Adults
ORGANIZER;CN="Becky Price":MAILTO:bprice@cityoftaylormi.gov
END:VEVENT
BEGIN:VEVENT
DTSTART;TZID=America/Detroit:20251015T173000
DTEND;TZID=America/Detroit:20251015T193000
DTSTAMP:20260423T233157
CREATED:20250510T150020Z
LAST-MODIFIED:20250911T224829Z
UID:18478-1760549400-1760556600@taylor.lib.mi.us
SUMMARY:Silent Book Club
DESCRIPTION:Silent Book Club\nEver wanted to join a book club\, but felt like it was too much pressure? Join this super low-key book club where you show up with a book of your choice and read! At each meeting the first and last 15 minutes will be designated for sharing what you’re reading/socializing with other members and then the hour and half in-between will be designated for reading. We will have an ambience room playing at low volume in the background and different options for seating. Feel free to bring a snack\, beverage\, or blanket to make this event extra cozy. This book club meets every Wednesday. \nThis event is intended for: Adults
URL:https://taylor.lib.mi.us/event/2024-12-04-2025-07-02-2025-09-10-2025-10-01-2025-10-15/
LOCATION:Community Rooms (Papp & Trolley)\, 12303 Pardee Road\, Taylor\, MI\, 48180\, United States
CATEGORIES:Adults
ORGANIZER;CN="Becky Price":MAILTO:bprice@cityoftaylormi.gov
END:VEVENT
BEGIN:VEVENT
DTSTART;TZID=America/Detroit:20251015T180000
DTEND;TZID=America/Detroit:20251015T190000
DTSTAMP:20260423T233157
CREATED:20250613T203415Z
LAST-MODIFIED:20250902T203536Z
UID:17224-1760551200-1760554800@taylor.lib.mi.us
SUMMARY:Adult Book Club*
DESCRIPTION:Adult Book Club*\nJoin us as we read fiction from all walks of life and perspectives. For our next discussion\, we’ll be reading The Lake House by Kate Morton. \n \nA lush\, atmospheric tale of intertwined destinies\, The Lake House is an enthralling\, thoroughly satisfying read that explores an unsolved kidnapping that occurred between the World Wars at an isolated country house in England. \n\n\n\n*Please call ahead to make sure we have room for new members
URL:https://taylor.lib.mi.us/event/adult-book-club-15/
LOCATION:Community Rooms (Papp & Trolley)\, 12303 Pardee Road\, Taylor\, MI\, 48180\, United States
CATEGORIES:Adults
ORGANIZER;CN="Hailey Boyer":MAILTO:hboyer@cityoftaylormi.gov
END:VEVENT
END:VCALENDAR