BEGIN:VCALENDAR
VERSION:2.0
PRODID:-//Taylor Community Library - ECPv6.15.20//NONSGML v1.0//EN
CALSCALE:GREGORIAN
METHOD:PUBLISH
X-ORIGINAL-URL:https://taylor.lib.mi.us
X-WR-CALDESC:Events for Taylor Community Library
REFRESH-INTERVAL;VALUE=DURATION:PT1H
X-Robots-Tag:noindex
X-PUBLISHED-TTL:PT1H
BEGIN:VTIMEZONE
TZID:America/Detroit
BEGIN:DAYLIGHT
TZOFFSETFROM:-0500
TZOFFSETTO:-0400
TZNAME:EDT
DTSTART:20240310T070000
END:DAYLIGHT
BEGIN:STANDARD
TZOFFSETFROM:-0400
TZOFFSETTO:-0500
TZNAME:EST
DTSTART:20241103T060000
END:STANDARD
BEGIN:DAYLIGHT
TZOFFSETFROM:-0500
TZOFFSETTO:-0400
TZNAME:EDT
DTSTART:20250309T070000
END:DAYLIGHT
BEGIN:STANDARD
TZOFFSETFROM:-0400
TZOFFSETTO:-0500
TZNAME:EST
DTSTART:20251102T060000
END:STANDARD
BEGIN:DAYLIGHT
TZOFFSETFROM:-0500
TZOFFSETTO:-0400
TZNAME:EDT
DTSTART:20260308T070000
END:DAYLIGHT
BEGIN:STANDARD
TZOFFSETFROM:-0400
TZOFFSETTO:-0500
TZNAME:EST
DTSTART:20261101T060000
END:STANDARD
END:VTIMEZONE
BEGIN:VEVENT
DTSTART;TZID=America/Detroit:20251022T120000
DTEND;TZID=America/Detroit:20251022T130000
DTSTAMP:20260422T151853
CREATED:20250903T193147Z
LAST-MODIFIED:20250903T193225Z
UID:18375-1761134400-1761138000@taylor.lib.mi.us
SUMMARY:VIP Support Group
DESCRIPTION:VIP Support Group (Visually Impaired Persons)\nThe VIP meeting is a monthly support group for people experiencing vision loss and their caregivers. Each month\, we meet to discuss important topics and connect over shared concerns\, with occasional speakers. \nMeet in person or join in remotely. \nTo join remotely by phone\, please call 267-807-9601 and use Access Code: 965803\, or join virtually by visiting bit.ly/TCLbtbcall
URL:https://taylor.lib.mi.us/event/vip-support-group/
LOCATION:Trolley (North) Unity Room\, 12303 Pardee Road\, Taylor\, MI\, 48180\, United States
CATEGORIES:Adults
END:VEVENT
BEGIN:VEVENT
DTSTART;TZID=America/Detroit:20251022T150000
DTEND;TZID=America/Detroit:20251022T160000
DTSTAMP:20260422T151853
CREATED:20251006T182748Z
LAST-MODIFIED:20251006T182902Z
UID:18966-1761145200-1761148800@taylor.lib.mi.us
SUMMARY:Chair Yoga for Seniors
DESCRIPTION:Chair Yoga for Seniors\nJoin us for this 6-week chair yoga course where we will focus on gentle movement and mindful mobility. Dates include: October: 22 & 29\, November: 5\, 12\, 19\, and December 3. This event is partnered by Leaders Advancing & Helping Communities. \nThis event is intended for: Seniors (55+ or anyone who considers themselves a senior) \nWant a reminder call for the first week you attend this program? Fill out our form:\nPlease enable JavaScript in your browser to complete this form.Name *FirstLastPhone Number *City you live in *You do NOT need to be a Taylor resident to attendSubmit
URL:https://taylor.lib.mi.us/event/chair-yoga-for-seniors-2/
LOCATION:Community Rooms (Papp & Trolley)\, 12303 Pardee Road\, Taylor\, MI\, 48180\, United States
CATEGORIES:Adults
ORGANIZER;CN="Becky Price":MAILTO:bprice@cityoftaylormi.gov
END:VEVENT
BEGIN:VEVENT
DTSTART;TZID=America/Detroit:20251022T160000
DTEND;TZID=America/Detroit:20251022T180000
DTSTAMP:20260422T151853
CREATED:20221208T231101Z
LAST-MODIFIED:20250911T224841Z
UID:18441-1761148800-1761156000@taylor.lib.mi.us
SUMMARY:Teen Volunteer Group*
DESCRIPTION:Teen Volunteer Group*\nAre you a teen who’s looking for volunteer hours? Join our Teen Volunteer Group! \nTeen volunteers help plan\, implement\, and promote ways to improve services offered at TCL. Joining our group builds your resume\, earns you volunteer hours\, and gives you a chance to be heard. Tasks will include helping the library with collection maintenance\, programming prep\, maintaining the TCL Tiny Taylor Library\, and more! Teens must be ages 14-18. \nWe meet every other Wednesday at 4 p.m. in person at the library. \n*Want to earn volunteer hours for this? Visit our Volunteer page to see if space is available and to sign up! 
URL:https://taylor.lib.mi.us/event/teen-volunteer-group-2023-09-13-2023-09-27-2023-10-11-2024-07-03-2025-03-12-2025-04-09-2025-07-02-2025-09-24-2025-10-22/
LOCATION:Community Rooms (Papp & Trolley)\, 12303 Pardee Road\, Taylor\, MI\, 48180\, United States
CATEGORIES:Teens
ORGANIZER;CN="Jasmine Riehl":MAILTO:jriehl@cityoftaylormi.gov
END:VEVENT
BEGIN:VEVENT
DTSTART;TZID=America/Detroit:20251022T173000
DTEND;TZID=America/Detroit:20251022T193000
DTSTAMP:20260422T151853
CREATED:20250510T150020Z
LAST-MODIFIED:20250911T224828Z
UID:18479-1761154200-1761161400@taylor.lib.mi.us
SUMMARY:Silent Book Club
DESCRIPTION:Silent Book Club\nEver wanted to join a book club\, but felt like it was too much pressure? Join this super low-key book club where you show up with a book of your choice and read! At each meeting the first and last 15 minutes will be designated for sharing what you’re reading/socializing with other members and then the hour and half in-between will be designated for reading. We will have an ambience room playing at low volume in the background and different options for seating. Feel free to bring a snack\, beverage\, or blanket to make this event extra cozy. This book club meets every Wednesday. \nThis event is intended for: Adults
URL:https://taylor.lib.mi.us/event/2024-12-04-2025-07-02-2025-09-10-2025-10-01-2025-10-22/
LOCATION:Community Rooms (Papp & Trolley)\, 12303 Pardee Road\, Taylor\, MI\, 48180\, United States
CATEGORIES:Adults
ORGANIZER;CN="Becky Price":MAILTO:bprice@cityoftaylormi.gov
END:VEVENT
BEGIN:VEVENT
DTSTART;TZID=America/Detroit:20251022T180000
DTEND;TZID=America/Detroit:20251022T193000
DTSTAMP:20260422T151853
CREATED:20250911T224151Z
LAST-MODIFIED:20250917T194702Z
UID:18423-1761156000-1761161400@taylor.lib.mi.us
SUMMARY:Special Effects Makeup Workshop*
DESCRIPTION:Special Effects Makeup Workshop*\nJoin special effects makeup artist\, Alex Thomas\, to learn how to do your own gruesome Halloween makeup just in time to enhance your costume. You’ll learn all about how to take simple household items and use them to transform your face and body into something of nightmares. This event is for kids\, tweens\, and teens ages 8-17. Registration is required. Registration will open Wednesday\, October 8 at 10:00am\, call or stop in the library to sign up.
URL:https://taylor.lib.mi.us/event/special-effects-makeup-workshop-2/
LOCATION:Community Rooms (Papp & Trolley)\, 12303 Pardee Road\, Taylor\, MI\, 48180\, United States
CATEGORIES:Teens,Youth & Families
ORGANIZER;CN="Jasmine Riehl":MAILTO:jriehl@cityoftaylormi.gov
END:VEVENT
END:VCALENDAR