BEGIN:VCALENDAR
VERSION:2.0
PRODID:-//Taylor Community Library - ECPv6.15.20//NONSGML v1.0//EN
CALSCALE:GREGORIAN
METHOD:PUBLISH
X-ORIGINAL-URL:https://taylor.lib.mi.us
X-WR-CALDESC:Events for Taylor Community Library
REFRESH-INTERVAL;VALUE=DURATION:PT1H
X-Robots-Tag:noindex
X-PUBLISHED-TTL:PT1H
BEGIN:VTIMEZONE
TZID:America/Detroit
BEGIN:DAYLIGHT
TZOFFSETFROM:-0500
TZOFFSETTO:-0400
TZNAME:EDT
DTSTART:20240310T070000
END:DAYLIGHT
BEGIN:STANDARD
TZOFFSETFROM:-0400
TZOFFSETTO:-0500
TZNAME:EST
DTSTART:20241103T060000
END:STANDARD
BEGIN:DAYLIGHT
TZOFFSETFROM:-0500
TZOFFSETTO:-0400
TZNAME:EDT
DTSTART:20250309T070000
END:DAYLIGHT
BEGIN:STANDARD
TZOFFSETFROM:-0400
TZOFFSETTO:-0500
TZNAME:EST
DTSTART:20251102T060000
END:STANDARD
BEGIN:DAYLIGHT
TZOFFSETFROM:-0500
TZOFFSETTO:-0400
TZNAME:EDT
DTSTART:20260308T070000
END:DAYLIGHT
BEGIN:STANDARD
TZOFFSETFROM:-0400
TZOFFSETTO:-0500
TZNAME:EST
DTSTART:20261101T060000
END:STANDARD
END:VTIMEZONE
BEGIN:VEVENT
DTSTART;TZID=America/Detroit:20251023T173000
DTEND;TZID=America/Detroit:20251023T193000
DTSTAMP:20260424T013034
CREATED:20250911T233608Z
LAST-MODIFIED:20251016T201842Z
UID:18475-1761240600-1761247800@taylor.lib.mi.us
SUMMARY:Thrifted Ghost Paintings*
DESCRIPTION:Thrifted Ghost Painting*\nJoin us for an Adult & Teen evening of spooky creativity with thrifted ghost paintings! We’ll provide the paint you just need to bring your own thrifted painting. If you have any question on what a thrifted painting is or where to get one\, feel free to call us. *Space is limited so please register below. This event is for ages 14+. \nREGISTRATION IS NOW FULL\, but feel free to register for the waitlist below:\nPlease enable JavaScript in your browser to complete this form.Name *FirstLastHow old are you? *1415161718+Phone NumberCity you live in *You do not need to be a Taylor resident to attendI understand that I need to bring my own thrifted painting *YesWould you like a reminder call close to the event? *YesNoReminder calls are usually the day before\, but might be the morning of.I understand that this registration only counts for one person and that I cannot bring any other guests with me that are not registered. (copy) *YesSubmit
URL:https://taylor.lib.mi.us/event/thrifted-ghost-paintings/
LOCATION:Community Rooms (Papp & Trolley)\, 12303 Pardee Road\, Taylor\, MI\, 48180\, United States
CATEGORIES:Adults,Teens
ORGANIZER;CN="Becky Price":MAILTO:bprice@cityoftaylormi.gov
END:VEVENT
END:VCALENDAR