BEGIN:VCALENDAR
VERSION:2.0
PRODID:-//Taylor Community Library - ECPv6.15.20//NONSGML v1.0//EN
CALSCALE:GREGORIAN
METHOD:PUBLISH
X-ORIGINAL-URL:https://taylor.lib.mi.us
X-WR-CALDESC:Events for Taylor Community Library
REFRESH-INTERVAL;VALUE=DURATION:PT1H
X-Robots-Tag:noindex
X-PUBLISHED-TTL:PT1H
BEGIN:VTIMEZONE
TZID:America/Detroit
BEGIN:DAYLIGHT
TZOFFSETFROM:-0500
TZOFFSETTO:-0400
TZNAME:EDT
DTSTART:20240310T070000
END:DAYLIGHT
BEGIN:STANDARD
TZOFFSETFROM:-0400
TZOFFSETTO:-0500
TZNAME:EST
DTSTART:20241103T060000
END:STANDARD
BEGIN:DAYLIGHT
TZOFFSETFROM:-0500
TZOFFSETTO:-0400
TZNAME:EDT
DTSTART:20250309T070000
END:DAYLIGHT
BEGIN:STANDARD
TZOFFSETFROM:-0400
TZOFFSETTO:-0500
TZNAME:EST
DTSTART:20251102T060000
END:STANDARD
BEGIN:DAYLIGHT
TZOFFSETFROM:-0500
TZOFFSETTO:-0400
TZNAME:EDT
DTSTART:20260308T070000
END:DAYLIGHT
BEGIN:STANDARD
TZOFFSETFROM:-0400
TZOFFSETTO:-0500
TZNAME:EST
DTSTART:20261101T060000
END:STANDARD
END:VTIMEZONE
BEGIN:VEVENT
DTSTART;TZID=America/Detroit:20251027T110000
DTEND;TZID=America/Detroit:20251027T130000
DTSTAMP:20260421T225451
CREATED:20250613T212033Z
LAST-MODIFIED:20250903T192742Z
UID:18352-1761562800-1761570000@taylor.lib.mi.us
SUMMARY:Hooks & Needles
DESCRIPTION:Hooks & Needles\n\nCome and join other yarn enthusiasts in our community who love to knit and crochet.  This is a weekly event to share ideas\, projects\, and do a little yarning.  Bring your own projects to work on.\n\nThis event is intended for: Adults\, but anyone who knits’ or crochets’ is welcome!
URL:https://taylor.lib.mi.us/event/2025-09-29-2-2025-10-27/
LOCATION:Community Rooms (Papp & Trolley)\, 12303 Pardee Road\, Taylor\, MI\, 48180\, United States
CATEGORIES:Adults
ORGANIZER;CN="Stephanie Herm":MAILTO:sherm@cityoftaylormi.gov
END:VEVENT
BEGIN:VEVENT
DTSTART;TZID=America/Detroit:20251027T160000
DTEND;TZID=America/Detroit:20251027T160000
DTSTAMP:20260421T225451
CREATED:20250613T165101Z
LAST-MODIFIED:20260401T161306Z
UID:18641-1761580800-1761580800@taylor.lib.mi.us
SUMMARY:Dino Daycare Storytime Drop-Off
DESCRIPTION:Dino Daycare Storytime Drop-Off\nJoin us for a dino themed Storytime and craft so you can drop your dino off to stay for a day they will go on many adventures throughout the library and dinos will go home the next day Tuesday July 28th. Every dino will go home with their very own library card\, and a mini scrapbook of all their adventures!
URL:https://taylor.lib.mi.us/event/2025-09-29-2025-10-27/
LOCATION:Community Rooms (Papp & Trolley)\, 12303 Pardee Road\, Taylor\, MI\, 48180\, United States
CATEGORIES:Youth & Families
ORGANIZER;CN="Carolyn Somerville-Jones":MAILTO:csomerville@cityoftaylormi.gov
END:VEVENT
BEGIN:VEVENT
DTSTART;TZID=America/Detroit:20251027T180000
DTEND;TZID=America/Detroit:20251027T190000
DTSTAMP:20260421T225451
CREATED:20250911T224213Z
LAST-MODIFIED:20251021T164251Z
UID:18425-1761588000-1761591600@taylor.lib.mi.us
SUMMARY:Author Visit: Johnathan Rand
DESCRIPTION:Author Visit: Johnathan Rand\nRenowned writer of the hit children’s Michigan and American Chillers chapter book series\, Johnathan Rand\, will be doing a talk on writing and reading all about the things that give you chills just before the spookiest night of the year. Registration is not required but is appreciated so we know how many people to expect. Please fill out this registration form if you plan on coming: Johnathan Rand Registration FormPlease enable JavaScript in your browser to complete this form.Name *FirstLast		\n			if Name the\n			\n		\n		Please leave a phone number if you want a reminder call and how many people you are bringing to the event.Submit
URL:https://taylor.lib.mi.us/event/author-visit-johnathan-rand/
LOCATION:Community Rooms (Papp & Trolley)\, 12303 Pardee Road\, Taylor\, MI\, 48180\, United States
CATEGORIES:Teens,Youth & Families
ORGANIZER;CN="Jasmine Riehl":MAILTO:jriehl@cityoftaylormi.gov
END:VEVENT
BEGIN:VEVENT
DTSTART;TZID=America/Detroit:20251027T180000
DTEND;TZID=America/Detroit:20251027T193000
DTSTAMP:20260421T225452
CREATED:20250911T230215Z
LAST-MODIFIED:20250911T234010Z
UID:18476-1761588000-1761593400@taylor.lib.mi.us
SUMMARY:Books & Bites Book Club*
DESCRIPTION:Books & Bites Book Club*\nBooks & Bites is a monthly book club that reads and discusses YA books with adult crossover and Adult books with teen crossover — anyone who is a fan of these genres can attend. Copies of the next book are passed out and checked out at each meeting. You can also get a copy from our front desk and most of the time they are also available on Hoopla or Libby. \nThis event is intended for: Adults \nThis month’s title: “Camp Damascus” by Chuck Tingle \n \nWelcome to Neverton\, Montana: home to a God-fearing community with a heart of gold. Nestled high up in the mountains is Camp Damascus\, the self-proclaimed “most effective” gay conversion camp in the country. Here\, a life free from sin awaits. But the secret behind that success is anything but holy. And they’ll scare you straight to hell. \n*This book club is currently waitlisted. To join our in-person meetings\, please fill out our waitlist form below. In the meantime\, feel free to join our Facebook group for announcements and general bookish chat. You can also participate virtually using the Fable app. \nPlease enable JavaScript in your browser to complete this form.Name *FirstLastLegal or PreferredAre Under 18 or 18+? *Under 1818+What are Your Pronouns? *She/HerHe/HimThey/ThemOtherWhat is Your Library Card Number? *		\n			Your have best\n			\n		\n		Who is Your Home Library? *What is Your Preferred Format? *Standard PrintLarge PrintBook on CDDigital Audiobook (Hoopla & Libby)Ebook (Hoopla & Libby)Are there any other formats you would be ok with?Standard PrintLarge PrintBook on CDAudiobook Digital (Hoopla & Libby)Ebook (Hoopla & Libby)What is the best way to contact you if we have a spot open? *TextCallEmailBased on how you answered above\, please provide your phone number or email address *Submit
URL:https://taylor.lib.mi.us/event/books-bites-book-club/
LOCATION:Community Rooms (Papp & Trolley)\, 12303 Pardee Road\, Taylor\, MI\, 48180\, United States
CATEGORIES:Adults
ORGANIZER;CN="Becky Price":MAILTO:bprice@cityoftaylormi.gov
END:VEVENT
END:VCALENDAR