BEGIN:VCALENDAR
VERSION:2.0
PRODID:-//Taylor Community Library - ECPv6.15.20//NONSGML v1.0//EN
CALSCALE:GREGORIAN
METHOD:PUBLISH
X-WR-CALNAME:Taylor Community Library
X-ORIGINAL-URL:https://taylor.lib.mi.us
X-WR-CALDESC:Events for Taylor Community Library
REFRESH-INTERVAL;VALUE=DURATION:PT1H
X-Robots-Tag:noindex
X-PUBLISHED-TTL:PT1H
BEGIN:VTIMEZONE
TZID:America/Detroit
BEGIN:DAYLIGHT
TZOFFSETFROM:-0500
TZOFFSETTO:-0400
TZNAME:EDT
DTSTART:20240310T070000
END:DAYLIGHT
BEGIN:STANDARD
TZOFFSETFROM:-0400
TZOFFSETTO:-0500
TZNAME:EST
DTSTART:20241103T060000
END:STANDARD
BEGIN:DAYLIGHT
TZOFFSETFROM:-0500
TZOFFSETTO:-0400
TZNAME:EDT
DTSTART:20250309T070000
END:DAYLIGHT
BEGIN:STANDARD
TZOFFSETFROM:-0400
TZOFFSETTO:-0500
TZNAME:EST
DTSTART:20251102T060000
END:STANDARD
BEGIN:DAYLIGHT
TZOFFSETFROM:-0500
TZOFFSETTO:-0400
TZNAME:EDT
DTSTART:20260308T070000
END:DAYLIGHT
BEGIN:STANDARD
TZOFFSETFROM:-0400
TZOFFSETTO:-0500
TZNAME:EST
DTSTART:20261101T060000
END:STANDARD
END:VTIMEZONE
BEGIN:VEVENT
DTSTART;TZID=America/Detroit:20251029T150000
DTEND;TZID=America/Detroit:20251029T160000
DTSTAMP:20260421T054957
CREATED:20251006T182750Z
LAST-MODIFIED:20251006T182750Z
UID:18968-1761750000-1761753600@taylor.lib.mi.us
SUMMARY:Chair Yoga for Seniors
DESCRIPTION:Chair Yoga for Seniors\nJoin us for this 6-week chair yoga course where we will focus on gentle movement and mindful mobility. Dates include: October: 22 & 29\, November: 5\, 12\, 19\, and December 3. This event is partnered by Leaders Advancing & Helping Communities. \nThis event is intended for: Seniors (55+ or anyone who considers themselves a senior) \nWant a reminder call for the first week you attend this program? Fill out our form:\nPlease enable JavaScript in your browser to complete this form.Name *FirstLastPhone Number *City you live in *You do NOT need to be a Taylor resident to attendSubmit
URL:https://taylor.lib.mi.us/event/2025-10-29/
LOCATION:Community Rooms (Papp & Trolley)\, 12303 Pardee Road\, Taylor\, MI\, 48180\, United States
CATEGORIES:Adults
ORGANIZER;CN="Becky Price":MAILTO:bprice@cityoftaylormi.gov
END:VEVENT
END:VCALENDAR