BEGIN:VCALENDAR
VERSION:2.0
PRODID:-//Taylor Community Library - ECPv6.15.20//NONSGML v1.0//EN
CALSCALE:GREGORIAN
METHOD:PUBLISH
X-WR-CALNAME:Taylor Community Library
X-ORIGINAL-URL:https://taylor.lib.mi.us
X-WR-CALDESC:Events for Taylor Community Library
REFRESH-INTERVAL;VALUE=DURATION:PT1H
X-Robots-Tag:noindex
X-PUBLISHED-TTL:PT1H
BEGIN:VTIMEZONE
TZID:America/Detroit
BEGIN:DAYLIGHT
TZOFFSETFROM:-0500
TZOFFSETTO:-0400
TZNAME:EDT
DTSTART:20240310T070000
END:DAYLIGHT
BEGIN:STANDARD
TZOFFSETFROM:-0400
TZOFFSETTO:-0500
TZNAME:EST
DTSTART:20241103T060000
END:STANDARD
BEGIN:DAYLIGHT
TZOFFSETFROM:-0500
TZOFFSETTO:-0400
TZNAME:EDT
DTSTART:20250309T070000
END:DAYLIGHT
BEGIN:STANDARD
TZOFFSETFROM:-0400
TZOFFSETTO:-0500
TZNAME:EST
DTSTART:20251102T060000
END:STANDARD
BEGIN:DAYLIGHT
TZOFFSETFROM:-0500
TZOFFSETTO:-0400
TZNAME:EDT
DTSTART:20260308T070000
END:DAYLIGHT
BEGIN:STANDARD
TZOFFSETFROM:-0400
TZOFFSETTO:-0500
TZNAME:EST
DTSTART:20261101T060000
END:STANDARD
END:VTIMEZONE
BEGIN:VEVENT
DTSTART;TZID=America/Detroit:20251113T130000
DTEND;TZID=America/Detroit:20251113T140000
DTSTAMP:20260424T030103
CREATED:20250902T203931Z
LAST-MODIFIED:20250902T203931Z
UID:18327-1763038800-1763042400@taylor.lib.mi.us
SUMMARY:Computer Classes: The Writing Sessions
DESCRIPTION:Computer Classes: The Writing Sessions\nTo celebrate Novel Writing Month\, we are kicking off a special edition of TCL Computer Classes\, The Writing Sessions! This a 3-week series where we will brainstorm\, outline\, collaborate\, edit & revise\, and work towards getting that draft of your dream novel started. Classes will take place at the Youth Side Computers on Thursdays from 1:00-2:00 P.M. This event is intended for all ages\, children under 12 must be accompanied by an adult.
URL:https://taylor.lib.mi.us/event/computer-classes-the-writing-sessions-2/
LOCATION:Community Rooms (Papp & Trolley)\, 12303 Pardee Road\, Taylor\, MI\, 48180\, United States
CATEGORIES:Adults,Teens,Youth & Families
ORGANIZER;CN="Hailey Boyer":MAILTO:hboyer@cityoftaylormi.gov
END:VEVENT
BEGIN:VEVENT
DTSTART;TZID=America/Detroit:20251113T173000
DTEND;TZID=America/Detroit:20251113T193000
DTSTAMP:20260424T030103
CREATED:20251010T211245Z
LAST-MODIFIED:20251010T211301Z
UID:19006-1763055000-1763062200@taylor.lib.mi.us
SUMMARY:The Clink: Inside Michigan's Historical Jails
DESCRIPTION:The Clink: Inside Michigan’s Historical Jails\nFrom the front\, these buildings resembled fashionable estates with ornate facades and turrets. But looks can be deceiving. Behind the facades\, these ornate\, stately homes contained cells blocks that housed county prisoners. The occupants of these county jails ranged from chicken thieves to serial killers to the colorful cast of sheriff’s deputies tasked with watching over them. Using archival photographs and diagrams\, author Tobin T. Buhk leads a guided tour of these mysterious\, forbidden places and introduces the characters who did time there. Learn about the first female sheriffs in Michigan history; the Capone trigger-man who terrified his captors; the cook who refuses to leave her kitchen and on occasion makes her ghostly presence seen and felt; an inventive sheriff who turned road-kill into cuisine; the pair of chicken thieves who escaped from Kent County’s inescapable jail; and others. \nNOTE: this presentation is based upon the author’s forthcoming book. \nThis event is intended for: Adults \nWant a reminder call about this program? Sign up below:\nPlease enable JavaScript in your browser to complete this form.Name *FirstLastPhone Number *City you live in *You do not need to be a Taylor resident to attendSubmit
URL:https://taylor.lib.mi.us/event/the-clink-inside-michigans-historical-jails/
LOCATION:Community Rooms (Papp & Trolley)\, 12303 Pardee Road\, Taylor\, MI\, 48180\, United States
CATEGORIES:Adults
ORGANIZER;CN="Becky Price":MAILTO:bprice@cityoftaylormi.gov
END:VEVENT
BEGIN:VEVENT
DTSTART;TZID=America/Detroit:20251113T180000
DTEND;TZID=America/Detroit:20251113T193000
DTSTAMP:20260424T030103
CREATED:20251002T183816Z
LAST-MODIFIED:20251002T183816Z
UID:18436-1763056800-1763062200@taylor.lib.mi.us
SUMMARY:T(w)een Book Club
DESCRIPTION:T(w)een Book Club\nT(w)een Book Club is a monthly book club suggested for tweens and teens ages 12-17 where we will read age-appropriate titles from all genres\, have a snack\, and do a book-related activity! \nCopies of our monthly book will be placed on hold and can be picked up from our front desk before our meeting. Most of the time they are also available on Hoopla or Libby \nWe will take time to share thoughts on the book and chat about our general reading interests! \nThis month’s book is The Tea Dragon Society by Kay O’Neill \n \nAfter discovering a lost tea dragon in the marketplace\, Greta learns about the dying art form of tea dragon care-taking from the kind tea shop owners\, Hesekiel and Erik. As she befriends them and their shy ward\, Minette\, Greta sees how the craft enriches their lives—and eventually her own.
URL:https://taylor.lib.mi.us/event/tween-book-club-8/
LOCATION:Community Rooms (Papp & Trolley)\, 12303 Pardee Road\, Taylor\, MI\, 48180\, United States
CATEGORIES:Teens,Youth & Families
ORGANIZER;CN="Jasmine Riehl":MAILTO:jriehl@cityoftaylormi.gov
END:VEVENT
END:VCALENDAR