BEGIN:VCALENDAR
VERSION:2.0
PRODID:-//Taylor Community Library - ECPv6.15.20//NONSGML v1.0//EN
CALSCALE:GREGORIAN
METHOD:PUBLISH
X-ORIGINAL-URL:https://taylor.lib.mi.us
X-WR-CALDESC:Events for Taylor Community Library
REFRESH-INTERVAL;VALUE=DURATION:PT1H
X-Robots-Tag:noindex
X-PUBLISHED-TTL:PT1H
BEGIN:VTIMEZONE
TZID:America/Detroit
BEGIN:DAYLIGHT
TZOFFSETFROM:-0500
TZOFFSETTO:-0400
TZNAME:EDT
DTSTART:20240310T070000
END:DAYLIGHT
BEGIN:STANDARD
TZOFFSETFROM:-0400
TZOFFSETTO:-0500
TZNAME:EST
DTSTART:20241103T060000
END:STANDARD
BEGIN:DAYLIGHT
TZOFFSETFROM:-0500
TZOFFSETTO:-0400
TZNAME:EDT
DTSTART:20250309T070000
END:DAYLIGHT
BEGIN:STANDARD
TZOFFSETFROM:-0400
TZOFFSETTO:-0500
TZNAME:EST
DTSTART:20251102T060000
END:STANDARD
BEGIN:DAYLIGHT
TZOFFSETFROM:-0500
TZOFFSETTO:-0400
TZNAME:EDT
DTSTART:20260308T070000
END:DAYLIGHT
BEGIN:STANDARD
TZOFFSETFROM:-0400
TZOFFSETTO:-0500
TZNAME:EST
DTSTART:20261101T060000
END:STANDARD
END:VTIMEZONE
BEGIN:VEVENT
DTSTART;TZID=America/Detroit:20251114T160000
DTEND;TZID=America/Detroit:20251114T180000
DTSTAMP:20260421T115252
CREATED:20250917T212307Z
LAST-MODIFIED:20251104T194547Z
UID:18844-1763136000-1763143200@taylor.lib.mi.us
SUMMARY:Sweet Dreamz: Child Bedtime Routine*
DESCRIPTION:Sweet Dreamz: Child Bedtime Routine\nThe Guidance Center’s Nurture the Future is hosting a healthy sleeping habit workshop for caregivers and children at the library. There will be crafts and games\, handouts\, and children giveaways! Children will get a chance to take home either a blanket or stuffy to help them get started with their new bedtime routine. This routine is aimed towards children 3-7. Please register for this program online: https://www.guidance-center.org/community-calendar-event/sweet-dreamzzz-2/ \n 
URL:https://taylor.lib.mi.us/event/sweet-dreamz-build-bedtime-routine/
LOCATION:Youth Section\, 12303 Pardee Road\, Taylor\, MI\, 48180\, United States
CATEGORIES:Youth & Families
ORGANIZER;CN="Jasmine Riehl":MAILTO:jriehl@cityoftaylormi.gov
END:VEVENT
END:VCALENDAR