BEGIN:VCALENDAR
VERSION:2.0
PRODID:-//Taylor Community Library - ECPv6.15.20//NONSGML v1.0//EN
CALSCALE:GREGORIAN
METHOD:PUBLISH
X-ORIGINAL-URL:https://taylor.lib.mi.us
X-WR-CALDESC:Events for Taylor Community Library
REFRESH-INTERVAL;VALUE=DURATION:PT1H
X-Robots-Tag:noindex
X-PUBLISHED-TTL:PT1H
BEGIN:VTIMEZONE
TZID:America/Detroit
BEGIN:DAYLIGHT
TZOFFSETFROM:-0500
TZOFFSETTO:-0400
TZNAME:EDT
DTSTART:20240310T070000
END:DAYLIGHT
BEGIN:STANDARD
TZOFFSETFROM:-0400
TZOFFSETTO:-0500
TZNAME:EST
DTSTART:20241103T060000
END:STANDARD
BEGIN:DAYLIGHT
TZOFFSETFROM:-0500
TZOFFSETTO:-0400
TZNAME:EDT
DTSTART:20250309T070000
END:DAYLIGHT
BEGIN:STANDARD
TZOFFSETFROM:-0400
TZOFFSETTO:-0500
TZNAME:EST
DTSTART:20251102T060000
END:STANDARD
BEGIN:DAYLIGHT
TZOFFSETFROM:-0500
TZOFFSETTO:-0400
TZNAME:EDT
DTSTART:20260308T070000
END:DAYLIGHT
BEGIN:STANDARD
TZOFFSETFROM:-0400
TZOFFSETTO:-0500
TZNAME:EST
DTSTART:20261101T060000
END:STANDARD
END:VTIMEZONE
BEGIN:VEVENT
DTSTART;TZID=America/Detroit:20251117T110000
DTEND;TZID=America/Detroit:20251117T130000
DTSTAMP:20260422T123744
CREATED:20250613T212033Z
LAST-MODIFIED:20250903T192835Z
UID:18355-1763377200-1763384400@taylor.lib.mi.us
SUMMARY:Hooks & Needles
DESCRIPTION:Hooks & Needles\n\nCome and join other yarn enthusiasts in our community who love to knit and crochet.  This is a weekly event to share ideas\, projects\, and do a little yarning.  Bring your own projects to work on.\n\nThis event is intended for: Adults\, but anyone who knits’ or crochets’ is welcome!
URL:https://taylor.lib.mi.us/event/2025-09-29-2-2025-11-17/
LOCATION:Community Rooms (Papp & Trolley)\, 12303 Pardee Road\, Taylor\, MI\, 48180\, United States
CATEGORIES:Adults
ORGANIZER;CN="Stephanie Herm":MAILTO:sherm@cityoftaylormi.gov
END:VEVENT
BEGIN:VEVENT
DTSTART;TZID=America/Detroit:20251117T173000
DTEND;TZID=America/Detroit:20251117T193000
DTSTAMP:20260422T123744
CREATED:20251010T211459Z
LAST-MODIFIED:20251010T211459Z
UID:19008-1763400600-1763407800@taylor.lib.mi.us
SUMMARY:True Crime in the Civil War
DESCRIPTION:True Crime in the Civil War\nA psychopathic general who decapitated his enemies and stacked the heads in piles; an early serial killer who used the war to settle scores; an entire family murdered and thrown into the Mississippi; Soiled Doves who made money off of the war. While the boys in blue and gray traded lead on the battlefield\, these malefactors terrorized soldiers and civilians alike. Learn about these characters\, and many others in this look at the “un-civil” side of the Civil War with Author Tobin Buhk. \nThis event is intended for: Adults \nWant a reminder call about this program? Sign up below:\nPlease enable JavaScript in your browser to complete this form.Name *FirstLastPhone Number *City you live in *You do not need to be a Taylor resident to attendSubmit
URL:https://taylor.lib.mi.us/event/true-crime-in-the-civil-war/
LOCATION:Community Rooms (Papp & Trolley)\, 12303 Pardee Road\, Taylor\, MI\, 48180\, United States
CATEGORIES:Adults
ORGANIZER;CN="Becky Price":MAILTO:bprice@cityoftaylormi.gov
END:VEVENT
BEGIN:VEVENT
DTSTART;TZID=America/Detroit:20251117T180000
DTEND;TZID=America/Detroit:20251117T190000
DTSTAMP:20260422T123744
CREATED:20250613T165101Z
LAST-MODIFIED:20251003T153353Z
UID:18644-1763402400-1763406000@taylor.lib.mi.us
SUMMARY:LEGO Club
DESCRIPTION:LEGO Club\nDo you love Legos? Join our Lego Club! Every Monday at 6 p.m. come in and start building.  Everyone is welcome to free build.  If you are up for it\, we will provide a challenge or theme for you to make something related to that week’s challenge or theme. We will display your creation for one week and will tear them apart at the next event. This event is open to kids\, tweens\, teens\, and parents. No registration is required\, just stop in and build!
URL:https://taylor.lib.mi.us/event/2025-09-29-2025-11-03-2025-11-17/
LOCATION:Community Rooms (Papp & Trolley)\, 12303 Pardee Road\, Taylor\, MI\, 48180\, United States
CATEGORIES:Youth & Families
ORGANIZER;CN="Carolyn Somerville-Jones":MAILTO:csomerville@cityoftaylormi.gov
END:VEVENT
END:VCALENDAR