BEGIN:VCALENDAR
VERSION:2.0
PRODID:-//Taylor Community Library - ECPv6.15.20//NONSGML v1.0//EN
CALSCALE:GREGORIAN
METHOD:PUBLISH
X-WR-CALNAME:Taylor Community Library
X-ORIGINAL-URL:https://taylor.lib.mi.us
X-WR-CALDESC:Events for Taylor Community Library
REFRESH-INTERVAL;VALUE=DURATION:PT1H
X-Robots-Tag:noindex
X-PUBLISHED-TTL:PT1H
BEGIN:VTIMEZONE
TZID:America/Detroit
BEGIN:DAYLIGHT
TZOFFSETFROM:-0500
TZOFFSETTO:-0400
TZNAME:EDT
DTSTART:20240310T070000
END:DAYLIGHT
BEGIN:STANDARD
TZOFFSETFROM:-0400
TZOFFSETTO:-0500
TZNAME:EST
DTSTART:20241103T060000
END:STANDARD
BEGIN:DAYLIGHT
TZOFFSETFROM:-0500
TZOFFSETTO:-0400
TZNAME:EDT
DTSTART:20250309T070000
END:DAYLIGHT
BEGIN:STANDARD
TZOFFSETFROM:-0400
TZOFFSETTO:-0500
TZNAME:EST
DTSTART:20251102T060000
END:STANDARD
BEGIN:DAYLIGHT
TZOFFSETFROM:-0500
TZOFFSETTO:-0400
TZNAME:EDT
DTSTART:20260308T070000
END:DAYLIGHT
BEGIN:STANDARD
TZOFFSETFROM:-0400
TZOFFSETTO:-0500
TZNAME:EST
DTSTART:20261101T060000
END:STANDARD
END:VTIMEZONE
BEGIN:VEVENT
DTSTART;TZID=America/Detroit:20251210T120000
DTEND;TZID=America/Detroit:20251210T133000
DTSTAMP:20260423T233230
CREATED:20250903T202618Z
LAST-MODIFIED:20251106T170450Z
UID:18392-1765368000-1765373400@taylor.lib.mi.us
SUMMARY:Brown Bag Talking Book Discussion
DESCRIPTION:Brown Bag Talking Book Discussion\nThe group discusses two audiobooks each month. Listen to all\, one\, or even none… everyone is welcome! \nMeet in person or join in remotely. \nTo join remotely by phone\, please Call: 267-807-9601 and use Access Code: 965803\, or join virtually by visiting bit.ly/TCLbtbcall \n  \nTitles are voted on 3 months in advance. This month’s titles: \n  \nDaughter of the morning star by Craig Johnson\nDB 105334\n8 hours\, 28 minutes. Mystery and Detective Stories\, Western Stories.\nWhen Tribal Police Chief Lolo Long’s niece Jaya receives death threats\, she calls on Absaroka County Sheriff Walt Longmire for help. Jaya “Longshot” Long is the phenomenon of the high school basketball team\, following in her missing older sister’s footsteps. Walt and Lolo don’t want another missing girl. Unrated. Commercial audiobook. 2021. \n  \nTaste: my life through food by Stanley Tucci\nDB 105460\n6 hours\, 52 minutes. Stage and Screen\, Biography of Entertainers\, Biography\, Cooking\, Bestsellers.\nActor known for his supporting roles\, including Paul Child in Julie & Julia\, reflects on his relationship with food throughout his life. Discusses growing up in an Italian American family\, food served on film sets\, and dealing with a form of oral cancer. Strong language. Commercial audiobook. Bestseller. 2021. \n  \n  \nNew attendees: Please call the library or click on the covers above to place copies on hold. Or current BTB members can use the Talking Book Order Form to have copies sent on cartridge.
URL:https://taylor.lib.mi.us/event/brown-bag-talking-book-discussion-3/
LOCATION:Trolley (North) Unity Room\, 12303 Pardee Road\, Taylor\, MI\, 48180\, United States
CATEGORIES:Adults
END:VEVENT
BEGIN:VEVENT
DTSTART;TZID=America/Detroit:20251210T150000
DTEND;TZID=America/Detroit:20251210T160000
DTSTAMP:20260423T233230
CREATED:20251106T215305Z
LAST-MODIFIED:20251106T215305Z
UID:19258-1765378800-1765382400@taylor.lib.mi.us
SUMMARY:Medicare 101
DESCRIPTION:Medicare 101\nJoin us for an information night with Independent Insurance Agent Tiffany J. Stone where she will explain what Medicare is\, the penalties\, when the enrollment period is\, and how to avoid Medicare scams. Light refreshments will be provided.
URL:https://taylor.lib.mi.us/event/medicare-101-4/
LOCATION:Community Rooms (Papp & Trolley)\, 12303 Pardee Road\, Taylor\, MI\, 48180\, United States
CATEGORIES:Adults
ORGANIZER;CN="Becky Price":MAILTO:bprice@cityoftaylormi.gov
END:VEVENT
BEGIN:VEVENT
DTSTART;TZID=America/Detroit:20251210T180000
DTEND;TZID=America/Detroit:20251210T190000
DTSTAMP:20260423T233230
CREATED:20251105T203318Z
LAST-MODIFIED:20251210T225146Z
UID:19214-1765389600-1765393200@taylor.lib.mi.us
SUMMARY:Holiday Houses
DESCRIPTION:Holiday Houses*\nLet’s build a holiday house! Bring your creativity to build a house from cookies\, frosting\, and candy. We will provide the materials; you just bring your holiday cheer. This event requires registration and has 40 open spots. Stop in the library or call starting November 24 through Dec. 8th to put your name on the list! \n*Registration Required \n  \n  \nThis program is intended for kids and families.
URL:https://taylor.lib.mi.us/event/holiday-houses-3/
LOCATION:Community Rooms (Papp & Trolley)\, 12303 Pardee Road\, Taylor\, MI\, 48180\, United States
CATEGORIES:Youth & Families
ORGANIZER;CN="Carolyn Somerville-Jones":MAILTO:csomerville@cityoftaylormi.gov
END:VEVENT
END:VCALENDAR