BEGIN:VCALENDAR
VERSION:2.0
PRODID:-//Taylor Community Library - ECPv6.15.20//NONSGML v1.0//EN
CALSCALE:GREGORIAN
METHOD:PUBLISH
X-ORIGINAL-URL:https://taylor.lib.mi.us
X-WR-CALDESC:Events for Taylor Community Library
REFRESH-INTERVAL;VALUE=DURATION:PT1H
X-Robots-Tag:noindex
X-PUBLISHED-TTL:PT1H
BEGIN:VTIMEZONE
TZID:America/Detroit
BEGIN:DAYLIGHT
TZOFFSETFROM:-0500
TZOFFSETTO:-0400
TZNAME:EDT
DTSTART:20250309T070000
END:DAYLIGHT
BEGIN:STANDARD
TZOFFSETFROM:-0400
TZOFFSETTO:-0500
TZNAME:EST
DTSTART:20251102T060000
END:STANDARD
BEGIN:DAYLIGHT
TZOFFSETFROM:-0500
TZOFFSETTO:-0400
TZNAME:EDT
DTSTART:20260308T070000
END:DAYLIGHT
BEGIN:STANDARD
TZOFFSETFROM:-0400
TZOFFSETTO:-0500
TZNAME:EST
DTSTART:20261101T060000
END:STANDARD
BEGIN:DAYLIGHT
TZOFFSETFROM:-0500
TZOFFSETTO:-0400
TZNAME:EDT
DTSTART:20270314T070000
END:DAYLIGHT
BEGIN:STANDARD
TZOFFSETFROM:-0400
TZOFFSETTO:-0500
TZNAME:EST
DTSTART:20271107T060000
END:STANDARD
END:VTIMEZONE
BEGIN:VEVENT
DTSTART;TZID=America/Detroit:20260717T160000
DTEND;TZID=America/Detroit:20260717T170000
DTSTAMP:20260423T031236
CREATED:20260327T160245Z
LAST-MODIFIED:20260420T215956Z
UID:20617-1784304000-1784307600@taylor.lib.mi.us
SUMMARY:Tween Book Club
DESCRIPTION:Tween Book Club\nTween Book Club is a monthly book club suggested for tweens ages 8-12 where we will read age-appropriate titles from all genres\, have a snack\, and do a book-related activity!\nCopies of our monthly book will be placed on hold and can be picked up from our front desk before our meeting. Most of the time they are also available on Hoopla or Libby.\nWe will take time to share thoughts on the book and chat about our general reading interests!\n\nThis month’s book is Amari and the Night Brothers by B.B. Alston:\n\n\n\n\nArtemis Fowl meets Men in Black in this exhilarating debut middle grade fantasy\, the first in a series filled with #blackgirlmagic. Perfect for fans of Tristan Strong Punches a Hole in the Sky\, the Percy Jackson series\, and Nevermoor. \nAmari Peters has never stopped believing her missing brother\, Quinton\, is alive. Not even when the police told her otherwise\, or when she got in trouble for standing up to bullies who said he was gone for good. \nSo when she finds a ticking briefcase in his closet\, containing a nomination for a summer tryout at the Bureau of Supernatural Affairs\, she’s certain the secretive organization holds the key to locating Quinton—if only she can wrap her head around the idea of magicians\, fairies\, aliens\, and other supernatural creatures all being real. \nNow she must compete for a spot against kids who’ve known about magic their whole lives. No matter how hard she tries\, Amari can’t seem to escape their intense doubt and scrutiny—especially once her supernaturally enhanced talent is deemed “illegal.” With an evil magician threatening the supernatural world\, and her own classmates thinking she’s an enemy\, Amari has never felt more alone. But if she doesn’t stick it out and pass the tryouts\, she may never find out what happened to Quinton.
URL:https://taylor.lib.mi.us/event/tween-book-club-10/
LOCATION:Trolley (North) Unity Room\, 12303 Pardee Road\, Taylor\, MI\, 48180\, United States
CATEGORIES:Youth & Families
ORGANIZER;CN="Jasmine Riehl":MAILTO:jriehl@cityoftaylormi.gov
END:VEVENT
END:VCALENDAR