BEGIN:VCALENDAR
VERSION:2.0
PRODID:-//Taylor Community Library - ECPv6.15.20//NONSGML v1.0//EN
CALSCALE:GREGORIAN
METHOD:PUBLISH
X-WR-CALNAME:Taylor Community Library
X-ORIGINAL-URL:https://taylor.lib.mi.us
X-WR-CALDESC:Events for Taylor Community Library
REFRESH-INTERVAL;VALUE=DURATION:PT1H
X-Robots-Tag:noindex
X-PUBLISHED-TTL:PT1H
BEGIN:VTIMEZONE
TZID:America/Detroit
BEGIN:DAYLIGHT
TZOFFSETFROM:-0500
TZOFFSETTO:-0400
TZNAME:EDT
DTSTART:20240310T070000
END:DAYLIGHT
BEGIN:STANDARD
TZOFFSETFROM:-0400
TZOFFSETTO:-0500
TZNAME:EST
DTSTART:20241103T060000
END:STANDARD
BEGIN:DAYLIGHT
TZOFFSETFROM:-0500
TZOFFSETTO:-0400
TZNAME:EDT
DTSTART:20250309T070000
END:DAYLIGHT
BEGIN:STANDARD
TZOFFSETFROM:-0400
TZOFFSETTO:-0500
TZNAME:EST
DTSTART:20251102T060000
END:STANDARD
BEGIN:DAYLIGHT
TZOFFSETFROM:-0500
TZOFFSETTO:-0400
TZNAME:EDT
DTSTART:20260308T070000
END:DAYLIGHT
BEGIN:STANDARD
TZOFFSETFROM:-0400
TZOFFSETTO:-0500
TZNAME:EST
DTSTART:20261101T060000
END:STANDARD
END:VTIMEZONE
BEGIN:VEVENT
DTSTART;TZID=America/Detroit:20250716T140000
DTEND;TZID=America/Detroit:20250716T153000
DTSTAMP:20260421T070655
CREATED:20250620T204732Z
LAST-MODIFIED:20250711T181019Z
UID:17951-1752674400-1752679800@taylor.lib.mi.us
SUMMARY:Chair Yoga for Seniors
DESCRIPTION:Chair Yoga for Seniors\n  \nJoin us for this 4-week chair yoga course where we will focus on gentle movement and mindful mobility. Dates include: July 9\, 16\, 23\, and 30th. This event is partnered by Leaders Advancing & Helping Communities. \nThis event is intended for: Seniors \nWant a reminder call for this program? Fill out our form:\nPlease enable JavaScript in your browser to complete this form.Name *FirstLastPhone Number *City you live in *You do NOT need to be a Taylor resident to attendSubmit
URL:https://taylor.lib.mi.us/event/2025-07-16-2/
LOCATION:Community Rooms (Papp & Trolley)\, 12303 Pardee Road\, Taylor\, MI\, 48180\, United States
CATEGORIES:Adults
ORGANIZER;CN="Becky Price":MAILTO:bprice@cityoftaylormi.gov
END:VEVENT
BEGIN:VEVENT
DTSTART;TZID=America/Detroit:20250716T180000
DTEND;TZID=America/Detroit:20250716T190000
DTSTAMP:20260421T070655
CREATED:20250612T230621Z
LAST-MODIFIED:20250612T230621Z
UID:16992-1752688800-1752692400@taylor.lib.mi.us
SUMMARY:Adult Book Club
DESCRIPTION:Adult Book Club Discussion\nJoin us as we read fiction from all walks of life and perspectives. For our next discussion\, we’ll be reading The God of the Woods by Liz Moore. \n \n\nAn immersive\, propulsive novel about a missing child whose disappearance sends equal shockwaves through three very different worlds—an opulent Adirondack summer estate\, the rustic teen summer camp that operates in its shadow\, and the blue-collar community that serves them both. \n\n*Please call ahead to make sure we have room for new members\nThis program is intended for: Adults
URL:https://taylor.lib.mi.us/event/adult-book-club-12/
LOCATION:Community Rooms (Papp & Trolley)\, 12303 Pardee Road\, Taylor\, MI\, 48180\, United States
CATEGORIES:Adults
ORGANIZER;CN="Hailey Boyer":MAILTO:hboyer@cityoftaylormi.gov
END:VEVENT
END:VCALENDAR