BEGIN:VCALENDAR
VERSION:2.0
PRODID:-//Taylor Community Library - ECPv6.15.20//NONSGML v1.0//EN
CALSCALE:GREGORIAN
METHOD:PUBLISH
X-WR-CALNAME:Taylor Community Library
X-ORIGINAL-URL:https://taylor.lib.mi.us
X-WR-CALDESC:Events for Taylor Community Library
REFRESH-INTERVAL;VALUE=DURATION:PT1H
X-Robots-Tag:noindex
X-PUBLISHED-TTL:PT1H
BEGIN:VTIMEZONE
TZID:America/Detroit
BEGIN:DAYLIGHT
TZOFFSETFROM:-0500
TZOFFSETTO:-0400
TZNAME:EDT
DTSTART:20240310T070000
END:DAYLIGHT
BEGIN:STANDARD
TZOFFSETFROM:-0400
TZOFFSETTO:-0500
TZNAME:EST
DTSTART:20241103T060000
END:STANDARD
BEGIN:DAYLIGHT
TZOFFSETFROM:-0500
TZOFFSETTO:-0400
TZNAME:EDT
DTSTART:20250309T070000
END:DAYLIGHT
BEGIN:STANDARD
TZOFFSETFROM:-0400
TZOFFSETTO:-0500
TZNAME:EST
DTSTART:20251102T060000
END:STANDARD
BEGIN:DAYLIGHT
TZOFFSETFROM:-0500
TZOFFSETTO:-0400
TZNAME:EDT
DTSTART:20260308T070000
END:DAYLIGHT
BEGIN:STANDARD
TZOFFSETFROM:-0400
TZOFFSETTO:-0500
TZNAME:EST
DTSTART:20261101T060000
END:STANDARD
END:VTIMEZONE
BEGIN:VEVENT
DTSTART;TZID=America/Detroit:20250730T140000
DTEND;TZID=America/Detroit:20250730T153000
DTSTAMP:20260423T014036
CREATED:20250620T204738Z
LAST-MODIFIED:20250711T181045Z
UID:17953-1753884000-1753889400@taylor.lib.mi.us
SUMMARY:Chair Yoga for Seniors
DESCRIPTION:Chair Yoga for Seniors\n  \nJoin us for this 4-week chair yoga course where we will focus on gentle movement and mindful mobility. Dates include: July 9\, 16\, 23\, and 30th. This event is partnered by Leaders Advancing & Helping Communities. \nThis event is intended for: Seniors \nWant a reminder call for this program? Fill out our form:\nPlease enable JavaScript in your browser to complete this form.Name *FirstLastPhone Number *City you live in *You do NOT need to be a Taylor resident to attendSubmit
URL:https://taylor.lib.mi.us/event/2025-07-30/
LOCATION:Community Rooms (Papp & Trolley)\, 12303 Pardee Road\, Taylor\, MI\, 48180\, United States
CATEGORIES:Adults
ORGANIZER;CN="Becky Price":MAILTO:bprice@cityoftaylormi.gov
END:VEVENT
BEGIN:VEVENT
DTSTART;TZID=America/Detroit:20250730T160000
DTEND;TZID=America/Detroit:20250730T170000
DTSTAMP:20260423T014036
CREATED:20250612T231247Z
LAST-MODIFIED:20250612T231247Z
UID:16264-1753891200-1753894800@taylor.lib.mi.us
SUMMARY:Writer’s Workshop: Intro to the Basics of Publishing
DESCRIPTION:Writer’s Workshop: Intro to the Basics of Publishing\nJoin us in a writing workshop\, led by Author Talesha Wright.  She will give you a practical\, fast-paced introduction to the world of book publishing and leave you with the confidence to follow through in your dream of publishing your work.  All materials will be provided.\n*Open to teens (H.S. — College) and Adults.
URL:https://taylor.lib.mi.us/event/writers-workshop-intro-to-the-basics-of-publishing/
LOCATION:Community Rooms (Papp & Trolley)\, 12303 Pardee Road\, Taylor\, MI\, 48180\, United States
CATEGORIES:Adults,Teens
ORGANIZER;CN="Becky Price":MAILTO:bprice@cityoftaylormi.gov
END:VEVENT
BEGIN:VEVENT
DTSTART;TZID=America/Detroit:20250730T173000
DTEND;TZID=America/Detroit:20250730T193000
DTSTAMP:20260423T014036
CREATED:20250510T150020Z
LAST-MODIFIED:20250612T232659Z
UID:15116-1753896600-1753903800@taylor.lib.mi.us
SUMMARY:Silent Book Club
DESCRIPTION:Silent Book Club\nEver wanted to join a book club\, but felt like it was too much pressure? Join this super low-key book club where you show up with a book of your choice and read! At each meeting the first and last 15 minutes will be designated for sharing what you’re reading/socializing with other members and then the hour and half in-between will be designated for reading. We will have an ambience room playing at low volume in the background and different options for seating. Feel free to bring a snack\, beverage\, or blanket to make this event extra cozy. This book club meets every Wednesday. \nThis event is intended for: Adults
URL:https://taylor.lib.mi.us/event/2024-12-04-2025-07-02-2025-07-30/
LOCATION:Community Rooms (Papp & Trolley)\, 12303 Pardee Road\, Taylor\, MI\, 48180\, United States
CATEGORIES:Adults
ORGANIZER;CN="Becky Price":MAILTO:bprice@cityoftaylormi.gov
END:VEVENT
END:VCALENDAR