BEGIN:VCALENDAR
VERSION:2.0
PRODID:-//Taylor Community Library - ECPv6.15.20//NONSGML v1.0//EN
CALSCALE:GREGORIAN
METHOD:PUBLISH
X-ORIGINAL-URL:https://taylor.lib.mi.us
X-WR-CALDESC:Events for Taylor Community Library
REFRESH-INTERVAL;VALUE=DURATION:PT1H
X-Robots-Tag:noindex
X-PUBLISHED-TTL:PT1H
BEGIN:VTIMEZONE
TZID:America/Detroit
BEGIN:DAYLIGHT
TZOFFSETFROM:-0500
TZOFFSETTO:-0400
TZNAME:EDT
DTSTART:20250309T070000
END:DAYLIGHT
BEGIN:STANDARD
TZOFFSETFROM:-0400
TZOFFSETTO:-0500
TZNAME:EST
DTSTART:20251102T060000
END:STANDARD
BEGIN:DAYLIGHT
TZOFFSETFROM:-0500
TZOFFSETTO:-0400
TZNAME:EDT
DTSTART:20260308T070000
END:DAYLIGHT
BEGIN:STANDARD
TZOFFSETFROM:-0400
TZOFFSETTO:-0500
TZNAME:EST
DTSTART:20261101T060000
END:STANDARD
BEGIN:DAYLIGHT
TZOFFSETFROM:-0500
TZOFFSETTO:-0400
TZNAME:EDT
DTSTART:20270314T070000
END:DAYLIGHT
BEGIN:STANDARD
TZOFFSETFROM:-0400
TZOFFSETTO:-0500
TZNAME:EST
DTSTART:20271107T060000
END:STANDARD
END:VTIMEZONE
BEGIN:VEVENT
DTSTART;TZID=America/Detroit:20260114T120000
DTEND;TZID=America/Detroit:20260114T133000
DTSTAMP:20260424T065833
CREATED:20250903T202618Z
LAST-MODIFIED:20251106T192719Z
UID:19235-1768392000-1768397400@taylor.lib.mi.us
SUMMARY:Brown Bag Talking Book Discussion
DESCRIPTION:Brown Bag Talking Book Discussion\nThe group discusses two audiobooks each month. Listen to all\, one\, or even none… everyone is welcome! \nMeet in person or join in remotely. \nTo join remotely by phone\, please Call: 267-807-9601 and use Access Code: 965803\, or join virtually by visiting bit.ly/TCLbtbcall \n  \nTitles are voted on 3 months in advance. This month’s titles: \n  \nThe Memory Keeper’s Daughter by Kim Edwards\nDB 63403\n16 hours\, 23 minutes. Bestsellers. Family Fiction.\nKentucky\, 1964. Doctor David Henry delivers his own children: a boy\, Paul\, and Phoebe\, a girl with Down syndrome. Telling his wife that the newborn girl has died\, he gives Phoebe\nto nurse Caroline Gill. Over time\, David’s family erodes\, while Caroline’s family flourishes. Some descriptions of sex. Bestseller. 2005 \n  \nThe Bear and the Nightingale by Katherine Aren\nDB 87310\n11 hours\, 50 minutes. Fantasy.\nIn fourteenth-century Russia\, young Vasilisa Petrovna can see and talk to the ancient spirits of the house and the forest. When her stepmother and a new village priest speak out\nagainst the old ways\, angering the spirits\, only Vasilisa can save her people. Unrated. Commercial audiobook. 2017 \n  \n  \nNew attendees: Please call the library or click on the covers above to place copies on hold. Or current BTB members can use the Talking Book Order Form to have copies sent on cartridge.
URL:https://taylor.lib.mi.us/event/brown-bag-talking-book-discussion-3-2026-01-14/
LOCATION:Trolley (North) Unity Room\, 12303 Pardee Road\, Taylor\, MI\, 48180\, United States
CATEGORIES:Adults
END:VEVENT
BEGIN:VEVENT
DTSTART;TZID=America/Detroit:20260114T150000
DTEND;TZID=America/Detroit:20260114T160000
DTSTAMP:20260424T065833
CREATED:20251121T173837Z
LAST-MODIFIED:20251121T173837Z
UID:19311-1768402800-1768406400@taylor.lib.mi.us
SUMMARY:Eat Smart\, Live Strong
DESCRIPTION:Eat Smart Live Strong for Seniors\nJoin us for this 6-week course where you will get nutrition and exercise education\, learn how to prepare quick healthy snacks\, and get the opportunity to win a free prize. Dates include: January 7\, 14\, 21\, 28\, and February 4 & 11. This event is partnered by Leaders Advancing & Helping Communities. \nThis event is intended for: Seniors (55+) \nWant a reminder call for this program? Fill out our form: \nPlease enable JavaScript in your browser to complete this form.Name *FirstLastPhone Number *City you live in *You do not need to be a Taylor resident to attendHow often would you like a reminder call? *Remind me about the first class I attendRemind me about all the classes in this seriesSubmit
URL:https://taylor.lib.mi.us/event/2026-01-14/
LOCATION:Community Rooms (Papp & Trolley)\, 12303 Pardee Road\, Taylor\, MI\, 48180\, United States
CATEGORIES:Adults
ORGANIZER;CN="Becky Price":MAILTO:bprice@cityoftaylormi.gov
END:VEVENT
BEGIN:VEVENT
DTSTART;TZID=America/Detroit:20260114T173000
DTEND;TZID=America/Detroit:20260114T193000
DTSTAMP:20260424T065833
CREATED:20250510T150020Z
LAST-MODIFIED:20260114T153217Z
UID:18491-1768411800-1768419000@taylor.lib.mi.us
SUMMARY:(CANCELED) Silent Book Club
DESCRIPTION:Silent Book Club (CANCELED)\nEver wanted to join a book club\, but felt like it was too much pressure? Join this super low-key book club where you show up with a book of your choice and read! At each meeting the first and last 15 minutes will be designated for sharing what you’re reading/socializing with other members and then the hour and half in-between will be designated for reading. We will have an ambience room playing at low volume in the background and different options for seating. Feel free to bring a snack\, beverage\, or blanket to make this event extra cozy. This book club meets every Wednesday. \nThis event is intended for: Adults
URL:https://taylor.lib.mi.us/event/2024-12-04-2025-07-02-2025-09-10-2025-10-01-2026-01-14/
LOCATION:Community Rooms (Papp & Trolley)\, 12303 Pardee Road\, Taylor\, MI\, 48180\, United States
CATEGORIES:Adults
ORGANIZER;CN="Becky Price":MAILTO:bprice@cityoftaylormi.gov
END:VEVENT
END:VCALENDAR