BEGIN:VCALENDAR
VERSION:2.0
PRODID:-//Taylor Community Library - ECPv6.15.20//NONSGML v1.0//EN
CALSCALE:GREGORIAN
METHOD:PUBLISH
X-WR-CALNAME:Taylor Community Library
X-ORIGINAL-URL:https://taylor.lib.mi.us
X-WR-CALDESC:Events for Taylor Community Library
REFRESH-INTERVAL;VALUE=DURATION:PT1H
X-Robots-Tag:noindex
X-PUBLISHED-TTL:PT1H
BEGIN:VTIMEZONE
TZID:America/Detroit
BEGIN:DAYLIGHT
TZOFFSETFROM:-0500
TZOFFSETTO:-0400
TZNAME:EDT
DTSTART:20250309T070000
END:DAYLIGHT
BEGIN:STANDARD
TZOFFSETFROM:-0400
TZOFFSETTO:-0500
TZNAME:EST
DTSTART:20251102T060000
END:STANDARD
BEGIN:DAYLIGHT
TZOFFSETFROM:-0500
TZOFFSETTO:-0400
TZNAME:EDT
DTSTART:20260308T070000
END:DAYLIGHT
BEGIN:STANDARD
TZOFFSETFROM:-0400
TZOFFSETTO:-0500
TZNAME:EST
DTSTART:20261101T060000
END:STANDARD
BEGIN:DAYLIGHT
TZOFFSETFROM:-0500
TZOFFSETTO:-0400
TZNAME:EDT
DTSTART:20270314T070000
END:DAYLIGHT
BEGIN:STANDARD
TZOFFSETFROM:-0400
TZOFFSETTO:-0500
TZNAME:EST
DTSTART:20271107T060000
END:STANDARD
END:VTIMEZONE
BEGIN:VEVENT
DTSTART;TZID=America/Detroit:20260415T150000
DTEND;TZID=America/Detroit:20260415T170000
DTSTAMP:20260420T143854
CREATED:20260226T214606Z
LAST-MODIFIED:20260226T214606Z
UID:19325-1776265200-1776272400@taylor.lib.mi.us
SUMMARY:Healthy Cents for Seniors
DESCRIPTION:Healthy Cents for Seniors\nHealthy Cents teaches practical ways to save money while making healthy food choices\, with easy tips\, hands-on activities\, and a nutritious snack included. Dates include: March 25\, April 1\, 8\, and 15. This event is partnered by Leaders Advancing & Helping Communities. \nThis event is intended for: Seniors (55+) \nWant a reminder call for this program? Fill out our form: \nPlease enable JavaScript in your browser to complete this form.Name *FirstLastPhone Number *City you live in *You do not need to be a Taylor resident to attendHow often would you like a reminder call? *Remind me about the first class I attendRemind me about all the classes in this seriesSubmit
URL:https://taylor.lib.mi.us/event/2026-04-15/
LOCATION:Community Rooms (Papp & Trolley)\, 12303 Pardee Road\, Taylor\, MI\, 48180\, United States
CATEGORIES:Adults
ORGANIZER;CN="Becky Price":MAILTO:bprice@cityoftaylormi.gov
END:VEVENT
BEGIN:VEVENT
DTSTART;TZID=America/Detroit:20260415T173000
DTEND;TZID=America/Detroit:20260415T193000
DTSTAMP:20260420T143854
CREATED:20250510T150020Z
LAST-MODIFIED:20260415T144753Z
UID:18504-1776274200-1776281400@taylor.lib.mi.us
SUMMARY:Silent Book Club
DESCRIPTION:Silent Book Club\nEver wanted to join a book club\, but felt like it was too much pressure? Join this super low-key book club where you show up with a book of your choice and read! At each meeting the first and last 15 minutes will be designated for sharing what you’re reading/socializing with other members and then the hour and half in-between will be designated for reading. We will have an ambience room playing at low volume in the background and different options for seating. Feel free to bring a snack\, beverage\, or blanket to make this event extra cozy. This book club meets every Wednesday. \nThis event is intended for: Adults
URL:https://taylor.lib.mi.us/event/2024-12-04-2025-07-02-2025-09-10-2025-10-01-2026-04-15/
LOCATION:Community Rooms (Papp & Trolley)\, 12303 Pardee Road\, Taylor\, MI\, 48180\, United States
CATEGORIES:Adults
ORGANIZER;CN="Becky Price":MAILTO:bprice@cityoftaylormi.gov
END:VEVENT
BEGIN:VEVENT
DTSTART;TZID=America/Detroit:20260415T180000
DTEND;TZID=America/Detroit:20260415T190000
DTSTAMP:20260420T143854
CREATED:20260223T192303Z
LAST-MODIFIED:20260415T133730Z
UID:19731-1776276000-1776279600@taylor.lib.mi.us
SUMMARY:Adult Book Club
DESCRIPTION:Adult Book Club is canceled tonight due to staff illness. It will be rescheduled soon.\nJoin us as we read fiction from all walks of life and perspectives. For our next discussion\, we’ll be reading Memorial Days by Geraldine Brooks. \n \nA spare and profoundly moving memoir that joins the classics of the genre\, Memorial Days is a portrait of a larger-than-life man and a timeless love between souls that exquisitely captures the joy\, agony\, and mystery of life. \n\n\n\n*Please call ahead to make sure we have room for new members
URL:https://taylor.lib.mi.us/event/adult-book-club/
LOCATION:Community Rooms (Papp & Trolley)\, 12303 Pardee Road\, Taylor\, MI\, 48180\, United States
CATEGORIES:Adults
ORGANIZER;CN="Hailey Boyer":MAILTO:hboyer@cityoftaylormi.gov
END:VEVENT
END:VCALENDAR