BEGIN:VCALENDAR
VERSION:2.0
PRODID:-//Taylor Community Library - ECPv6.15.20//NONSGML v1.0//EN
CALSCALE:GREGORIAN
METHOD:PUBLISH
X-ORIGINAL-URL:https://taylor.lib.mi.us
X-WR-CALDESC:Events for Taylor Community Library
REFRESH-INTERVAL;VALUE=DURATION:PT1H
X-Robots-Tag:noindex
X-PUBLISHED-TTL:PT1H
BEGIN:VTIMEZONE
TZID:America/Detroit
BEGIN:DAYLIGHT
TZOFFSETFROM:-0500
TZOFFSETTO:-0400
TZNAME:EDT
DTSTART:20250309T070000
END:DAYLIGHT
BEGIN:STANDARD
TZOFFSETFROM:-0400
TZOFFSETTO:-0500
TZNAME:EST
DTSTART:20251102T060000
END:STANDARD
BEGIN:DAYLIGHT
TZOFFSETFROM:-0500
TZOFFSETTO:-0400
TZNAME:EDT
DTSTART:20260308T070000
END:DAYLIGHT
BEGIN:STANDARD
TZOFFSETFROM:-0400
TZOFFSETTO:-0500
TZNAME:EST
DTSTART:20261101T060000
END:STANDARD
BEGIN:DAYLIGHT
TZOFFSETFROM:-0500
TZOFFSETTO:-0400
TZNAME:EDT
DTSTART:20270314T070000
END:DAYLIGHT
BEGIN:STANDARD
TZOFFSETFROM:-0400
TZOFFSETTO:-0500
TZNAME:EST
DTSTART:20271107T060000
END:STANDARD
END:VTIMEZONE
BEGIN:VEVENT
DTSTART;TZID=America/Detroit:20260527T180000
DTEND;TZID=America/Detroit:20260527T190000
DTSTAMP:20260421T153947
CREATED:20260306T190748Z
LAST-MODIFIED:20260306T190748Z
UID:20430-1779904800-1779908400@taylor.lib.mi.us
SUMMARY:Writer’s Workshop: Social & Emotional Awareness in Writing
DESCRIPTION:Writer’s Workshop: Social & Emotional Awareness in Writing\nLocal Author Talesha Wright is back\, Wednesday\, May 27th from 6:00-7:00 P.M.! Join us for a writing workshop that introduces you to the importance of emotional and social awareness in writing. This workshop will teach writers how to recognize emotions in themselves and their characters\, practice empathy\, and reflect on how emotions shape storytelling. \nThis event is intended for: Teens (16+) and Adults
URL:https://taylor.lib.mi.us/event/writers-workshop-social-emotional-awareness-in-writing-2/
LOCATION:Community Rooms (Papp & Trolley)\, 12303 Pardee Road\, Taylor\, MI\, 48180\, United States
CATEGORIES:Adults,Teens
ORGANIZER;CN="Hailey Boyer":MAILTO:hboyer@cityoftaylormi.gov
END:VEVENT
BEGIN:VEVENT
DTSTART;TZID=America/Detroit:20260530T143000
DTEND;TZID=America/Detroit:20260530T170000
DTSTAMP:20260421T153947
CREATED:20260223T193958Z
LAST-MODIFIED:20260223T193959Z
UID:19821-1780151400-1780160400@taylor.lib.mi.us
SUMMARY:Movie Session 4 Mental Health
DESCRIPTION:Movie Session 4 Mental Health Awareness\nJoin us in a safe space to discuss movies and mental health.  We will be watching a movie and then discussing the mental health situations in that movie.  We will be watching Chocolat (PG-13). \n*Open to teens and adults.
URL:https://taylor.lib.mi.us/event/movie-session-4-mental-health/
LOCATION:Community Rooms (Papp & Trolley)\, 12303 Pardee Road\, Taylor\, MI\, 48180\, United States
CATEGORIES:Adults,Teens
ORGANIZER;CN="Ace Norman":MAILTO:anorman@cityoftaylormi.gov
END:VEVENT
BEGIN:VEVENT
DTSTART;TZID=America/Detroit:20260601T110000
DTEND;TZID=America/Detroit:20260601T130000
DTSTAMP:20260421T153947
CREATED:20250613T212033Z
LAST-MODIFIED:20260420T194939Z
UID:19631-1780311600-1780318800@taylor.lib.mi.us
SUMMARY:Hooks & Needles
DESCRIPTION:Hooks & Needles\n\nCome and join other yarn enthusiasts in our community who love to knit and crochet.  This is a weekly event to share ideas\, projects\, and do a little yarning.  Bring your own projects to work on.\n\nThis event is intended for: Adults\, but anyone who knits’ or crochets’ is welcome!
URL:https://taylor.lib.mi.us/event/2025-09-29-2-2025-12-29-2026-04-06-2026-06-01/
LOCATION:Community Rooms (Papp & Trolley)\, 12303 Pardee Road\, Taylor\, MI\, 48180\, United States
CATEGORIES:Adults
ORGANIZER;CN="Stephanie Herm":MAILTO:sherm@cityoftaylormi.gov
END:VEVENT
BEGIN:VEVENT
DTSTART;TZID=America/Detroit:20260602T173000
DTEND;TZID=America/Detroit:20260602T193000
DTSTAMP:20260421T153947
CREATED:20260420T195006Z
LAST-MODIFIED:20260420T195006Z
UID:19751-1780421400-1780428600@taylor.lib.mi.us
SUMMARY:Sew Crafty
DESCRIPTION:Sew Crafty\nSew Crafty is a weekly lab for textile crafters to come together and work on their projects.  If you love to quilt\, sew\, knit\, crochet\, embroider\, needlepoint\, or any other textile crafting\, this is the place for you! This is a weekly lab that is open on Tuesdays from 5:30 – 7:30 p.m. This is a collaborative\, inter-generational crafting group intended for kids\, teens\, and adults. Children under 12 must be accompanied by an adult.
URL:https://taylor.lib.mi.us/event/2026-06-02/
LOCATION:Community Rooms (Papp & Trolley)\, 12303 Pardee Road\, Taylor\, MI\, 48180\, United States
CATEGORIES:Adults
ORGANIZER;CN="Hailey Boyer":MAILTO:hboyer@cityoftaylormi.gov
END:VEVENT
BEGIN:VEVENT
DTSTART;TZID=America/Detroit:20260603T120000
DTEND;TZID=America/Detroit:20260603T140000
DTSTAMP:20260421T153947
CREATED:20251209T213649Z
LAST-MODIFIED:20260420T195013Z
UID:19924-1780488000-1780495200@taylor.lib.mi.us
SUMMARY:Audio Described Movie Day
DESCRIPTION:Audio Described Movie Day\nPop in the 1st Wednesday of each month to watch a new\, popular film with the Audio Description (AD) narration track added. \n  \nFebruary’s film: \nGood Fortune (R)
URL:https://taylor.lib.mi.us/event/audio-described-movie-day-15-2026-03-04-2026-06-03/
LOCATION:Trolley (North) Unity Room\, 12303 Pardee Road\, Taylor\, MI\, 48180\, United States
CATEGORIES:Adults
ORGANIZER;CN="Sarah Roe":MAILTO:sroe@cityoftaylormi.gov
END:VEVENT
BEGIN:VEVENT
DTSTART;TZID=America/Detroit:20260603T150000
DTEND;TZID=America/Detroit:20260603T170000
DTSTAMP:20260421T153947
CREATED:20260226T235745Z
LAST-MODIFIED:20260421T171549Z
UID:19326-1780498800-1780506000@taylor.lib.mi.us
SUMMARY:Chair Yoga for Seniors
DESCRIPTION:Chair Yoga for Seniors\nJoin us for this 6-week chair yoga course where we will focus on gentle movement and mindful mobility. Dates include: April 29\, May 6\, 13\, 20 & 27\, and June 3. This event is partnered by Leaders Advancing & Helping Communities. \nThis event is intended for: Seniors (55+ or anyone who considers themselves a senior) \nWant a reminder call for this program? Fill out our form:\nPlease enable JavaScript in your browser to complete this form.Name *FirstLastPhone Number *City you live in *You do NOT need to be a Taylor resident to attendSubmit
URL:https://taylor.lib.mi.us/event/2026-04-22/
LOCATION:Community Rooms (Papp & Trolley)\, 12303 Pardee Road\, Taylor\, MI\, 48180\, United States
CATEGORIES:Adults
ORGANIZER;CN="Becky Price":MAILTO:bprice@cityoftaylormi.gov
END:VEVENT
BEGIN:VEVENT
DTSTART;TZID=America/Detroit:20260603T173000
DTEND;TZID=America/Detroit:20260603T193000
DTSTAMP:20260421T153947
CREATED:20250510T150020Z
LAST-MODIFIED:20260420T195019Z
UID:18511-1780507800-1780515000@taylor.lib.mi.us
SUMMARY:Silent Book Club
DESCRIPTION:Silent Book Club\nEver wanted to join a book club\, but felt like it was too much pressure? Join this super low-key book club where you show up with a book of your choice and read! At each meeting the first and last 15 minutes will be designated for sharing what you’re reading/socializing with other members and then the hour and half in-between will be designated for reading. We will have an ambience room playing at low volume in the background and different options for seating. Feel free to bring a snack\, beverage\, or blanket to make this event extra cozy. This book club meets every Wednesday. \nThis event is intended for: Adults
URL:https://taylor.lib.mi.us/event/2024-12-04-2025-07-02-2025-09-10-2025-10-01-2026-06-03/
LOCATION:Community Rooms (Papp & Trolley)\, 12303 Pardee Road\, Taylor\, MI\, 48180\, United States
CATEGORIES:Adults
ORGANIZER;CN="Becky Price":MAILTO:bprice@cityoftaylormi.gov
END:VEVENT
BEGIN:VEVENT
DTSTART;TZID=America/Detroit:20260606T150000
DTEND;TZID=America/Detroit:20260606T170000
DTSTAMP:20260421T153947
CREATED:20260420T195107Z
LAST-MODIFIED:20260420T195107Z
UID:19846-1780758000-1780765200@taylor.lib.mi.us
SUMMARY:Pride Month Movie Day
DESCRIPTION:Pride Month Movie Day\nTreat yourself to a free movie\, where you can work on a craft\, you are welcome to bring your own snacks (some snacks will be provided)\, and enjoy some time away from home. We will be watching Perks of Being a Wallflower (PG-13). There will be a discussion after the movie.\n*Open to teens (13+) and adults.
URL:https://taylor.lib.mi.us/event/pride-month-movie-day-3/
LOCATION:Community Rooms (Papp & Trolley)\, 12303 Pardee Road\, Taylor\, MI\, 48180\, United States
CATEGORIES:Adults,Teens
ORGANIZER;CN="Ace Norman":MAILTO:anorman@cityoftaylormi.gov
END:VEVENT
BEGIN:VEVENT
DTSTART;TZID=America/Detroit:20260608T110000
DTEND;TZID=America/Detroit:20260608T130000
DTSTAMP:20260421T153947
CREATED:20250613T212033Z
LAST-MODIFIED:20260420T195231Z
UID:19632-1780916400-1780923600@taylor.lib.mi.us
SUMMARY:Hooks & Needles
DESCRIPTION:Hooks & Needles\n\nCome and join other yarn enthusiasts in our community who love to knit and crochet.  This is a weekly event to share ideas\, projects\, and do a little yarning.  Bring your own projects to work on.\n\nThis event is intended for: Adults\, but anyone who knits’ or crochets’ is welcome!
URL:https://taylor.lib.mi.us/event/2025-09-29-2-2025-12-29-2026-04-06-2026-06-08/
LOCATION:Community Rooms (Papp & Trolley)\, 12303 Pardee Road\, Taylor\, MI\, 48180\, United States
CATEGORIES:Adults
ORGANIZER;CN="Stephanie Herm":MAILTO:sherm@cityoftaylormi.gov
END:VEVENT
BEGIN:VEVENT
DTSTART;TZID=America/Detroit:20260609T173000
DTEND;TZID=America/Detroit:20260609T193000
DTSTAMP:20260421T153947
CREATED:20260420T195242Z
LAST-MODIFIED:20260420T195242Z
UID:19752-1781026200-1781033400@taylor.lib.mi.us
SUMMARY:Sew Crafty
DESCRIPTION:Sew Crafty\nSew Crafty is a weekly lab for textile crafters to come together and work on their projects.  If you love to quilt\, sew\, knit\, crochet\, embroider\, needlepoint\, or any other textile crafting\, this is the place for you! This is a weekly lab that is open on Tuesdays from 5:30 – 7:30 p.m. This is a collaborative\, inter-generational crafting group intended for kids\, teens\, and adults. Children under 12 must be accompanied by an adult.
URL:https://taylor.lib.mi.us/event/2026-06-09/
LOCATION:Community Rooms (Papp & Trolley)\, 12303 Pardee Road\, Taylor\, MI\, 48180\, United States
CATEGORIES:Adults
ORGANIZER;CN="Hailey Boyer":MAILTO:hboyer@cityoftaylormi.gov
END:VEVENT
BEGIN:VEVENT
DTSTART;TZID=America/Detroit:20260610T173000
DTEND;TZID=America/Detroit:20260610T193000
DTSTAMP:20260421T153947
CREATED:20250510T150020Z
LAST-MODIFIED:20260420T195244Z
UID:18512-1781112600-1781119800@taylor.lib.mi.us
SUMMARY:Silent Book Club
DESCRIPTION:Silent Book Club\nEver wanted to join a book club\, but felt like it was too much pressure? Join this super low-key book club where you show up with a book of your choice and read! At each meeting the first and last 15 minutes will be designated for sharing what you’re reading/socializing with other members and then the hour and half in-between will be designated for reading. We will have an ambience room playing at low volume in the background and different options for seating. Feel free to bring a snack\, beverage\, or blanket to make this event extra cozy. This book club meets every Wednesday. \nThis event is intended for: Adults
URL:https://taylor.lib.mi.us/event/2024-12-04-2025-07-02-2025-09-10-2025-10-01-2026-06-10/
LOCATION:Community Rooms (Papp & Trolley)\, 12303 Pardee Road\, Taylor\, MI\, 48180\, United States
CATEGORIES:Adults
ORGANIZER;CN="Becky Price":MAILTO:bprice@cityoftaylormi.gov
END:VEVENT
BEGIN:VEVENT
DTSTART;TZID=America/Detroit:20260612T160000
DTEND;TZID=America/Detroit:20260612T180000
DTSTAMP:20260421T153947
CREATED:20260401T035126Z
LAST-MODIFIED:20260401T035126Z
UID:20654-1781280000-1781287200@taylor.lib.mi.us
SUMMARY:Friends of the Library Meeting
DESCRIPTION:Friends of the Library Meeting\nThis is a monthly meeting for those who are currently Friends of the Taylor Community Library and those interested in becoming friends to meet\, discuss monthly business\, and plan their next book sale. If you are interested in becoming a friend\, please fill out the form on the Friends of the Library Page or stop by one of their meetings.
URL:https://taylor.lib.mi.us/event/friends-of-the-library-meeting-4/
LOCATION:Community Rooms (Papp & Trolley)\, 12303 Pardee Road\, Taylor\, MI\, 48180\, United States
CATEGORIES:Adults,Friends Meetings,Friends of the Library
ORGANIZER;CN="Becky Price":MAILTO:bprice@cityoftaylormi.gov
END:VEVENT
BEGIN:VEVENT
DTSTART;TZID=America/Detroit:20260615T110000
DTEND;TZID=America/Detroit:20260615T130000
DTSTAMP:20260421T153947
CREATED:20250613T212033Z
LAST-MODIFIED:20260420T195530Z
UID:19633-1781521200-1781528400@taylor.lib.mi.us
SUMMARY:Hooks & Needles
DESCRIPTION:Hooks & Needles\n\nCome and join other yarn enthusiasts in our community who love to knit and crochet.  This is a weekly event to share ideas\, projects\, and do a little yarning.  Bring your own projects to work on.\n\nThis event is intended for: Adults\, but anyone who knits’ or crochets’ is welcome!
URL:https://taylor.lib.mi.us/event/2025-09-29-2-2025-12-29-2026-04-06-2026-06-15/
LOCATION:Community Rooms (Papp & Trolley)\, 12303 Pardee Road\, Taylor\, MI\, 48180\, United States
CATEGORIES:Adults
ORGANIZER;CN="Stephanie Herm":MAILTO:sherm@cityoftaylormi.gov
END:VEVENT
BEGIN:VEVENT
DTSTART;TZID=America/Detroit:20260616T173000
DTEND;TZID=America/Detroit:20260616T193000
DTSTAMP:20260421T153947
CREATED:20260420T195557Z
LAST-MODIFIED:20260420T195557Z
UID:19753-1781631000-1781638200@taylor.lib.mi.us
SUMMARY:Sew Crafty
DESCRIPTION:Sew Crafty\nSew Crafty is a weekly lab for textile crafters to come together and work on their projects.  If you love to quilt\, sew\, knit\, crochet\, embroider\, needlepoint\, or any other textile crafting\, this is the place for you! This is a weekly lab that is open on Tuesdays from 5:30 – 7:30 p.m. This is a collaborative\, inter-generational crafting group intended for kids\, teens\, and adults. Children under 12 must be accompanied by an adult.
URL:https://taylor.lib.mi.us/event/2026-06-16/
LOCATION:Community Rooms (Papp & Trolley)\, 12303 Pardee Road\, Taylor\, MI\, 48180\, United States
CATEGORIES:Adults
ORGANIZER;CN="Hailey Boyer":MAILTO:hboyer@cityoftaylormi.gov
END:VEVENT
BEGIN:VEVENT
DTSTART;TZID=America/Detroit:20260617T173000
DTEND;TZID=America/Detroit:20260617T193000
DTSTAMP:20260421T153947
CREATED:20250510T150020Z
LAST-MODIFIED:20260420T195600Z
UID:18513-1781717400-1781724600@taylor.lib.mi.us
SUMMARY:Silent Book Club
DESCRIPTION:Silent Book Club\nEver wanted to join a book club\, but felt like it was too much pressure? Join this super low-key book club where you show up with a book of your choice and read! At each meeting the first and last 15 minutes will be designated for sharing what you’re reading/socializing with other members and then the hour and half in-between will be designated for reading. We will have an ambience room playing at low volume in the background and different options for seating. Feel free to bring a snack\, beverage\, or blanket to make this event extra cozy. This book club meets every Wednesday. \nThis event is intended for: Adults
URL:https://taylor.lib.mi.us/event/2024-12-04-2025-07-02-2025-09-10-2025-10-01-2026-06-17/
LOCATION:Community Rooms (Papp & Trolley)\, 12303 Pardee Road\, Taylor\, MI\, 48180\, United States
CATEGORIES:Adults
ORGANIZER;CN="Becky Price":MAILTO:bprice@cityoftaylormi.gov
END:VEVENT
BEGIN:VEVENT
DTSTART;TZID=America/Detroit:20260617T180000
DTEND;TZID=America/Detroit:20260617T190000
DTSTAMP:20260421T153947
CREATED:20260420T195611Z
LAST-MODIFIED:20260420T195611Z
UID:20591-1781719200-1781722800@taylor.lib.mi.us
SUMMARY:Adult Book Club
DESCRIPTION:Join us as we read fiction from all walks of life and perspectives. For our next discussion\, we’ll be reading Remarkably Bright Creatures by Shelby Van Pelt. \n \nThe story follows Tova Sullivan\, an elderly cleaning woman at the Sowell Bay Aquarium\, who befriends an intelligent octopus named Marcellus. Their unlikely friendship and the unfolding of Tova’s personal story of loss and longing for her son Erik\, who disappeared at sea\, create a poignant narrative that highlights the beauty of human connections and the resilience of the spirit. \n\n\n\n*Please call ahead to make sure we have room for new members
URL:https://taylor.lib.mi.us/event/adult-book-club-2/
LOCATION:Community Rooms (Papp & Trolley)\, 12303 Pardee Road\, Taylor\, MI\, 48180\, United States
CATEGORIES:Adults
ORGANIZER;CN="Hailey Boyer":MAILTO:hboyer@cityoftaylormi.gov
END:VEVENT
BEGIN:VEVENT
DTSTART;VALUE=DATE:20260619
DTEND;VALUE=DATE:20260620
DTSTAMP:20260421T153947
CREATED:20260401T035359Z
LAST-MODIFIED:20260401T035359Z
UID:20655-1781827200-1781913599@taylor.lib.mi.us
SUMMARY:LIBRARY CLOSED
DESCRIPTION:LIBRARY CLOSED
URL:https://taylor.lib.mi.us/event/library-closed-22/
LOCATION:Community Rooms (Papp & Trolley)\, 12303 Pardee Road\, Taylor\, MI\, 48180\, United States
CATEGORIES:Adults,Teens,Youth & Families
END:VEVENT
BEGIN:VEVENT
DTSTART;TZID=America/Detroit:20260622T110000
DTEND;TZID=America/Detroit:20260622T130000
DTSTAMP:20260421T153947
CREATED:20250613T212033Z
LAST-MODIFIED:20260420T195634Z
UID:19634-1782126000-1782133200@taylor.lib.mi.us
SUMMARY:Hooks & Needles
DESCRIPTION:Hooks & Needles\n\nCome and join other yarn enthusiasts in our community who love to knit and crochet.  This is a weekly event to share ideas\, projects\, and do a little yarning.  Bring your own projects to work on.\n\nThis event is intended for: Adults\, but anyone who knits’ or crochets’ is welcome!
URL:https://taylor.lib.mi.us/event/2025-09-29-2-2025-12-29-2026-04-06-2026-06-22/
LOCATION:Community Rooms (Papp & Trolley)\, 12303 Pardee Road\, Taylor\, MI\, 48180\, United States
CATEGORIES:Adults
ORGANIZER;CN="Stephanie Herm":MAILTO:sherm@cityoftaylormi.gov
END:VEVENT
BEGIN:VEVENT
DTSTART;TZID=America/Detroit:20260622T180000
DTEND;TZID=America/Detroit:20260622T193000
DTSTAMP:20260421T153947
CREATED:20260110T155344Z
LAST-MODIFIED:20260110T155344Z
UID:19486-1782151200-1782156600@taylor.lib.mi.us
SUMMARY:Books & Bites Book Club*
DESCRIPTION:Books & Bites Book Club*\nBooks & Bites is a monthly book club that reads and discusses Adult books with teen crossover and sometimes Teen books with adult crossover. Copies of the next book are passed out and checked out at each meeting. You can also get a copy from our front desk and most of the time they are also available on Hoopla or Libby. \nThis event is intended for: Adults \nThis month’s title: “Murder in the Dressing Room” by Holly Stars \n \nBy day\, Joe is a hotel accountant\, invisibly sitting behind their desk and playing by the rules. By night\, donned in sequins\, they take to the stage as Misty Divine\, a star of the London drag scene. But when Misty’s drag mother\, Lady Lady\, is found dead in her dressing room beside a poisoned box of chocolates\, Misty and her fellow performers become the prime suspects. Heartbroken by the loss\, and frustrated by the clear biases of the police\, Misty must solve the crime before the culprit strikes again. Among the drop-dead gorgeous lurks a cutthroat killer\, and Misty Divine won’t rest until she finds out who it is. \n*This book club is currently waitlisted.\nTo join our in-person meetings\, please fill out our waitlist form below. In the meantime\, feel free to join our Facebook group for announcements and general bookish chat. You can also participate virtually using the Fable app. \nPlease enable JavaScript in your browser to complete this form.Name *FirstLastLegal or PreferredAre Under 18 or 18+? *Under 1818+What are Your Pronouns? *She/HerHe/HimThey/ThemOtherWhat is Your Library Card Number? *Who is Your Home Library? *What is Your Preferred Format? *Standard PrintLarge PrintBook on CDDigital Audiobook (Hoopla & Libby)Ebook (Hoopla & Libby)Are there any other formats you would be ok with?Standard PrintLarge PrintBook on CDAudiobook Digital (Hoopla & Libby)Ebook (Hoopla & Libby)What is the best way to contact you if we have a spot open? *TextCallEmailBased on how you answered above\, please provide your phone number or email address *Submit
URL:https://taylor.lib.mi.us/event/2026-06-22/
LOCATION:Community Rooms (Papp & Trolley)\, 12303 Pardee Road\, Taylor\, MI\, 48180\, United States
CATEGORIES:Adults
ORGANIZER;CN="Becky Price":MAILTO:bprice@cityoftaylormi.gov
END:VEVENT
BEGIN:VEVENT
DTSTART;TZID=America/Detroit:20260623T173000
DTEND;TZID=America/Detroit:20260623T193000
DTSTAMP:20260421T153947
CREATED:20260420T195646Z
LAST-MODIFIED:20260420T195646Z
UID:19754-1782235800-1782243000@taylor.lib.mi.us
SUMMARY:Sew Crafty
DESCRIPTION:Sew Crafty\nSew Crafty is a weekly lab for textile crafters to come together and work on their projects.  If you love to quilt\, sew\, knit\, crochet\, embroider\, needlepoint\, or any other textile crafting\, this is the place for you! This is a weekly lab that is open on Tuesdays from 5:30 – 7:30 p.m. This is a collaborative\, inter-generational crafting group intended for kids\, teens\, and adults. Children under 12 must be accompanied by an adult.
URL:https://taylor.lib.mi.us/event/2026-06-23/
LOCATION:Community Rooms (Papp & Trolley)\, 12303 Pardee Road\, Taylor\, MI\, 48180\, United States
CATEGORIES:Adults
ORGANIZER;CN="Hailey Boyer":MAILTO:hboyer@cityoftaylormi.gov
END:VEVENT
BEGIN:VEVENT
DTSTART;TZID=America/Detroit:20260624T173000
DTEND;TZID=America/Detroit:20260624T193000
DTSTAMP:20260421T153947
CREATED:20250510T150020Z
LAST-MODIFIED:20260420T195648Z
UID:18514-1782322200-1782329400@taylor.lib.mi.us
SUMMARY:Silent Book Club
DESCRIPTION:Silent Book Club\nEver wanted to join a book club\, but felt like it was too much pressure? Join this super low-key book club where you show up with a book of your choice and read! At each meeting the first and last 15 minutes will be designated for sharing what you’re reading/socializing with other members and then the hour and half in-between will be designated for reading. We will have an ambience room playing at low volume in the background and different options for seating. Feel free to bring a snack\, beverage\, or blanket to make this event extra cozy. This book club meets every Wednesday. \nThis event is intended for: Adults
URL:https://taylor.lib.mi.us/event/2024-12-04-2025-07-02-2025-09-10-2025-10-01-2026-06-24/
LOCATION:Community Rooms (Papp & Trolley)\, 12303 Pardee Road\, Taylor\, MI\, 48180\, United States
CATEGORIES:Adults
ORGANIZER;CN="Becky Price":MAILTO:bprice@cityoftaylormi.gov
END:VEVENT
BEGIN:VEVENT
DTSTART;VALUE=DATE:20260625
DTEND;VALUE=DATE:20260626
DTSTAMP:20260421T153947
CREATED:20260401T035435Z
LAST-MODIFIED:20260401T035435Z
UID:20656-1782345600-1782431999@taylor.lib.mi.us
SUMMARY:LIBRARY CLOSED
DESCRIPTION:LIBRARY CLOSED
URL:https://taylor.lib.mi.us/event/library-closed-23/
LOCATION:Community Rooms (Papp & Trolley)\, 12303 Pardee Road\, Taylor\, MI\, 48180\, United States
CATEGORIES:Adults,Teens,Youth & Families
END:VEVENT
BEGIN:VEVENT
DTSTART;VALUE=DATE:20260626
DTEND;VALUE=DATE:20260627
DTSTAMP:20260421T153947
CREATED:20260401T035500Z
LAST-MODIFIED:20260401T035500Z
UID:20657-1782432000-1782518399@taylor.lib.mi.us
SUMMARY:LIBRARY CLOSED
DESCRIPTION:LIBRARY CLOSED
URL:https://taylor.lib.mi.us/event/library-closed-24/
LOCATION:Community Rooms (Papp & Trolley)\, 12303 Pardee Road\, Taylor\, MI\, 48180\, United States
CATEGORIES:Adults,Teens,Youth & Families
END:VEVENT
BEGIN:VEVENT
DTSTART;VALUE=DATE:20260627
DTEND;VALUE=DATE:20260628
DTSTAMP:20260421T153947
CREATED:20260401T035518Z
LAST-MODIFIED:20260401T035518Z
UID:20658-1782518400-1782604799@taylor.lib.mi.us
SUMMARY:LIBRARY CLOSED
DESCRIPTION:LIBRARY CLOSED
URL:https://taylor.lib.mi.us/event/library-closed-25/
LOCATION:Community Rooms (Papp & Trolley)\, 12303 Pardee Road\, Taylor\, MI\, 48180\, United States
CATEGORIES:Adults,Teens,Youth & Families
END:VEVENT
BEGIN:VEVENT
DTSTART;TZID=America/Detroit:20260629T110000
DTEND;TZID=America/Detroit:20260629T130000
DTSTAMP:20260421T153947
CREATED:20250613T212033Z
LAST-MODIFIED:20260420T195651Z
UID:19635-1782730800-1782738000@taylor.lib.mi.us
SUMMARY:Hooks & Needles
DESCRIPTION:Hooks & Needles\n\nCome and join other yarn enthusiasts in our community who love to knit and crochet.  This is a weekly event to share ideas\, projects\, and do a little yarning.  Bring your own projects to work on.\n\nThis event is intended for: Adults\, but anyone who knits’ or crochets’ is welcome!
URL:https://taylor.lib.mi.us/event/2025-09-29-2-2025-12-29-2026-04-06-2026-06-29/
LOCATION:Community Rooms (Papp & Trolley)\, 12303 Pardee Road\, Taylor\, MI\, 48180\, United States
CATEGORIES:Adults
ORGANIZER;CN="Stephanie Herm":MAILTO:sherm@cityoftaylormi.gov
END:VEVENT
BEGIN:VEVENT
DTSTART;TZID=America/Detroit:20260630T173000
DTEND;TZID=America/Detroit:20260630T193000
DTSTAMP:20260421T153947
CREATED:20260420T195730Z
LAST-MODIFIED:20260420T195730Z
UID:19755-1782840600-1782847800@taylor.lib.mi.us
SUMMARY:Sew Crafty
DESCRIPTION:Sew Crafty\nSew Crafty is a weekly lab for textile crafters to come together and work on their projects.  If you love to quilt\, sew\, knit\, crochet\, embroider\, needlepoint\, or any other textile crafting\, this is the place for you! This is a weekly lab that is open on Tuesdays from 5:30 – 7:30 p.m. This is a collaborative\, inter-generational crafting group intended for kids\, teens\, and adults. Children under 12 must be accompanied by an adult.
URL:https://taylor.lib.mi.us/event/2026-06-30/
LOCATION:Community Rooms (Papp & Trolley)\, 12303 Pardee Road\, Taylor\, MI\, 48180\, United States
CATEGORIES:Adults
ORGANIZER;CN="Hailey Boyer":MAILTO:hboyer@cityoftaylormi.gov
END:VEVENT
BEGIN:VEVENT
DTSTART;TZID=America/Detroit:20260701T120000
DTEND;TZID=America/Detroit:20260701T140000
DTSTAMP:20260421T153947
CREATED:20251209T213649Z
LAST-MODIFIED:20260420T215353Z
UID:19925-1782907200-1782914400@taylor.lib.mi.us
SUMMARY:Audio Described Movie Day
DESCRIPTION:Audio Described Movie Day\nPop in the 1st Wednesday of each month to watch a new\, popular film with the Audio Description (AD) narration track added. \n  \nFebruary’s film: \nGood Fortune (R)
URL:https://taylor.lib.mi.us/event/audio-described-movie-day-15-2026-03-04-2026-07-01/
LOCATION:Trolley (North) Unity Room\, 12303 Pardee Road\, Taylor\, MI\, 48180\, United States
CATEGORIES:Adults
ORGANIZER;CN="Sarah Roe":MAILTO:sroe@cityoftaylormi.gov
END:VEVENT
BEGIN:VEVENT
DTSTART;TZID=America/Detroit:20260701T173000
DTEND;TZID=America/Detroit:20260701T193000
DTSTAMP:20260421T153947
CREATED:20250510T150020Z
LAST-MODIFIED:20260420T215356Z
UID:18515-1782927000-1782934200@taylor.lib.mi.us
SUMMARY:Silent Book Club
DESCRIPTION:Silent Book Club\nEver wanted to join a book club\, but felt like it was too much pressure? Join this super low-key book club where you show up with a book of your choice and read! At each meeting the first and last 15 minutes will be designated for sharing what you’re reading/socializing with other members and then the hour and half in-between will be designated for reading. We will have an ambience room playing at low volume in the background and different options for seating. Feel free to bring a snack\, beverage\, or blanket to make this event extra cozy. This book club meets every Wednesday. \nThis event is intended for: Adults
URL:https://taylor.lib.mi.us/event/2024-12-04-2025-07-02-2025-09-10-2025-10-01-2026-07-01/
LOCATION:Community Rooms (Papp & Trolley)\, 12303 Pardee Road\, Taylor\, MI\, 48180\, United States
CATEGORIES:Adults
ORGANIZER;CN="Becky Price":MAILTO:bprice@cityoftaylormi.gov
END:VEVENT
BEGIN:VEVENT
DTSTART;VALUE=DATE:20260703
DTEND;VALUE=DATE:20260704
DTSTAMP:20260421T153947
CREATED:20260401T040416Z
LAST-MODIFIED:20260401T040416Z
UID:20667-1783036800-1783123199@taylor.lib.mi.us
SUMMARY:LIBRARY CLOSED
DESCRIPTION:LIBRARY CLOSED
URL:https://taylor.lib.mi.us/event/library-closed-26/
LOCATION:Community Rooms (Papp & Trolley)\, 12303 Pardee Road\, Taylor\, MI\, 48180\, United States
CATEGORIES:Adults,Teens,Youth & Families
END:VEVENT
BEGIN:VEVENT
DTSTART;VALUE=DATE:20260704
DTEND;VALUE=DATE:20260705
DTSTAMP:20260421T153947
CREATED:20260401T040452Z
LAST-MODIFIED:20260401T040452Z
UID:20668-1783123200-1783209599@taylor.lib.mi.us
SUMMARY:LIBRARY CLOSED
DESCRIPTION:LIBRARY CLOSED
URL:https://taylor.lib.mi.us/event/library-closed-27/
LOCATION:Community Rooms (Papp & Trolley)\, 12303 Pardee Road\, Taylor\, MI\, 48180\, United States
CATEGORIES:Adults,Teens,Youth & Families
END:VEVENT
END:VCALENDAR