BEGIN:VCALENDAR
VERSION:2.0
PRODID:-//Taylor Community Library - ECPv6.15.20//NONSGML v1.0//EN
CALSCALE:GREGORIAN
METHOD:PUBLISH
X-WR-CALNAME:Taylor Community Library
X-ORIGINAL-URL:https://taylor.lib.mi.us
X-WR-CALDESC:Events for Taylor Community Library
REFRESH-INTERVAL;VALUE=DURATION:PT1H
X-Robots-Tag:noindex
X-PUBLISHED-TTL:PT1H
BEGIN:VTIMEZONE
TZID:America/Detroit
BEGIN:DAYLIGHT
TZOFFSETFROM:-0500
TZOFFSETTO:-0400
TZNAME:EDT
DTSTART:20240310T070000
END:DAYLIGHT
BEGIN:STANDARD
TZOFFSETFROM:-0400
TZOFFSETTO:-0500
TZNAME:EST
DTSTART:20241103T060000
END:STANDARD
BEGIN:DAYLIGHT
TZOFFSETFROM:-0500
TZOFFSETTO:-0400
TZNAME:EDT
DTSTART:20250309T070000
END:DAYLIGHT
BEGIN:STANDARD
TZOFFSETFROM:-0400
TZOFFSETTO:-0500
TZNAME:EST
DTSTART:20251102T060000
END:STANDARD
BEGIN:DAYLIGHT
TZOFFSETFROM:-0500
TZOFFSETTO:-0400
TZNAME:EDT
DTSTART:20260308T070000
END:DAYLIGHT
BEGIN:STANDARD
TZOFFSETFROM:-0400
TZOFFSETTO:-0500
TZNAME:EST
DTSTART:20261101T060000
END:STANDARD
END:VTIMEZONE
BEGIN:VEVENT
DTSTART;TZID=America/Detroit:20250728T110000
DTEND;TZID=America/Detroit:20250728T130000
DTSTAMP:20260422T234003
CREATED:20250613T211929Z
LAST-MODIFIED:20250613T211929Z
UID:17919-1753700400-1753707600@taylor.lib.mi.us
SUMMARY:Hooks & Needles
DESCRIPTION:Hooks & Needles\n\nCome and join other yarn enthusiasts in our community who love to knit and crochet.  This is a weekly event to share ideas\, projects\, and do a little yarning.  Bring your own projects to work on.\n\nThis event is intended for: Adults\, but anyone who knits’ or crochets’ is welcome!
URL:https://taylor.lib.mi.us/event/2025-07-28-3/
LOCATION:Community Rooms (Papp & Trolley)\, 12303 Pardee Road\, Taylor\, MI\, 48180\, United States
CATEGORIES:Adults
ORGANIZER;CN="Stephanie Herm":MAILTO:sherm@cityoftaylormi.gov
END:VEVENT
BEGIN:VEVENT
DTSTART;TZID=America/Detroit:20250728T180000
DTEND;TZID=America/Detroit:20250728T193000
DTSTAMP:20260422T234003
CREATED:20250612T232949Z
LAST-MODIFIED:20250612T232949Z
UID:15725-1753725600-1753731000@taylor.lib.mi.us
SUMMARY:Books & Bites Book Club*
DESCRIPTION:Books & Bites Book Club*\nBooks & Bites is a monthly book club that reads and discusses YA books with adult crossover and Adult books with teen crossover — anyone who is a fan of these genres can attend. Copies of the next book are passed out and checked out at each meeting. You can also get a copy from our front desk and most of the time they are also available on Hoopla or Libby. \nThis event is intended for: Adults \nThis month’s title: “Butcher & Blackbird” by Brynne Weaver \nVersion 1.0.0\nWhen a chance encounter sparks an unlikely bond between rival murderers Sloane and Rowan\, they find something elusive–the friendship of two like-minded\, pitch-black souls who just happen to enjoy killing other serial killers. From small-town West Virginia to upscale California\, and from downtown Boston to rural Texas\, the two hunters collide in an annual game of blood and suffering\, one that pits them against the most dangerous monsters in the country. But as their friendship develops into something more\, the restless ghosts left in their wake are only a few steps behind\, ready to claim more than just their newfound love. Can Rowan and Sloane dig themselves out of a game of graves? Or have they finally met their match? \n*This book club is currently waitlisted. To join our in-person meetings\, please fill out our waitlist form below. In the meantime\, feel free to join our Facebook group for announcements and general bookish chat. You can also participate virtually using the Fable app. \nPlease enable JavaScript in your browser to complete this form.Name *FirstLastLegal or PreferredAre Under 18 or 18+? *Under 1818+What are Your Pronouns? *She/HerHe/HimThey/ThemOtherWhat is Your Library Card Number? *Who is Your Home Library? *What is Your Preferred Format? *Standard PrintLarge PrintBook on CDDigital Audiobook (Hoopla & Libby)Ebook (Hoopla & Libby)Are there any other formats you would be ok with?Standard PrintLarge PrintBook on CDAudiobook Digital (Hoopla & Libby)Ebook (Hoopla & Libby)What is the best way to contact you if we have a spot open? *TextCallEmailBased on how you answered above\, please provide your phone number or email address *Submit
URL:https://taylor.lib.mi.us/event/2025-07-28/
LOCATION:Community Rooms (Papp & Trolley)\, 12303 Pardee Road\, Taylor\, MI\, 48180\, United States
CATEGORIES:Adults
ORGANIZER;CN="Becky Price":MAILTO:bprice@cityoftaylormi.gov
END:VEVENT
BEGIN:VEVENT
DTSTART;TZID=America/Detroit:20250729T173000
DTEND;TZID=America/Detroit:20250729T193000
DTSTAMP:20260422T234003
CREATED:20230319T192214Z
LAST-MODIFIED:20250612T232651Z
UID:16359-1753810200-1753817400@taylor.lib.mi.us
SUMMARY:Sew Crafty
DESCRIPTION:Sew Crafty\nSew Crafty is a weekly lab for textile crafters to come together and work on their projects.  If you love to quilt\, sew\, knit\, crochet\, embroider\, needlepoint\, or any other textile crafting\, this is the place for you! This is a weekly lab that is open on Tuesdays from 5:30 – 7:30 p.m. This is a collaborative\, inter-generational crafting group intended for kids\, teens\, and adults. Children under 12 must be accompanied by an adult.
URL:https://taylor.lib.mi.us/event/2023-06-27-2023-10-03-2024-07-02-2025-06-03-2025-07-01-2025-07-29/
LOCATION:Community Rooms (Papp & Trolley)\, 12303 Pardee Road\, Taylor\, MI\, 48180\, United States
CATEGORIES:Adults,Teens,Youth & Families
ORGANIZER;CN="Hailey Boyer":MAILTO:hboyer@cityoftaylormi.gov
END:VEVENT
BEGIN:VEVENT
DTSTART;TZID=America/Detroit:20250730T140000
DTEND;TZID=America/Detroit:20250730T153000
DTSTAMP:20260422T234003
CREATED:20250620T204738Z
LAST-MODIFIED:20250711T181045Z
UID:17953-1753884000-1753889400@taylor.lib.mi.us
SUMMARY:Chair Yoga for Seniors
DESCRIPTION:Chair Yoga for Seniors\n  \nJoin us for this 4-week chair yoga course where we will focus on gentle movement and mindful mobility. Dates include: July 9\, 16\, 23\, and 30th. This event is partnered by Leaders Advancing & Helping Communities. \nThis event is intended for: Seniors \nWant a reminder call for this program? Fill out our form:\nPlease enable JavaScript in your browser to complete this form.Name *FirstLastPhone Number *City you live in *You do NOT need to be a Taylor resident to attendSubmit
URL:https://taylor.lib.mi.us/event/2025-07-30/
LOCATION:Community Rooms (Papp & Trolley)\, 12303 Pardee Road\, Taylor\, MI\, 48180\, United States
CATEGORIES:Adults
ORGANIZER;CN="Becky Price":MAILTO:bprice@cityoftaylormi.gov
END:VEVENT
BEGIN:VEVENT
DTSTART;TZID=America/Detroit:20250730T160000
DTEND;TZID=America/Detroit:20250730T170000
DTSTAMP:20260422T234003
CREATED:20250612T231247Z
LAST-MODIFIED:20250612T231247Z
UID:16264-1753891200-1753894800@taylor.lib.mi.us
SUMMARY:Writer’s Workshop: Intro to the Basics of Publishing
DESCRIPTION:Writer’s Workshop: Intro to the Basics of Publishing\nJoin us in a writing workshop\, led by Author Talesha Wright.  She will give you a practical\, fast-paced introduction to the world of book publishing and leave you with the confidence to follow through in your dream of publishing your work.  All materials will be provided.\n*Open to teens (H.S. — College) and Adults.
URL:https://taylor.lib.mi.us/event/writers-workshop-intro-to-the-basics-of-publishing/
LOCATION:Community Rooms (Papp & Trolley)\, 12303 Pardee Road\, Taylor\, MI\, 48180\, United States
CATEGORIES:Adults,Teens
ORGANIZER;CN="Becky Price":MAILTO:bprice@cityoftaylormi.gov
END:VEVENT
BEGIN:VEVENT
DTSTART;TZID=America/Detroit:20250730T173000
DTEND;TZID=America/Detroit:20250730T193000
DTSTAMP:20260422T234003
CREATED:20250510T150020Z
LAST-MODIFIED:20250612T232659Z
UID:15116-1753896600-1753903800@taylor.lib.mi.us
SUMMARY:Silent Book Club
DESCRIPTION:Silent Book Club\nEver wanted to join a book club\, but felt like it was too much pressure? Join this super low-key book club where you show up with a book of your choice and read! At each meeting the first and last 15 minutes will be designated for sharing what you’re reading/socializing with other members and then the hour and half in-between will be designated for reading. We will have an ambience room playing at low volume in the background and different options for seating. Feel free to bring a snack\, beverage\, or blanket to make this event extra cozy. This book club meets every Wednesday. \nThis event is intended for: Adults
URL:https://taylor.lib.mi.us/event/2024-12-04-2025-07-02-2025-07-30/
LOCATION:Community Rooms (Papp & Trolley)\, 12303 Pardee Road\, Taylor\, MI\, 48180\, United States
CATEGORIES:Adults
ORGANIZER;CN="Becky Price":MAILTO:bprice@cityoftaylormi.gov
END:VEVENT
BEGIN:VEVENT
DTSTART;TZID=America/Detroit:20250802T150000
DTEND;TZID=America/Detroit:20250802T170000
DTSTAMP:20260422T234003
CREATED:20250612T231413Z
LAST-MODIFIED:20250721T155146Z
UID:17136-1754146800-1754154000@taylor.lib.mi.us
SUMMARY:CANCELED: Nostalgic Movie Day!
DESCRIPTION:CANCELED: Nostalgic Movie Day!\nCome join us for a movie day.  We will set out chairs in one of the front Community Rooms to enjoy the movie\, Camp Nowhere (Rated PG). \n*Snacks will be provided! \n \nThis event is intended for: All Ages
URL:https://taylor.lib.mi.us/event/nostalgic-movie-day-4/
LOCATION:Community Rooms (Papp & Trolley)\, 12303 Pardee Road\, Taylor\, MI\, 48180\, United States
CATEGORIES:Adults,Teens,Youth & Families
ORGANIZER;CN="Becky Price":MAILTO:bprice@cityoftaylormi.gov
END:VEVENT
BEGIN:VEVENT
DTSTART;TZID=America/Detroit:20250802T153000
DTEND;TZID=America/Detroit:20250802T173000
DTSTAMP:20260422T234003
CREATED:20250620T205807Z
LAST-MODIFIED:20250620T211243Z
UID:17946-1754148600-1754155800@taylor.lib.mi.us
SUMMARY:Library Tours*
DESCRIPTION:Library Tours\nJust got your TCL (Taylor Community Library) card and want a tour to know what all your new library has to offer? Or are you a long-time card holder\, but want to help support it by attending an event or are just curious? Sign up for one of our TCL tours! Our Adult Librarian will be leading these tours a couple times throughout the summer so if this time doesn’t work for you be sure to check for the other times we’re offering them. During these tours our Adult Librarian will lead you around the library to show you where all the collections can be found and answering any questions you may have. \nThis event is intended for: Families\, Teens\, and Adults \n*Sign up for a Tour Below: \nPlease enable JavaScript in your browser to complete this form.Name *FirstLastPhone Number *City you live in *You do not need to be a Taylor resident to attendChoose Your Tour Date *Saturday\, June 7Monday\, June 9Saturday\, August 2Choose Your Tour Time for Saturday\, June 7 *3:15pm3:40pm4pm4:30pm5pmChoose Your Tour Time for Monday\, June 9 *5:30pm6pm6:30pm7pmChoose Your Tour Time for Saturday\, August 2 *3:30pm4pm4:30pm5pmWould you like a reminder call the day before the event? *YesNoI understand that this registration only counts for one person and that it is strongly recommended I do not bring any non-registered guests. *YesSubmit
URL:https://taylor.lib.mi.us/event/library-tours-2/
LOCATION:Community Rooms (Papp & Trolley)\, 12303 Pardee Road\, Taylor\, MI\, 48180\, United States
CATEGORIES:Adults,Teens,Youth & Families
ORGANIZER;CN="Becky Price":MAILTO:bprice@cityoftaylormi.gov
END:VEVENT
END:VCALENDAR