BEGIN:VCALENDAR
VERSION:2.0
PRODID:-//Taylor Community Library - ECPv6.15.20//NONSGML v1.0//EN
CALSCALE:GREGORIAN
METHOD:PUBLISH
X-ORIGINAL-URL:https://taylor.lib.mi.us
X-WR-CALDESC:Events for Taylor Community Library
REFRESH-INTERVAL;VALUE=DURATION:PT1H
X-Robots-Tag:noindex
X-PUBLISHED-TTL:PT1H
BEGIN:VTIMEZONE
TZID:America/Detroit
BEGIN:DAYLIGHT
TZOFFSETFROM:-0500
TZOFFSETTO:-0400
TZNAME:EDT
DTSTART:20240310T070000
END:DAYLIGHT
BEGIN:STANDARD
TZOFFSETFROM:-0400
TZOFFSETTO:-0500
TZNAME:EST
DTSTART:20241103T060000
END:STANDARD
BEGIN:DAYLIGHT
TZOFFSETFROM:-0500
TZOFFSETTO:-0400
TZNAME:EDT
DTSTART:20250309T070000
END:DAYLIGHT
BEGIN:STANDARD
TZOFFSETFROM:-0400
TZOFFSETTO:-0500
TZNAME:EST
DTSTART:20251102T060000
END:STANDARD
BEGIN:DAYLIGHT
TZOFFSETFROM:-0500
TZOFFSETTO:-0400
TZNAME:EDT
DTSTART:20260308T070000
END:DAYLIGHT
BEGIN:STANDARD
TZOFFSETFROM:-0400
TZOFFSETTO:-0500
TZNAME:EST
DTSTART:20261101T060000
END:STANDARD
END:VTIMEZONE
BEGIN:VEVENT
DTSTART;TZID=America/Detroit:20251215T110000
DTEND;TZID=America/Detroit:20251215T130000
DTSTAMP:20260420T123946
CREATED:20250613T212033Z
LAST-MODIFIED:20250903T192927Z
UID:18359-1765796400-1765803600@taylor.lib.mi.us
SUMMARY:Hooks & Needles
DESCRIPTION:Hooks & Needles\n\nCome and join other yarn enthusiasts in our community who love to knit and crochet.  This is a weekly event to share ideas\, projects\, and do a little yarning.  Bring your own projects to work on.\n\nThis event is intended for: Adults\, but anyone who knits’ or crochets’ is welcome!
URL:https://taylor.lib.mi.us/event/2025-09-29-2-2025-12-15/
LOCATION:Community Rooms (Papp & Trolley)\, 12303 Pardee Road\, Taylor\, MI\, 48180\, United States
CATEGORIES:Adults
ORGANIZER;CN="Stephanie Herm":MAILTO:sherm@cityoftaylormi.gov
END:VEVENT
BEGIN:VEVENT
DTSTART;TZID=America/Detroit:20251215T173000
DTEND;TZID=America/Detroit:20251215T193000
DTSTAMP:20260420T123946
CREATED:20251013T184822Z
LAST-MODIFIED:20251211T190125Z
UID:19016-1765819800-1765827000@taylor.lib.mi.us
SUMMARY:Adult Painting Swap*
DESCRIPTION:Adult Painting Swap*\nJoin our Adult Librarian\, Becky Price\, for an adult painting swap. Each participant will get a canvas to start. You will have 5 minutes to set up your canvas for what kind of painting you’re attempting to get at the end of the night. Every few minutes you will swap paintings with the person next to you for them to add to it. At the end\, you will get your brand new painting back with time to finish your painting (if needed) before taking it home. We will also be taking before and after photos to post on our Facebook and Instagram. This program is open to all skill levels. \nThis event is intended for: Adults \n*REGISTRATION IS FULL*
URL:https://taylor.lib.mi.us/event/adult-painting-swap-4/
LOCATION:Community Rooms (Papp & Trolley)\, 12303 Pardee Road\, Taylor\, MI\, 48180\, United States
CATEGORIES:Adults
ORGANIZER;CN="Becky Price":MAILTO:bprice@cityoftaylormi.gov
END:VEVENT
BEGIN:VEVENT
DTSTART;TZID=America/Detroit:20251216T173000
DTEND;TZID=America/Detroit:20251216T193000
DTSTAMP:20260420T123946
CREATED:20251110T195644Z
LAST-MODIFIED:20251110T195644Z
UID:19134-1765906200-1765913400@taylor.lib.mi.us
SUMMARY:Sew Crafty
DESCRIPTION:Sew Crafty\nSew Crafty is a weekly lab for textile crafters to come together and work on their projects.  If you love to quilt\, sew\, knit\, crochet\, embroider\, needlepoint\, or any other textile crafting\, this is the place for you! This is a weekly lab that is open on Tuesdays from 5:30 – 7:30 p.m. This is a collaborative\, inter-generational crafting group intended for kids\, teens\, and adults. Children under 12 must be accompanied by an adult.
URL:https://taylor.lib.mi.us/event/sew-crafty-10/
LOCATION:Community Rooms (Papp & Trolley)\, 12303 Pardee Road\, Taylor\, MI\, 48180\, United States
CATEGORIES:Adults,Teens,Youth & Families
ORGANIZER;CN="Hailey Boyer":MAILTO:hboyer@cityoftaylormi.gov
END:VEVENT
BEGIN:VEVENT
DTSTART;TZID=America/Detroit:20251217T150000
DTEND;TZID=America/Detroit:20251217T160000
DTSTAMP:20260420T123946
CREATED:20251106T215320Z
LAST-MODIFIED:20251106T215320Z
UID:19259-1765983600-1765987200@taylor.lib.mi.us
SUMMARY:Medicare 101
DESCRIPTION:Medicare 101\nJoin us for an information night with Independent Insurance Agent Tiffany J. Stone where she will explain what Medicare is\, the penalties\, when the enrollment period is\, and how to avoid Medicare scams. Light refreshments will be provided.
URL:https://taylor.lib.mi.us/event/medicare-101-5/
LOCATION:Community Rooms (Papp & Trolley)\, 12303 Pardee Road\, Taylor\, MI\, 48180\, United States
CATEGORIES:Adults
ORGANIZER;CN="Becky Price":MAILTO:bprice@cityoftaylormi.gov
END:VEVENT
BEGIN:VEVENT
DTSTART;TZID=America/Detroit:20251217T173000
DTEND;TZID=America/Detroit:20251217T193000
DTSTAMP:20260420T123946
CREATED:20250510T150020Z
LAST-MODIFIED:20251006T183341Z
UID:18487-1765992600-1765999800@taylor.lib.mi.us
SUMMARY:Silent Book Club
DESCRIPTION:Silent Book Club\nEver wanted to join a book club\, but felt like it was too much pressure? Join this super low-key book club where you show up with a book of your choice and read! At each meeting the first and last 15 minutes will be designated for sharing what you’re reading/socializing with other members and then the hour and half in-between will be designated for reading. We will have an ambience room playing at low volume in the background and different options for seating. Feel free to bring a snack\, beverage\, or blanket to make this event extra cozy. This book club meets every Wednesday. \nThis event is intended for: Adults
URL:https://taylor.lib.mi.us/event/2024-12-04-2025-07-02-2025-09-10-2025-10-01-2025-12-17/
LOCATION:Community Rooms (Papp & Trolley)\, 12303 Pardee Road\, Taylor\, MI\, 48180\, United States
CATEGORIES:Adults
ORGANIZER;CN="Becky Price":MAILTO:bprice@cityoftaylormi.gov
END:VEVENT
BEGIN:VEVENT
DTSTART;TZID=America/Detroit:20251218T170000
DTEND;TZID=America/Detroit:20251218T190000
DTSTAMP:20260420T123946
CREATED:20251105T204852Z
LAST-MODIFIED:20251119T215505Z
UID:19221-1766077200-1766084400@taylor.lib.mi.us
SUMMARY:Holiday Gift Wrapping Station
DESCRIPTION:Holiday Gift Wrapping Station\nWe are offering a calm spot to wrap presents away from prying eyes! Listen to holiday music and chill with us Thursday\, December 18th from 5pm-7pm. \nWe will have some wrapping supplies available\, but we encourage you to bring your own gift paper\, bows\, or gift boxes.
URL:https://taylor.lib.mi.us/event/2025-12-17/
LOCATION:Trolley (North) Unity Room\, 12303 Pardee Road\, Taylor\, MI\, 48180\, United States
CATEGORIES:Adults
ORGANIZER;CN="Sarah Roe":MAILTO:sroe@cityoftaylormi.gov
END:VEVENT
BEGIN:VEVENT
DTSTART;TZID=America/Detroit:20251218T173000
DTEND;TZID=America/Detroit:20251218T193000
DTSTAMP:20260420T123946
CREATED:20251018T184709Z
LAST-MODIFIED:20251103T201609Z
UID:19015-1766079000-1766086200@taylor.lib.mi.us
SUMMARY:How To: Crochet*
DESCRIPTION:How To: Crochet*\nLearn the basics of crochet with our adult librarian\, Becky Price! We will provide all the materials\, but feel free to bring your own if you would prefer. This event is open to ages 10 and up. During this 3-week hands-on course we will be learning the following skills: \n\nHow to read a yarn label\nChain stitch (ch)\nsingle crochet (sc)\nFront Loop and Back Loop Only (FLO & BLO)\nIncrease (inc)\nDecrease (dec or 2tog)\nColor Changing\nDouble Crochet (dc)\nHalf Double Crochet (hdc)\nTreble Crochet (tr)\n\nMaterials we will be using (All provided): \n\n4ply Acrylic Yarn (Two colors)\n5.5mm or Size I-9 Crochet Hook\n\nThis event is intended for: Tweens\, Teens\, and Adults \n*Registration Required. You must attend the first class on Thursday\, December 4 in order to attend this one.*
URL:https://taylor.lib.mi.us/event/how-to-crochet-2/
LOCATION:Community Rooms (Papp & Trolley)\, 12303 Pardee Road\, Taylor\, MI\, 48180\, United States
CATEGORIES:Adults,Teens,Youth & Families
ORGANIZER;CN="Becky Price":MAILTO:bprice@cityoftaylormi.gov
END:VEVENT
BEGIN:VEVENT
DTSTART;TZID=America/Detroit:20251220T150000
DTEND;TZID=America/Detroit:20251220T170000
DTSTAMP:20260420T123946
CREATED:20250613T203628Z
LAST-MODIFIED:20250613T203629Z
UID:17583-1766242800-1766250000@taylor.lib.mi.us
SUMMARY:Die Hard Viewing Party
DESCRIPTION:Die Hard Viewing Party\nTreat yourself to a free movie\, where you don’t have to bother with sneaking in snacks. Come join us for a movie\, bring your own snacks\, and enjoy some time away from home. We will be watching Die Hard (R). \n*Open to all adults (17+).  Anyone younger\, will have to have a parent or guardian present.
URL:https://taylor.lib.mi.us/event/die-hard-viewing-party/
LOCATION:Community Rooms (Papp & Trolley)\, 12303 Pardee Road\, Taylor\, MI\, 48180\, United States
CATEGORIES:Adults
ORGANIZER;CN="Becky Price":MAILTO:bprice@cityoftaylormi.gov
END:VEVENT
END:VCALENDAR