BEGIN:VCALENDAR
VERSION:2.0
PRODID:-//Taylor Community Library - ECPv6.15.20//NONSGML v1.0//EN
CALSCALE:GREGORIAN
METHOD:PUBLISH
X-WR-CALNAME:Taylor Community Library
X-ORIGINAL-URL:https://taylor.lib.mi.us
X-WR-CALDESC:Events for Taylor Community Library
REFRESH-INTERVAL;VALUE=DURATION:PT1H
X-Robots-Tag:noindex
X-PUBLISHED-TTL:PT1H
BEGIN:VTIMEZONE
TZID:America/Detroit
BEGIN:DAYLIGHT
TZOFFSETFROM:-0500
TZOFFSETTO:-0400
TZNAME:EDT
DTSTART:20230312T070000
END:DAYLIGHT
BEGIN:STANDARD
TZOFFSETFROM:-0400
TZOFFSETTO:-0500
TZNAME:EST
DTSTART:20231105T060000
END:STANDARD
BEGIN:DAYLIGHT
TZOFFSETFROM:-0500
TZOFFSETTO:-0400
TZNAME:EDT
DTSTART:20240310T070000
END:DAYLIGHT
BEGIN:STANDARD
TZOFFSETFROM:-0400
TZOFFSETTO:-0500
TZNAME:EST
DTSTART:20241103T060000
END:STANDARD
BEGIN:DAYLIGHT
TZOFFSETFROM:-0500
TZOFFSETTO:-0400
TZNAME:EDT
DTSTART:20250309T070000
END:DAYLIGHT
BEGIN:STANDARD
TZOFFSETFROM:-0400
TZOFFSETTO:-0500
TZNAME:EST
DTSTART:20251102T060000
END:STANDARD
END:VTIMEZONE
BEGIN:VEVENT
DTSTART;TZID=America/Detroit:20240919T143000
DTEND;TZID=America/Detroit:20240919T163000
DTSTAMP:20260423T031537
CREATED:20240607T184513Z
LAST-MODIFIED:20240607T184513Z
UID:13504-1726756200-1726763400@taylor.lib.mi.us
SUMMARY:Writing Sessions
DESCRIPTION:Writing Sessions\nCalling all writers! We will have one of the front Community Rooms available for those looking for motivation to start writing to come in and write every Thursday\, from 2:30-4:30pm. It’ll be a quiet place with little to no interruptions\, and enough space to spread out your notes and plotline maps. Are you up for the challenge?
URL:https://taylor.lib.mi.us/event/2024-09-19/
LOCATION:Community Rooms (Papp & Trolley)\, 12303 Pardee Road\, Taylor\, MI\, 48180\, United States
CATEGORIES:Adults
END:VEVENT
BEGIN:VEVENT
DTSTART;TZID=America/Detroit:20240923T110000
DTEND;TZID=America/Detroit:20240923T130000
DTSTAMP:20260423T031537
CREATED:20240705T192415Z
LAST-MODIFIED:20240831T154242Z
UID:14653-1727089200-1727096400@taylor.lib.mi.us
SUMMARY:Hooks & Needles
DESCRIPTION:Hooks & Needles\n\nCome and join other yarn enthusiasts in our community who love to knit and crochet.  This is a weekly event to share ideas\, projects\, and do a little yarning.  Bring your own projects to work on.
URL:https://taylor.lib.mi.us/event/2024-09-23-2/
LOCATION:Trolley (North) Unity Room\, 12303 Pardee Road\, Taylor\, MI\, 48180\, United States
CATEGORIES:Adults
ORGANIZER;CN="Stephanie Herm":MAILTO:sherm@cityoftaylormi.gov
END:VEVENT
BEGIN:VEVENT
DTSTART;TZID=America/Detroit:20240923T180000
DTEND;TZID=America/Detroit:20240923T190000
DTSTAMP:20260423T031537
CREATED:20221205T212808Z
LAST-MODIFIED:20240701T201144Z
UID:14569-1727114400-1727118000@taylor.lib.mi.us
SUMMARY:LEGO Club
DESCRIPTION:LEGO Club\nDo you love Legos? Join our Lego Club! Every Monday at 6 p.m. come in and start building.  Everyone is welcome to free build.  If you are up for it\, we will provide a challenge or theme for you to make something related to that week’s challenge or theme. We will display your creation for one week and will tear them apart at the next event. This event is open to kids\, tweens\, teens\, and parents. No registration is required\, just stop in and build!
URL:https://taylor.lib.mi.us/event/lego-club-2-2023-03-06-2023-07-03-2023-10-02-2024-09-09-2024-09-23/
LOCATION:Taylor Community Library\, 12303 Pardee Road\, Taylor\, MI\, 48180\, United States
CATEGORIES:Teens,Youth & Families
END:VEVENT
BEGIN:VEVENT
DTSTART;TZID=America/Detroit:20240923T180000
DTEND;TZID=America/Detroit:20240923T193000
DTSTAMP:20260423T031537
CREATED:20240618T220448Z
LAST-MODIFIED:20240907T163438Z
UID:13235-1727114400-1727119800@taylor.lib.mi.us
SUMMARY:Books & Bites Book Club
DESCRIPTION:Books & Bites Book Club\nBooks & Bites is a monthly book club that reads and discusses YA books with adult crossover and Adult books with teen crossover — anyone who is a fan of these genres can attend. Copies of the next book are passed out and checked out at each meeting. You can also get a copy from our front desk and most of the time they are also available on Hoopla or Libby. \nThis month’s title: “The Awakening” by Nora Roberts \n \nBreen Kelly is debt-ridden and working a job she hates when she discovers her mother has been hiding money left to her by her long-lost father. She treats herself to a trip to Ireland and falls through a portal to a magical land where she has a dangerous destiny. \nThis book club is currently waitlisted. To join our in-person meetings\, please fill out our waitlist form below. In the meantime\, feel free to join our Facebook group for announcements and general bookish chat. You can also participate virtually using the Fable app. \nPlease enable JavaScript in your browser to complete this form.Name *FirstLastLegal or PreferredAre Under 18 or 18+? *Under 1818+What are Your Pronouns? *She/HerHe/HimThey/ThemOtherWhat is Your Library Card Number? *Who is Your Home Library? *What is Your Preferred Format? *Standard PrintLarge PrintBook on CDDigital Audiobook (Hoopla & Libby)Ebook (Hoopla & Libby)Are there any other formats you would be ok with?Standard PrintLarge PrintBook on CDAudiobook Digital (Hoopla & Libby)Ebook (Hoopla & Libby)What is the best way to contact you if we have a spot open? *TextCallEmailBased on how you answered above\, please provide your phone number or email address *Submit
URL:https://taylor.lib.mi.us/event/2024-09-23/
LOCATION:Community Rooms (Papp & Trolley)\, 12303 Pardee Road\, Taylor\, MI\, 48180\, United States
CATEGORIES:Adults
ORGANIZER;CN="Becky Price":MAILTO:bprice@cityoftaylormi.gov
END:VEVENT
BEGIN:VEVENT
DTSTART;TZID=America/Detroit:20240924T103000
DTEND;TZID=America/Detroit:20240924T111500
DTSTAMP:20260423T031537
CREATED:20240607T184445Z
LAST-MODIFIED:20240607T184445Z
UID:14220-1727173800-1727176500@taylor.lib.mi.us
SUMMARY:Toddler Storytime
DESCRIPTION:Toddler Storytime\nJoin us for stories\, songs\, fingerplays\, and fun! Toddler Storytime is for ages 2-4\, but older and younger siblings are welcome. Bring your toddler for a chance to learn and practice some early reading skills. We will reserve some time at the end for creative play or a craft.
URL:https://taylor.lib.mi.us/event/2024-09-24/
LOCATION:Community Rooms (Papp & Trolley)\, 12303 Pardee Road\, Taylor\, MI\, 48180\, United States
CATEGORIES:Youth & Families
ORGANIZER;CN="Jasmine Riehl":MAILTO:jriehl@cityoftaylormi.gov
END:VEVENT
BEGIN:VEVENT
DTSTART;TZID=America/Detroit:20240924T140000
DTEND;TZID=America/Detroit:20240924T143000
DTSTAMP:20260423T031537
CREATED:20240810T182557Z
LAST-MODIFIED:20240810T182631Z
UID:14761-1727186400-1727188200@taylor.lib.mi.us
SUMMARY:Baby Buddies Storytime (ages 0-1)
DESCRIPTION:Baby Buddies Storytime (Ages 0-1)\nWeekly Storytime is aimed toward parents with infants (ages 0-1)\, but older siblings are welcome. We will have lap time\, singing\, and read several books together. At the end\, there will be time for creative play and parent conversation.
URL:https://taylor.lib.mi.us/event/baby-buddies-storytime-ages-0-1-19/
LOCATION:Community Rooms (Papp & Trolley)\, 12303 Pardee Road\, Taylor\, MI\, 48180\, United States
CATEGORIES:Youth & Families
END:VEVENT
BEGIN:VEVENT
DTSTART;TZID=America/Detroit:20240924T173000
DTEND;TZID=America/Detroit:20240924T193000
DTSTAMP:20260423T031537
CREATED:20230319T192214Z
LAST-MODIFIED:20240607T184455Z
UID:14255-1727199000-1727206200@taylor.lib.mi.us
SUMMARY:Textile Lab
DESCRIPTION:Textile Lab\nTextile Lab is a weekly lab for textile crafters to come together and work on their projects.  If you love to quilt\, sew\, knit\, crochet\, embroider\, needlepoint\, or any other textile crafting\, this is the place for you!  An instructor will be available to teach you how to quilt\, or to guide you on your projects. This is a weekly lab that is open on Tuesdays from 5:30 – 7:30 p.m.
URL:https://taylor.lib.mi.us/event/2023-06-27-2023-10-03-2024-07-02-2024-09-24/
LOCATION:Community Rooms (Papp & Trolley)\, 12303 Pardee Road\, Taylor\, MI\, 48180\, United States
CATEGORIES:Adults
END:VEVENT
BEGIN:VEVENT
DTSTART;TZID=America/Detroit:20240925T120000
DTEND;TZID=America/Detroit:20240925T130000
DTSTAMP:20260423T031537
CREATED:20240603T193736Z
LAST-MODIFIED:20240603T193736Z
UID:13705-1727265600-1727269200@taylor.lib.mi.us
SUMMARY:VIP Support Group
DESCRIPTION:VIP Support Group (Visually Impaired Persons)\nThe VIP meeting is a monthly support group for people experiencing vision loss and their caregivers. Each month\, we meet to discuss important topics and connect over shared concerns\, with occasional speakers. \nMeet in person or join in remotely. \nTo join remotely by phone\, please call 267-807-9601 and use Access Code: 965803\, or join virtually by visiting bit.ly/TCLbtbcall
URL:https://taylor.lib.mi.us/event/2024-09-25/
LOCATION:Trolley (North) Unity Room\, 12303 Pardee Road\, Taylor\, MI\, 48180\, United States
CATEGORIES:Adults
END:VEVENT
BEGIN:VEVENT
DTSTART;TZID=America/Detroit:20240925T160000
DTEND;TZID=America/Detroit:20240925T180000
DTSTAMP:20260423T031537
CREATED:20221208T231101Z
LAST-MODIFIED:20240607T184510Z
UID:14172-1727280000-1727287200@taylor.lib.mi.us
SUMMARY:Teen Volunteer Group
DESCRIPTION:Teen Volunteer Group\nAre you a teen who’s looking for volunteer hours? Join our Teen Volunteer Group! \nTeen volunteers help plan\, implement\, and promote ways to improve services offered at TCL. Joining our group builds your resume\, earns you volunteer hours\, and gives you a chance to be heard. Tasks will include helping the library with collection maintenance\, programming prep\, maintaining the TCL Tiny Taylor Library\, and more! \nWe meet every other Wednesday at 4 p.m. in person at the library. \nWant to earn volunteer hours for this? Visit our Volunteer page to see if space is available and to sign up! 
URL:https://taylor.lib.mi.us/event/teen-volunteer-group-2023-09-13-2023-09-27-2023-10-11-2024-07-03-2024-09-25/
LOCATION:Community Rooms (Papp & Trolley)\, 12303 Pardee Road\, Taylor\, MI\, 48180\, United States
CATEGORIES:Teens
ORGANIZER;CN="Jasmine Riehl":MAILTO:jriehl@cityoftaylormi.gov
END:VEVENT
BEGIN:VEVENT
DTSTART;TZID=America/Detroit:20240925T163000
DTEND;TZID=America/Detroit:20240925T180000
DTSTAMP:20260423T031537
CREATED:20240614T191405Z
LAST-MODIFIED:20240614T192049Z
UID:14444-1727281800-1727287200@taylor.lib.mi.us
SUMMARY:Teen Cozy Fall Craft Night
DESCRIPTION:Teen Cozy Fall Craft Night\nMiss the feeling of excitement and joy as a tot when you’d have school Halloween parties? Join us for a cozy party with spooky crafts and snacks. We’ll screen a classic Halloween movie in the background\, listen to a Halloween playlist\, and put a teen twist on some favorite childhood crafts. \nThis event is for teens ages 13-17.
URL:https://taylor.lib.mi.us/event/teen-cozy-fall-craft-night/
LOCATION:Trolley (North) Unity Room\, 12303 Pardee Road\, Taylor\, MI\, 48180\, United States
CATEGORIES:Teens
ORGANIZER;CN="Jasmine Riehl":MAILTO:jriehl@cityoftaylormi.gov
END:VEVENT
BEGIN:VEVENT
DTSTART;TZID=America/Detroit:20240926T143000
DTEND;TZID=America/Detroit:20240926T163000
DTSTAMP:20260423T031537
CREATED:20240607T184511Z
LAST-MODIFIED:20240607T184511Z
UID:13505-1727361000-1727368200@taylor.lib.mi.us
SUMMARY:Writing Sessions
DESCRIPTION:Writing Sessions\nCalling all writers! We will have one of the front Community Rooms available for those looking for motivation to start writing to come in and write every Thursday\, from 2:30-4:30pm. It’ll be a quiet place with little to no interruptions\, and enough space to spread out your notes and plotline maps. Are you up for the challenge?
URL:https://taylor.lib.mi.us/event/2024-09-26/
LOCATION:Community Rooms (Papp & Trolley)\, 12303 Pardee Road\, Taylor\, MI\, 48180\, United States
CATEGORIES:Adults
END:VEVENT
BEGIN:VEVENT
DTSTART;TZID=America/Detroit:20240926T170000
DTEND;TZID=America/Detroit:20240926T190000
DTSTAMP:20260423T031537
CREATED:20240614T192727Z
LAST-MODIFIED:20240614T193621Z
UID:14446-1727370000-1727377200@taylor.lib.mi.us
SUMMARY:Bark for Books
DESCRIPTION:Bark for Books\nIs your child just learning to read or wants to build confidence to read or speak aloud? Do they want to practice reading to a therapy dog? Then join us at Bark for Books for a chance to read aloud any book of your choice to a trained therapy dog! We collaborate with a local therapy dog group to get two dogs in the library for patrons to read to for 15 minute intervals. All the dogs love hearing stories and getting pets and can’t wait to meet you readers! \nRegistration is required and we’ll have 16 spots open for a child to read\, so stop in the library or give us a call starting September 5 to sign up for a time slot.
URL:https://taylor.lib.mi.us/event/bark-for-books-4/
LOCATION:Community Rooms (Papp & Trolley)\, 12303 Pardee Road\, Taylor\, MI\, 48180\, United States
END:VEVENT
BEGIN:VEVENT
DTSTART;TZID=America/Detroit:20240927T150000
DTEND;TZID=America/Detroit:20240927T163000
DTSTAMP:20260423T031537
CREATED:20240618T234534Z
LAST-MODIFIED:20240810T202049Z
UID:14539-1727449200-1727454600@taylor.lib.mi.us
SUMMARY:Recipe Swap
DESCRIPTION:Recipe Swap\nLooking for new recipes and want to share your own? Join us on Friday\, September 27 for an afternoon of recipe swapping. We’ll provide the space\, pens\, and recipe cards and you’ll provide the recipes. Feel free to bring your own recipe cards and friends to join in the fun. Feel free to bring your recipes in ahead of time for us to make copies for use at the event.
URL:https://taylor.lib.mi.us/event/recipe-swap/
LOCATION:Community Rooms (Papp & Trolley)\, 12303 Pardee Road\, Taylor\, MI\, 48180\, United States
CATEGORIES:Adults
ORGANIZER;CN="Becky Price":MAILTO:bprice@cityoftaylormi.gov
END:VEVENT
BEGIN:VEVENT
DTSTART;TZID=America/Detroit:20240928T140000
DTEND;TZID=America/Detroit:20240928T150000
DTSTAMP:20260423T031537
CREATED:20240715T154654Z
LAST-MODIFIED:20240910T225610Z
UID:14752-1727532000-1727535600@taylor.lib.mi.us
SUMMARY:CANCELLED - Using Social Media for Genealogy
DESCRIPTION:CANCELLED – Using Social Media for Genealogy\nJoin professional genealogical researcher\, speaker\, educator & author\, Katherine R. Wilson\, for a one-hour presentation to discuss the genealogical benefits of a variety of social media platforms\, finding the social media content that’s genealogically relevant\, and platform settings for privacy and notifications. A handout will be provided and a Q&A period will follow the presentation.
URL:https://taylor.lib.mi.us/event/using-social-media-for-genealogy/
LOCATION:Trolley (North) Unity Room\, 12303 Pardee Road\, Taylor\, MI\, 48180\, United States
CATEGORIES:Adults
ORGANIZER;CN="Stephanie Herm":MAILTO:sherm@cityoftaylormi.gov
END:VEVENT
BEGIN:VEVENT
DTSTART;TZID=America/Detroit:20240930T110000
DTEND;TZID=America/Detroit:20240930T130000
DTSTAMP:20260423T031537
CREATED:20240705T192417Z
LAST-MODIFIED:20240831T154248Z
UID:14654-1727694000-1727701200@taylor.lib.mi.us
SUMMARY:Hooks & Needles
DESCRIPTION:Hooks & Needles\n\nCome and join other yarn enthusiasts in our community who love to knit and crochet.  This is a weekly event to share ideas\, projects\, and do a little yarning.  Bring your own projects to work on.
URL:https://taylor.lib.mi.us/event/2024-09-30/
LOCATION:Trolley (North) Unity Room\, 12303 Pardee Road\, Taylor\, MI\, 48180\, United States
CATEGORIES:Adults
ORGANIZER;CN="Stephanie Herm":MAILTO:sherm@cityoftaylormi.gov
END:VEVENT
BEGIN:VEVENT
DTSTART;TZID=America/Detroit:20240930T180000
DTEND;TZID=America/Detroit:20240930T190000
DTSTAMP:20260423T031537
CREATED:20221205T212808Z
LAST-MODIFIED:20240701T201148Z
UID:14570-1727719200-1727722800@taylor.lib.mi.us
SUMMARY:LEGO Club
DESCRIPTION:LEGO Club\nDo you love Legos? Join our Lego Club! Every Monday at 6 p.m. come in and start building.  Everyone is welcome to free build.  If you are up for it\, we will provide a challenge or theme for you to make something related to that week’s challenge or theme. We will display your creation for one week and will tear them apart at the next event. This event is open to kids\, tweens\, teens\, and parents. No registration is required\, just stop in and build!
URL:https://taylor.lib.mi.us/event/lego-club-2-2023-03-06-2023-07-03-2023-10-02-2024-09-09-2024-09-30/
LOCATION:Taylor Community Library\, 12303 Pardee Road\, Taylor\, MI\, 48180\, United States
CATEGORIES:Teens,Youth & Families
END:VEVENT
BEGIN:VEVENT
DTSTART;TZID=America/Detroit:20240930T180000
DTEND;TZID=America/Detroit:20240930T193000
DTSTAMP:20260423T031537
CREATED:20240810T182634Z
LAST-MODIFIED:20240924T195319Z
UID:14535-1727719200-1727724600@taylor.lib.mi.us
SUMMARY:Overdose Rescue Training
DESCRIPTION:Overdose Rescue Training\nIn the past 12 months\, there have been 103 suspected opioid overdose deaths in Taylor. This means every week around 2 people suffer a fatal opioid overdose. Attend a FREE 45-min session to learn how to respond to an opioid overdose emergency. All participants will be trained in hands-only CPR and receive a free overdose rescue kit that includes Narcan (an overdose reversal medication)! Please register ahead of time at https://tinyurl.com/093024training \nThis event is a partnership with Americorps Community Training Program for Overdose Rescue. \n 
URL:https://taylor.lib.mi.us/event/overdose-rescue-training/
LOCATION:Community Rooms (Papp & Trolley)\, 12303 Pardee Road\, Taylor\, MI\, 48180\, United States
CATEGORIES:Adults
ORGANIZER;CN="Becky Price":MAILTO:bprice@cityoftaylormi.gov
END:VEVENT
BEGIN:VEVENT
DTSTART;VALUE=DATE:20241001
DTEND;VALUE=DATE:20241002
DTSTAMP:20260423T031537
CREATED:20240912T212118Z
LAST-MODIFIED:20240912T215546Z
UID:15253-1727740800-1727827199@taylor.lib.mi.us
SUMMARY:Fall Reading Challenge Begins
DESCRIPTION:Fall Reading Challenge Begins\nFor more information\, visit our Fall Reading Challenge Page.
URL:https://taylor.lib.mi.us/event/fall-reading-challenge-begins-2/
LOCATION:Community Rooms (Papp & Trolley)\, 12303 Pardee Road\, Taylor\, MI\, 48180\, United States
CATEGORIES:Adults,Teens,Youth & Families
ORGANIZER;CN="Becky Price":MAILTO:bprice@cityoftaylormi.gov
END:VEVENT
BEGIN:VEVENT
DTSTART;TZID=America/Detroit:20241001T103000
DTEND;TZID=America/Detroit:20241001T111500
DTSTAMP:20260423T031537
CREATED:20240907T202123Z
LAST-MODIFIED:20240907T202123Z
UID:14835-1727778600-1727781300@taylor.lib.mi.us
SUMMARY:Toddler Storytime
DESCRIPTION:Toddler Storytime\nJoin us for stories\, songs\, fingerplays\, and fun! Toddler Storytime is for ages 2-4\, but older and younger siblings are welcome. Bring your toddler for a chance to learn and practice some early reading skills. We will reserve some time at the end for creative play or a craft.
URL:https://taylor.lib.mi.us/event/toddler-storytime-17/
LOCATION:Community Rooms (Papp & Trolley)\, 12303 Pardee Road\, Taylor\, MI\, 48180\, United States
CATEGORIES:Youth & Families
ORGANIZER;CN="Jasmine Riehl":MAILTO:jriehl@cityoftaylormi.gov
END:VEVENT
BEGIN:VEVENT
DTSTART;TZID=America/Detroit:20241001T140000
DTEND;TZID=America/Detroit:20241001T143000
DTSTAMP:20260423T031537
CREATED:20240907T202127Z
LAST-MODIFIED:20240907T202213Z
UID:14767-1727791200-1727793000@taylor.lib.mi.us
SUMMARY:Baby Buddies Storytime (ages 0-1)
DESCRIPTION:Baby Buddies Storytime (Ages 0-1)\nWeekly Storytime is aimed toward parents with infants (ages 0-1)\, but older siblings are welcome. We will have lap time\, singing\, and read several books together. At the end\, there will be time for creative play and parent conversation.
URL:https://taylor.lib.mi.us/event/baby-buddies-storytime-ages-0-1-20/
LOCATION:Community Rooms (Papp & Trolley)\, 12303 Pardee Road\, Taylor\, MI\, 48180\, United States
CATEGORIES:Youth & Families
END:VEVENT
BEGIN:VEVENT
DTSTART;TZID=America/Detroit:20241001T173000
DTEND;TZID=America/Detroit:20241001T193000
DTSTAMP:20260423T031537
CREATED:20230319T192214Z
LAST-MODIFIED:20240831T155108Z
UID:14256-1727803800-1727811000@taylor.lib.mi.us
SUMMARY:Textile Lab
DESCRIPTION:Textile Lab\nTextile Lab is a weekly lab for textile crafters to come together and work on their projects.  If you love to quilt\, sew\, knit\, crochet\, embroider\, needlepoint\, or any other textile crafting\, this is the place for you!  An instructor will be available to teach you how to quilt\, or to guide you on your projects. This is a weekly lab that is open on Tuesdays from 5:30 – 7:30 p.m.
URL:https://taylor.lib.mi.us/event/2023-06-27-2023-10-03-2024-07-02-2024-10-01/
LOCATION:Community Rooms (Papp & Trolley)\, 12303 Pardee Road\, Taylor\, MI\, 48180\, United States
CATEGORIES:Adults
END:VEVENT
BEGIN:VEVENT
DTSTART;TZID=America/Detroit:20241002T120000
DTEND;TZID=America/Detroit:20241002T140000
DTSTAMP:20260423T031537
CREATED:20240831T162941Z
LAST-MODIFIED:20240831T163043Z
UID:14952-1727870400-1727877600@taylor.lib.mi.us
SUMMARY:Audio Described Movie Day
DESCRIPTION:Audio Described Movie Day\nPop in the 1st Wednesday of each month to watch a new\, popular film with the Audio Description (AD) narration track added.
URL:https://taylor.lib.mi.us/event/audio-described-movie-day-9/
LOCATION:Papp (South) Community Room\, 12303 Pardee Road\, Taylor\, MI\, 48180\, United States
CATEGORIES:Adults
END:VEVENT
BEGIN:VEVENT
DTSTART;TZID=America/Detroit:20241002T173000
DTEND;TZID=America/Detroit:20241002T193000
DTSTAMP:20260423T031537
CREATED:20240907T200454Z
LAST-MODIFIED:20240910T224344Z
UID:14507-1727890200-1727897400@taylor.lib.mi.us
SUMMARY:Silent Book Club
DESCRIPTION:Silent Book Club\nEver wanted to join a book club\, but felt like it was too much pressure? Join this super low-key book club where you show up with a book of your choice and read! At each meeting the first and last 15 minutes will be designated for sharing what you’re reading/socializing with other members and then the hour and half in-between will be designated for reading. We will have an ambience room playing at low volume in the background and different options for seating. Feel free to bring a snack\, beverage\, or blanket to make this event extra cozy. Starting in November\, this book club will meet every Wednesday.
URL:https://taylor.lib.mi.us/event/2024-10-02/
LOCATION:Community Rooms (Papp & Trolley)\, 12303 Pardee Road\, Taylor\, MI\, 48180\, United States
CATEGORIES:Adults
ORGANIZER;CN="Becky Price":MAILTO:bprice@cityoftaylormi.gov
END:VEVENT
BEGIN:VEVENT
DTSTART;TZID=America/Detroit:20241002T180000
DTEND;TZID=America/Detroit:20241002T193000
DTSTAMP:20260423T031537
CREATED:20240912T200752Z
LAST-MODIFIED:20240912T200752Z
UID:15234-1727892000-1727897400@taylor.lib.mi.us
SUMMARY:Michigan's Dark Places
DESCRIPTION:Michigan’s Dark Places\nReturn to the scene of Michigan’s most notorious crimes on this adventure in dark tourism. Using archival photographs\, crime scene sketches\, and documents\, noted author Tobin T. Buhk will guide viewers on a journey to the most infamous spots in the Great Lake State. The itinerary includes the place of Michigan’s bloodiest school day\, the site of a wild-west style necktie party\, a serial poisoner’s killing field\, the apartment where the Purple Gang imploded\, the nook where the Ypsilanti Vampire stashed his ‘bloodletted’ victim\, the cabin where a Black Widow used a shotgun to cash in on the men in her life\, the third floor of an office building that hosted one of the State’s most vexing unsolved crimes\, and the house where the perfect crime was committed. It’s a tour that’s sure to leave an impression!
URL:https://taylor.lib.mi.us/event/michigans-dark-places/
LOCATION:Community Rooms (Papp & Trolley)\, 12303 Pardee Road\, Taylor\, MI\, 48180\, United States
CATEGORIES:Adults
ORGANIZER;CN="Becky Price":MAILTO:bprice@cityoftaylormi.gov
END:VEVENT
BEGIN:VEVENT
DTSTART;TZID=America/Detroit:20241003T143000
DTEND;TZID=America/Detroit:20241003T163000
DTSTAMP:20260423T031537
CREATED:20240907T202432Z
LAST-MODIFIED:20240907T202432Z
UID:13506-1727965800-1727973000@taylor.lib.mi.us
SUMMARY:Writing Sessions
DESCRIPTION:Writing Sessions\nCalling all writers! We will have one of the front Community Rooms available for those looking for motivation to start writing to come in and write every Thursday\, from 2:30-4:30pm. It’ll be a quiet place with little to no interruptions\, and enough space to spread out your notes and plotline maps. Are you up for the challenge?
URL:https://taylor.lib.mi.us/event/2024-10-03/
LOCATION:Community Rooms (Papp & Trolley)\, 12303 Pardee Road\, Taylor\, MI\, 48180\, United States
CATEGORIES:Adults
END:VEVENT
BEGIN:VEVENT
DTSTART;TZID=America/Detroit:20241003T180000
DTEND;TZID=America/Detroit:20241003T193000
DTSTAMP:20260423T031537
CREATED:20240917T181339Z
LAST-MODIFIED:20240917T181421Z
UID:14853-1727978400-1727983800@taylor.lib.mi.us
SUMMARY:School Board Candidate Meet and Greet
DESCRIPTION:School Board Candidate Meet and Greet\nAre you looking to get to know some of the people running for the Taylor Board of Education? Would you like to ask questions to see which candidate matches the vision for your children so they can get your vote in November? Join us for an open Q&A to get to know who is running for our community’s school board. \nWe are hosting this event in collaboration with the Michigan Education Justice Coalition.
URL:https://taylor.lib.mi.us/event/school-board-candidate-meet-and-greet/
LOCATION:Community Rooms (Papp & Trolley)\, 12303 Pardee Road\, Taylor\, MI\, 48180\, United States
CATEGORIES:Adults,Teens,Youth & Families
ORGANIZER;CN="Jasmine Riehl":MAILTO:jriehl@cityoftaylormi.gov
END:VEVENT
BEGIN:VEVENT
DTSTART;TZID=America/Detroit:20241007T110000
DTEND;TZID=America/Detroit:20241007T130000
DTSTAMP:20260423T031537
CREATED:20240831T153541Z
LAST-MODIFIED:20240831T154345Z
UID:14655-1728298800-1728306000@taylor.lib.mi.us
SUMMARY:Hooks & Needles
DESCRIPTION:Hooks & Needles\n\nCome and join other yarn enthusiasts in our community who love to knit and crochet.  This is a weekly event to share ideas\, projects\, and do a little yarning.  Bring your own projects to work on.
URL:https://taylor.lib.mi.us/event/2024-10-07/
LOCATION:Trolley (North) Unity Room\, 12303 Pardee Road\, Taylor\, MI\, 48180\, United States
CATEGORIES:Adults
ORGANIZER;CN="Stephanie Herm":MAILTO:sherm@cityoftaylormi.gov
END:VEVENT
BEGIN:VEVENT
DTSTART;TZID=America/Detroit:20241007T180000
DTEND;TZID=America/Detroit:20241007T190000
DTSTAMP:20260423T031537
CREATED:20221205T212808Z
LAST-MODIFIED:20240907T202444Z
UID:14571-1728324000-1728327600@taylor.lib.mi.us
SUMMARY:LEGO Club
DESCRIPTION:LEGO Club\nDo you love Legos? Join our Lego Club! Every Monday at 6 p.m. come in and start building.  Everyone is welcome to free build.  If you are up for it\, we will provide a challenge or theme for you to make something related to that week’s challenge or theme. We will display your creation for one week and will tear them apart at the next event. This event is open to kids\, tweens\, teens\, and parents. No registration is required\, just stop in and build!
URL:https://taylor.lib.mi.us/event/lego-club-2-2023-03-06-2023-07-03-2023-10-02-2024-09-09-2024-10-07/
LOCATION:Taylor Community Library\, 12303 Pardee Road\, Taylor\, MI\, 48180\, United States
CATEGORIES:Teens,Youth & Families
END:VEVENT
BEGIN:VEVENT
DTSTART;TZID=America/Detroit:20241007T180000
DTEND;TZID=America/Detroit:20241007T193000
DTSTAMP:20260423T031537
CREATED:20240912T201413Z
LAST-MODIFIED:20240912T201413Z
UID:15236-1728324000-1728329400@taylor.lib.mi.us
SUMMARY:Haunted Objects Exhibit
DESCRIPTION:Haunted Objects Exhibit\nJoin us for a night with Nicole Beauchamp from the Tri-City Ghost Hunters Society to view her traveling haunted objects exhibit. Nicole will bring her collection of haunted artifacts\, put them on display\, and go over the history of each of the objects. At the end you can ask questions and get up close and personal with the items if you dare.
URL:https://taylor.lib.mi.us/event/haunted-objects-exhibit/
LOCATION:Community Rooms (Papp & Trolley)\, 12303 Pardee Road\, Taylor\, MI\, 48180\, United States
CATEGORIES:Adults
ORGANIZER;CN="Becky Price":MAILTO:bprice@cityoftaylormi.gov
END:VEVENT
BEGIN:VEVENT
DTSTART;TZID=America/Detroit:20241008T103000
DTEND;TZID=America/Detroit:20241008T111500
DTSTAMP:20260423T031537
CREATED:20240907T202448Z
LAST-MODIFIED:20240907T202448Z
UID:14837-1728383400-1728386100@taylor.lib.mi.us
SUMMARY:Toddler Storytime
DESCRIPTION:Toddler Storytime\nJoin us for stories\, songs\, fingerplays\, and fun! Toddler Storytime is for ages 2-4\, but older and younger siblings are welcome. Bring your toddler for a chance to learn and practice some early reading skills. We will reserve some time at the end for creative play or a craft.
URL:https://taylor.lib.mi.us/event/2024-10-08/
LOCATION:Community Rooms (Papp & Trolley)\, 12303 Pardee Road\, Taylor\, MI\, 48180\, United States
CATEGORIES:Youth & Families
ORGANIZER;CN="Jasmine Riehl":MAILTO:jriehl@cityoftaylormi.gov
END:VEVENT
END:VCALENDAR