BEGIN:VCALENDAR
VERSION:2.0
PRODID:-//Taylor Community Library - ECPv6.15.20//NONSGML v1.0//EN
CALSCALE:GREGORIAN
METHOD:PUBLISH
X-ORIGINAL-URL:https://taylor.lib.mi.us
X-WR-CALDESC:Events for Taylor Community Library
REFRESH-INTERVAL;VALUE=DURATION:PT1H
X-Robots-Tag:noindex
X-PUBLISHED-TTL:PT1H
BEGIN:VTIMEZONE
TZID:America/Detroit
BEGIN:DAYLIGHT
TZOFFSETFROM:-0500
TZOFFSETTO:-0400
TZNAME:EDT
DTSTART:20250309T070000
END:DAYLIGHT
BEGIN:STANDARD
TZOFFSETFROM:-0400
TZOFFSETTO:-0500
TZNAME:EST
DTSTART:20251102T060000
END:STANDARD
BEGIN:DAYLIGHT
TZOFFSETFROM:-0500
TZOFFSETTO:-0400
TZNAME:EDT
DTSTART:20260308T070000
END:DAYLIGHT
BEGIN:STANDARD
TZOFFSETFROM:-0400
TZOFFSETTO:-0500
TZNAME:EST
DTSTART:20261101T060000
END:STANDARD
BEGIN:DAYLIGHT
TZOFFSETFROM:-0500
TZOFFSETTO:-0400
TZNAME:EDT
DTSTART:20270314T070000
END:DAYLIGHT
BEGIN:STANDARD
TZOFFSETFROM:-0400
TZOFFSETTO:-0500
TZNAME:EST
DTSTART:20271107T060000
END:STANDARD
END:VTIMEZONE
BEGIN:VEVENT
DTSTART;TZID=America/Detroit:20260826T173000
DTEND;TZID=America/Detroit:20260826T193000
DTSTAMP:20260420T222113
CREATED:20250510T150020Z
LAST-MODIFIED:20260420T221230Z
UID:18523-1787765400-1787772600@taylor.lib.mi.us
SUMMARY:Silent Book Club
DESCRIPTION:Silent Book Club\nEver wanted to join a book club\, but felt like it was too much pressure? Join this super low-key book club where you show up with a book of your choice and read! At each meeting the first and last 15 minutes will be designated for sharing what you’re reading/socializing with other members and then the hour and half in-between will be designated for reading. We will have an ambience room playing at low volume in the background and different options for seating. Feel free to bring a snack\, beverage\, or blanket to make this event extra cozy. This book club meets every Wednesday. \nThis event is intended for: Adults
URL:https://taylor.lib.mi.us/event/2024-12-04-2025-07-02-2025-09-10-2025-10-01-2026-08-26/
LOCATION:Community Rooms (Papp & Trolley)\, 12303 Pardee Road\, Taylor\, MI\, 48180\, United States
CATEGORIES:Adults
ORGANIZER;CN="Becky Price":MAILTO:bprice@cityoftaylormi.gov
END:VEVENT
BEGIN:VEVENT
DTSTART;TZID=America/Detroit:20260827T170000
DTEND;TZID=America/Detroit:20260827T190000
DTSTAMP:20260420T222113
CREATED:20260220T205256Z
LAST-MODIFIED:20260420T221530Z
UID:20265-1787850000-1787857200@taylor.lib.mi.us
SUMMARY:Bark for Books*
DESCRIPTION:Bark for Books*\nRead aloud to a trained therapy dog for 15 minutes. Children and teens can also use their 15 minutes to practice book reports or speeches for school\, or whatever you think will build their confidence in their reading and speaking skills. There are 16 slots open to read or speak aloud to a therapy dog and registration is required. They love to hear all the stories and get all the pets\, so call or stop in the library to sign up starting 10 a.m. August 13! This program is for beginning readers\, kids\, tweens\, and teens. \n*Registration Required
URL:https://taylor.lib.mi.us/event/bark-for-books-15/
LOCATION:Community Rooms (Papp & Trolley)\, 12303 Pardee Road\, Taylor\, MI\, 48180\, United States
CATEGORIES:Youth & Families
ORGANIZER;CN="Jasmine Riehl":MAILTO:jriehl@cityoftaylormi.gov
END:VEVENT
BEGIN:VEVENT
DTSTART;TZID=America/Detroit:20260828T100000
DTEND;TZID=America/Detroit:20260828T170000
DTSTAMP:20260420T222113
CREATED:20260401T044553Z
LAST-MODIFIED:20260401T044553Z
UID:20692-1787911200-1787936400@taylor.lib.mi.us
SUMMARY:Summer Reading Store Hours
DESCRIPTION:Summer Reading Store Hours\nStop in to spend the Taylor Library Bucks you earned through the Summer Reading Challenge at our store! Our store is only open on certain weekends: \n\nFriday\, July 31st & Saturday\, August 1st\nFriday\, August 28th & Saturday\, August 29th\nFriday\, September 11th & Saturday\, September 12th\n\nFor more information\, visit our Summer Reading Challenge page.
URL:https://taylor.lib.mi.us/event/summer-reading-store-hours-9/
LOCATION:Community Rooms (Papp & Trolley)\, 12303 Pardee Road\, Taylor\, MI\, 48180\, United States
CATEGORIES:Adults,Teens,Youth & Families
ORGANIZER;CN="Becky Price":MAILTO:bprice@cityoftaylormi.gov
END:VEVENT
BEGIN:VEVENT
DTSTART;TZID=America/Detroit:20260829T100000
DTEND;TZID=America/Detroit:20260829T170000
DTSTAMP:20260420T222113
CREATED:20260401T044603Z
LAST-MODIFIED:20260401T044603Z
UID:20693-1787997600-1788022800@taylor.lib.mi.us
SUMMARY:Summer Reading Store Hours
DESCRIPTION:Summer Reading Store Hours\nStop in to spend the Taylor Library Bucks you earned through the Summer Reading Challenge at our store! Our store is only open on certain weekends: \n\nFriday\, July 31st & Saturday\, August 1st\nFriday\, August 28th & Saturday\, August 29th\nFriday\, September 11th & Saturday\, September 12th\n\nFor more information\, visit our Summer Reading Challenge page.
URL:https://taylor.lib.mi.us/event/summer-reading-store-hours-10/
LOCATION:Community Rooms (Papp & Trolley)\, 12303 Pardee Road\, Taylor\, MI\, 48180\, United States
CATEGORIES:Adults,Teens,Youth & Families
ORGANIZER;CN="Becky Price":MAILTO:bprice@cityoftaylormi.gov
END:VEVENT
BEGIN:VEVENT
DTSTART;TZID=America/Detroit:20260831T110000
DTEND;TZID=America/Detroit:20260831T120000
DTSTAMP:20260420T222113
CREATED:20260420T221350Z
LAST-MODIFIED:20260420T221350Z
UID:20624-1788174000-1788177600@taylor.lib.mi.us
SUMMARY:Family Yoga with the Guidance Center!
DESCRIPTION:Family Yoga with the Guidance Center!\nJoin us for family yoga with the Guidance Center! This program will be held outside on the library lawn\, weather permitting.
URL:https://taylor.lib.mi.us/event/family-yoga-with-the-guidance-center-2/
LOCATION:Community Rooms (Papp & Trolley)\, 12303 Pardee Road\, Taylor\, MI\, 48180\, United States
CATEGORIES:Youth & Families
ORGANIZER;CN="Jasmine Riehl":MAILTO:jriehl@cityoftaylormi.gov
END:VEVENT
BEGIN:VEVENT
DTSTART;TZID=America/Detroit:20260831T180000
DTEND;TZID=America/Detroit:20260831T190000
DTSTAMP:20260420T222113
CREATED:20250613T165101Z
LAST-MODIFIED:20260420T221353Z
UID:20781-1788199200-1788202800@taylor.lib.mi.us
SUMMARY:LEGO Club
DESCRIPTION:LEGO Club\nDo you love Legos? Join our Lego Club! Every Monday at 6 p.m. come in and start building.  Everyone is welcome to free build.  If you are up for it\, we will provide a challenge or theme for you to make something related to that week’s challenge or theme. We will display your creation for one week and will tear them apart at the next event. This event is open to kids\, tweens\, teens\, and parents. No registration is required\, just stop in and build!
URL:https://taylor.lib.mi.us/event/2025-09-29-2025-11-03-2026-01-05-2026-04-06-2026-04-20__trashed-2026-08-31/
LOCATION:Youth Section\, 12303 Pardee Road\, Taylor\, MI\, 48180\, United States
CATEGORIES:Youth & Families
ORGANIZER;CN="Carolyn Somerville-Jones":MAILTO:csomerville@cityoftaylormi.gov
END:VEVENT
BEGIN:VEVENT
DTSTART;TZID=America/Detroit:20260928T180000
DTEND;TZID=America/Detroit:20260928T193000
DTSTAMP:20260420T222113
CREATED:20251129T205702Z
LAST-MODIFIED:20251129T205702Z
UID:19489-1790618400-1790623800@taylor.lib.mi.us
SUMMARY:Books & Bites Book Club*
DESCRIPTION:Books & Bites Book Club*\nBooks & Bites is a monthly book club that reads and discusses Adult books with teen crossover and sometimes Teen books with adult crossover. Copies of the next book are passed out and checked out at each meeting. You can also get a copy from our front desk and most of the time they are also available on Hoopla or Libby. \nThis event is intended for: Adults \nThis month’s title: “Beartown” by Fredrik Backman \n \nBy the lake in Beartown is an old ice rink\, and in that ice rink Kevin\, Amat\, Benji\, and the rest of the town’s junior ice hockey team are about to compete in the national semi-finals–and they actually have a shot at winning. All the hopes and dreams of this place now rest on the shoulders of a handful of teenage boys. Under that heavy burden\, the match becomes the catalyst for a violent act that will leave a young girl traumatized and a town in turmoil. Accusations are made and\, like ripples on a pond\, they travel through all of Beartown. This is a story about a town and a game\, but even more about loyalty\, commitment\, and the responsibilities of friendship; the people we disappoint even though we love them; and the decisions we make every day that come to define us. In this story of a small forest town\, Fredrik Backman has found the entire world. \n*This book club is currently waitlisted.\nTo join our in-person meetings\, please fill out our waitlist form below. In the meantime\, feel free to join our Facebook group for announcements and general bookish chat. You can also participate virtually using the Fable app. \nPlease enable JavaScript in your browser to complete this form.Name *FirstLastLegal or PreferredAre Under 18 or 18+? *Under 1818+What are Your Pronouns? *She/HerHe/HimThey/ThemOtherWhat is Your Library Card Number? *Who is Your Home Library? *What is Your Preferred Format? *Standard PrintLarge PrintBook on CDDigital Audiobook (Hoopla & Libby)Ebook (Hoopla & Libby)Are there any other formats you would be ok with?Standard PrintLarge PrintBook on CDAudiobook Digital (Hoopla & Libby)Ebook (Hoopla & Libby)What is the best way to contact you if we have a spot open? *TextCallEmailBased on how you answered above\, please provide your phone number or email address *Submit
URL:https://taylor.lib.mi.us/event/2026-09-28/
LOCATION:Community Rooms (Papp & Trolley)\, 12303 Pardee Road\, Taylor\, MI\, 48180\, United States
CATEGORIES:Adults
ORGANIZER;CN="Becky Price":MAILTO:bprice@cityoftaylormi.gov
END:VEVENT
BEGIN:VEVENT
DTSTART;TZID=America/Detroit:20261026T180000
DTEND;TZID=America/Detroit:20261026T193000
DTSTAMP:20260420T222113
CREATED:20251129T205839Z
LAST-MODIFIED:20251129T205839Z
UID:19490-1793037600-1793043000@taylor.lib.mi.us
SUMMARY:Books & Bites Book Club*
DESCRIPTION:Books & Bites Book Club*\nBooks & Bites is a monthly book club that reads and discusses Adult books with teen crossover and sometimes Teen books with adult crossover. Copies of the next book are passed out and checked out at each meeting. You can also get a copy from our front desk and most of the time they are also available on Hoopla or Libby. \nThis event is intended for: Adults \nThis month’s title: “Phantasma” by Kaylie Smith \n \nWelcome to Phantasma. There are only two rules to the game. Stay alive. And don’t fall in love. When Ophelia’s sister disappears\, there is only one way to save her. Ophelia must enter Phantasma\, a deadly contest inside a haunted mansion\, and claim its prize—a single wish. Phantasma is a maze of twisting corridors and lavish ballrooms\, of demons and temptations. Ophelia will face nine challenges\, each more dangerous than the last. There can only be one winner\, and the other contestants will stop at nothing to eliminate their rivals. Every day the house creates new monsters. But just as Ophelia’s fears threaten to overwhelm her\, a mysterious stranger offers her a bargain. Charming\, arrogant and infuriatingly attractive\, Blackwell claims he can guide her through the lethal trials ahead. All he asks in return is ten years of her life. Ophelia knows she shouldn’t trust him. Blackwell doesn’t seem dangerous\, but appearances can be deceptive. Worse still\, she feels a dark and irresistible attraction drawing them closer and closer. Her life is on the line. But in Phantasma\, the only thing deadlier than losing the game is losing your heart… \n*This book club is currently waitlisted.\nTo join our in-person meetings\, please fill out our waitlist form below. In the meantime\, feel free to join our Facebook group for announcements and general bookish chat. You can also participate virtually using the Fable app. \nPlease enable JavaScript in your browser to complete this form.Name *FirstLastLegal or PreferredAre Under 18 or 18+? *Under 1818+What are Your Pronouns? *She/HerHe/HimThey/ThemOtherWhat is Your Library Card Number? *Who is Your Home Library? *What is Your Preferred Format? *Standard PrintLarge PrintBook on CDDigital Audiobook (Hoopla & Libby)Ebook (Hoopla & Libby)Are there any other formats you would be ok with?Standard PrintLarge PrintBook on CDAudiobook Digital (Hoopla & Libby)Ebook (Hoopla & Libby)What is the best way to contact you if we have a spot open? *TextCallEmailBased on how you answered above\, please provide your phone number or email address *Submit
URL:https://taylor.lib.mi.us/event/2026-10-26/
LOCATION:Community Rooms (Papp & Trolley)\, 12303 Pardee Road\, Taylor\, MI\, 48180\, United States
CATEGORIES:Adults
ORGANIZER;CN="Becky Price":MAILTO:bprice@cityoftaylormi.gov
END:VEVENT
BEGIN:VEVENT
DTSTART;TZID=America/Detroit:20261123T180000
DTEND;TZID=America/Detroit:20261123T193000
DTSTAMP:20260420T222113
CREATED:20251129T205948Z
LAST-MODIFIED:20251129T205948Z
UID:19494-1795456800-1795462200@taylor.lib.mi.us
SUMMARY:Books & Bites Book Club*
DESCRIPTION:Books & Bites Book Club*\nBooks & Bites is a monthly book club that reads and discusses Adult books with teen crossover and sometimes Teen books with adult crossover. Copies of the next book are passed out and checked out at each meeting. You can also get a copy from our front desk and most of the time they are also available on Hoopla or Libby. \nThis event is intended for: Adults \nThis month’s title: “The Truth According to Ember” by Danica Nava \n \nA Chickasaw woman who can’t catch a break serves up a little white lie that snowballs into much more in this witty and irresistible rom-com by debut author Danica Nava. Ember Lee Cardinal has not always been a liar–well\, not for anything that counted at least. But her job search is not going well and when her resumeÌ¹ is rejected for the thirty-seventh time\, she takes matters into her own hands. She gets “creative” listing her qualifications and answers the ethnicity question on applications with a lie a half-lie\, technically. No one wanted Native American Ember\, but white Ember has just landed her dream accounting job on Park Avenue (Oklahoma City\, that is). Accountant Ember thrives in corporate life and her love life seems to be looking up too: Danuwoa Colson\, the IT guy and fellow Native who caught her eye on her first day\, seems to actually be interested in her too. Despite her unease over the no-dating policy at work\, they start to see each other secretly\, which somehow makes it even hotter? But when they’re caught in a compromising position on a work trip\, a scheming colleague blackmails Ember\, threatening to expose their relationship. As the manipulation continues to grow\, so do Ember’s lies. She must make the hard decision to either stay silent or finally tell the truth\, which could cost her everything. \n*This book club is currently waitlisted.\nTo join our in-person meetings\, please fill out our waitlist form below. In the meantime\, feel free to join our Facebook group for announcements and general bookish chat. You can also participate virtually using the Fable app. \nPlease enable JavaScript in your browser to complete this form.Name *FirstLastLegal or PreferredAre Under 18 or 18+? *Under 1818+What are Your Pronouns? *She/HerHe/HimThey/ThemOtherWhat is Your Library Card Number? *Who is Your Home Library? *What is Your Preferred Format? *Standard PrintLarge PrintBook on CDDigital Audiobook (Hoopla & Libby)Ebook (Hoopla & Libby)Are there any other formats you would be ok with?Standard PrintLarge PrintBook on CDAudiobook Digital (Hoopla & Libby)Ebook (Hoopla & Libby)What is the best way to contact you if we have a spot open? *TextCallEmailBased on how you answered above\, please provide your phone number or email address *Submit
URL:https://taylor.lib.mi.us/event/2026-11-23-2/
LOCATION:Community Rooms (Papp & Trolley)\, 12303 Pardee Road\, Taylor\, MI\, 48180\, United States
CATEGORIES:Adults
ORGANIZER;CN="Becky Price":MAILTO:bprice@cityoftaylormi.gov
END:VEVENT
END:VCALENDAR