BEGIN:VCALENDAR
VERSION:2.0
PRODID:-//Taylor Community Library - ECPv6.15.20//NONSGML v1.0//EN
CALSCALE:GREGORIAN
METHOD:PUBLISH
X-ORIGINAL-URL:https://taylor.lib.mi.us
X-WR-CALDESC:Events for Taylor Community Library
REFRESH-INTERVAL;VALUE=DURATION:PT1H
X-Robots-Tag:noindex
X-PUBLISHED-TTL:PT1H
BEGIN:VTIMEZONE
TZID:America/Detroit
BEGIN:DAYLIGHT
TZOFFSETFROM:-0500
TZOFFSETTO:-0400
TZNAME:EDT
DTSTART:20250309T070000
END:DAYLIGHT
BEGIN:STANDARD
TZOFFSETFROM:-0400
TZOFFSETTO:-0500
TZNAME:EST
DTSTART:20251102T060000
END:STANDARD
BEGIN:DAYLIGHT
TZOFFSETFROM:-0500
TZOFFSETTO:-0400
TZNAME:EDT
DTSTART:20260308T070000
END:DAYLIGHT
BEGIN:STANDARD
TZOFFSETFROM:-0400
TZOFFSETTO:-0500
TZNAME:EST
DTSTART:20261101T060000
END:STANDARD
BEGIN:DAYLIGHT
TZOFFSETFROM:-0500
TZOFFSETTO:-0400
TZNAME:EDT
DTSTART:20270314T070000
END:DAYLIGHT
BEGIN:STANDARD
TZOFFSETFROM:-0400
TZOFFSETTO:-0500
TZNAME:EST
DTSTART:20271107T060000
END:STANDARD
END:VTIMEZONE
BEGIN:VEVENT
DTSTART;TZID=America/Detroit:20260624T160000
DTEND;TZID=America/Detroit:20260624T180000
DTSTAMP:20260425T001550
CREATED:20260424T172115Z
LAST-MODIFIED:20260424T172115Z
UID:21038-1782316800-1782324000@taylor.lib.mi.us
SUMMARY:Summer Reading Kick-Off!
DESCRIPTION:Summer Reading Kick-Off\nCelebrate the upcoming summer by partying with us at our summer reading kick-off! We’ll have outdoor and indoor games\, crafts\, and activities! If you sign up to participate in our Summer Reading Program\, you’ll get a free Kona Ice Snow Cone between 4:30 – 6:00pm. All ages from babies\, tots\, kids\, tweens\, teens\, and adults are encouraged to sign up and participate in our Summer Reading Challenge. We’ll have activities and prizes for all ages all summer long!
URL:https://taylor.lib.mi.us/event/summer-reading-kick-off-2/
LOCATION:Taylor Community Library\, 12303 Pardee Road\, Taylor\, MI\, 48180\, United States
CATEGORIES:Adults,Teens,Youth & Families
ORGANIZER;CN="Jasmine Riehl":MAILTO:jriehl@cityoftaylormi.gov
END:VEVENT
END:VCALENDAR