BEGIN:VCALENDAR
VERSION:2.0
PRODID:-//Taylor Community Library - ECPv6.15.20//NONSGML v1.0//EN
CALSCALE:GREGORIAN
METHOD:PUBLISH
X-ORIGINAL-URL:https://taylor.lib.mi.us
X-WR-CALDESC:Events for Taylor Community Library
REFRESH-INTERVAL;VALUE=DURATION:PT1H
X-Robots-Tag:noindex
X-PUBLISHED-TTL:PT1H
BEGIN:VTIMEZONE
TZID:America/Detroit
BEGIN:DAYLIGHT
TZOFFSETFROM:-0500
TZOFFSETTO:-0400
TZNAME:EDT
DTSTART:20250309T070000
END:DAYLIGHT
BEGIN:STANDARD
TZOFFSETFROM:-0400
TZOFFSETTO:-0500
TZNAME:EST
DTSTART:20251102T060000
END:STANDARD
BEGIN:DAYLIGHT
TZOFFSETFROM:-0500
TZOFFSETTO:-0400
TZNAME:EDT
DTSTART:20260308T070000
END:DAYLIGHT
BEGIN:STANDARD
TZOFFSETFROM:-0400
TZOFFSETTO:-0500
TZNAME:EST
DTSTART:20261101T060000
END:STANDARD
BEGIN:DAYLIGHT
TZOFFSETFROM:-0500
TZOFFSETTO:-0400
TZNAME:EDT
DTSTART:20270314T070000
END:DAYLIGHT
BEGIN:STANDARD
TZOFFSETFROM:-0400
TZOFFSETTO:-0500
TZNAME:EST
DTSTART:20271107T060000
END:STANDARD
END:VTIMEZONE
BEGIN:VEVENT
DTSTART;TZID=America/Detroit:20260813T180000
DTEND;TZID=America/Detroit:20260813T190000
DTSTAMP:20260420T203255
CREATED:20260327T161027Z
LAST-MODIFIED:20260420T221021Z
UID:20620-1786644000-1786647600@taylor.lib.mi.us
SUMMARY:Dino-Rama Design with Sloan Museum!*
DESCRIPTION:Dino-Rama Design with Sloan Museum!*\nDesign and create your own dinosaur-themed diorama! You’ll learn about dinosaur habitats\, sketch a design plan\, then build a dino-rama to keep. Intended for ages 4-12. \n*Registration required\, registration opens two weeks before the event on July 30th\, 2026. Call the library to register!
URL:https://taylor.lib.mi.us/event/dino-rama-design-with-sloan-museum/
LOCATION:Trolley (North) Unity Room\, 12303 Pardee Road\, Taylor\, MI\, 48180\, United States
CATEGORIES:Youth & Families
ORGANIZER;CN="Jasmine Riehl":MAILTO:jriehl@cityoftaylormi.gov
END:VEVENT
BEGIN:VEVENT
DTSTART;TZID=America/Detroit:20260817T110000
DTEND;TZID=America/Detroit:20260817T120000
DTSTAMP:20260420T203255
CREATED:20260420T221034Z
LAST-MODIFIED:20260420T221034Z
UID:20623-1786964400-1786968000@taylor.lib.mi.us
SUMMARY:Family Yoga with the Guidance Center!
DESCRIPTION:Family Yoga with the Guidance Center!\nJoin us for family yoga with the Guidance Center! This program will be held outside on the library lawn\, weather permitting.
URL:https://taylor.lib.mi.us/event/family-yoga-with-the-guidance-center/
LOCATION:Community Rooms (Papp & Trolley)\, 12303 Pardee Road\, Taylor\, MI\, 48180\, United States
CATEGORIES:Youth & Families
ORGANIZER;CN="Jasmine Riehl":MAILTO:jriehl@cityoftaylormi.gov
END:VEVENT
BEGIN:VEVENT
DTSTART;TZID=America/Detroit:20260820T180000
DTEND;TZID=America/Detroit:20260820T190000
DTSTAMP:20260420T203255
CREATED:20260327T161332Z
LAST-MODIFIED:20260420T221551Z
UID:20621-1787248800-1787252400@taylor.lib.mi.us
SUMMARY:Rock On! with Ann Arbor Hands on Museum!*
DESCRIPTION:Rock On! with Ann Arbor Hands on Museum!*\nA hands on geology experience for curious minds \nLeave no stone unturned as participants explore rocks\, minerals\, and the processes that formed them. Through experiments and observation\, participants learn how scientists identify mystery specimens and uncover the stories written in stone. \nIntended for ages 8 and up. \n*Registration required\, registration opens two weeks before the event on August 6th\, 2026. Call the library to register!
URL:https://taylor.lib.mi.us/event/rock-on-with-ann-arbor-hands-on-museum/
LOCATION:Trolley (North) Unity Room\, 12303 Pardee Road\, Taylor\, MI\, 48180\, United States
CATEGORIES:Youth & Families
ORGANIZER;CN="Jasmine Riehl":MAILTO:jriehl@cityoftaylormi.gov
END:VEVENT
BEGIN:VEVENT
DTSTART;TZID=America/Detroit:20260831T110000
DTEND;TZID=America/Detroit:20260831T120000
DTSTAMP:20260420T203255
CREATED:20260420T221350Z
LAST-MODIFIED:20260420T221350Z
UID:20624-1788174000-1788177600@taylor.lib.mi.us
SUMMARY:Family Yoga with the Guidance Center!
DESCRIPTION:Family Yoga with the Guidance Center!\nJoin us for family yoga with the Guidance Center! This program will be held outside on the library lawn\, weather permitting.
URL:https://taylor.lib.mi.us/event/family-yoga-with-the-guidance-center-2/
LOCATION:Community Rooms (Papp & Trolley)\, 12303 Pardee Road\, Taylor\, MI\, 48180\, United States
CATEGORIES:Youth & Families
ORGANIZER;CN="Jasmine Riehl":MAILTO:jriehl@cityoftaylormi.gov
END:VEVENT
END:VCALENDAR