BEGIN:VCALENDAR
VERSION:2.0
PRODID:-//Taylor Community Library - ECPv6.15.20//NONSGML v1.0//EN
CALSCALE:GREGORIAN
METHOD:PUBLISH
X-WR-CALNAME:Taylor Community Library
X-ORIGINAL-URL:https://taylor.lib.mi.us
X-WR-CALDESC:Events for Taylor Community Library
REFRESH-INTERVAL;VALUE=DURATION:PT1H
X-Robots-Tag:noindex
X-PUBLISHED-TTL:PT1H
BEGIN:VTIMEZONE
TZID:America/Detroit
BEGIN:DAYLIGHT
TZOFFSETFROM:-0500
TZOFFSETTO:-0400
TZNAME:EDT
DTSTART:20250309T070000
END:DAYLIGHT
BEGIN:STANDARD
TZOFFSETFROM:-0400
TZOFFSETTO:-0500
TZNAME:EST
DTSTART:20251102T060000
END:STANDARD
BEGIN:DAYLIGHT
TZOFFSETFROM:-0500
TZOFFSETTO:-0400
TZNAME:EDT
DTSTART:20260308T070000
END:DAYLIGHT
BEGIN:STANDARD
TZOFFSETFROM:-0400
TZOFFSETTO:-0500
TZNAME:EST
DTSTART:20261101T060000
END:STANDARD
BEGIN:DAYLIGHT
TZOFFSETFROM:-0500
TZOFFSETTO:-0400
TZNAME:EDT
DTSTART:20270314T070000
END:DAYLIGHT
BEGIN:STANDARD
TZOFFSETFROM:-0400
TZOFFSETTO:-0500
TZNAME:EST
DTSTART:20271107T060000
END:STANDARD
END:VTIMEZONE
BEGIN:VEVENT
DTSTART;TZID=America/Detroit:20260709T180000
DTEND;TZID=America/Detroit:20260709T190000
DTSTAMP:20260421T144140
CREATED:20260327T155431Z
LAST-MODIFIED:20260420T215512Z
UID:20611-1783620000-1783623600@taylor.lib.mi.us
SUMMARY:Dino Tales with Sloan Museum!*
DESCRIPTION:Dino Tales with Sloan Museum!*\nJoin us for Dino Tales with the Sloan Museum! Intended for ages 5-7. \nDinosaurs lived a long\, long time ago. Let’s learn about these fascinating prehistoric creatures as we observe and touch real fossils\, build our own fossil model\, and make a dinosaur tail to wear. You will even design and build your own dinosaur to take home! \n*Registration required\, registration opens two weeks before the event on June 24th\, 2026. Call the library to register!
URL:https://taylor.lib.mi.us/event/dino-tales-with-sloan-museum-2/
LOCATION:Trolley (North) Unity Room\, 12303 Pardee Road\, Taylor\, MI\, 48180\, United States
CATEGORIES:Youth & Families
ORGANIZER;CN="Jasmine Riehl":MAILTO:jriehl@cityoftaylormi.gov
END:VEVENT
BEGIN:VEVENT
DTSTART;TZID=America/Detroit:20260714T140000
DTEND;TZID=America/Detroit:20260714T150000
DTSTAMP:20260421T144140
CREATED:20260420T215854Z
LAST-MODIFIED:20260420T215854Z
UID:20721-1784037600-1784041200@taylor.lib.mi.us
SUMMARY:Dino Hunt
DESCRIPTION:Dino Scavenger Hunt\nHelp! we had some dinos escape please help us find them! Dinos will be high and low all over the children’s side of the library after the scavenger hunt is completed there will be a prize. There will also be a movie\, playing along with some coloring sheets will be available. \nThis Event is for Kids & Families
URL:https://taylor.lib.mi.us/event/dino-hunt/
LOCATION:Community Rooms (Papp & Trolley)\, 12303 Pardee Road\, Taylor\, MI\, 48180\, United States
CATEGORIES:Youth & Families
ORGANIZER;CN="Carolyn Somerville-Jones":MAILTO:csomerville@cityoftaylormi.gov
END:VEVENT
BEGIN:VEVENT
DTSTART;TZID=America/Detroit:20260716T180000
DTEND;TZID=America/Detroit:20260716T190000
DTSTAMP:20260421T144140
CREATED:20260327T155712Z
LAST-MODIFIED:20260420T215929Z
UID:20612-1784224800-1784228400@taylor.lib.mi.us
SUMMARY:Living Fossils with Ann Arbor Hands On Museum!*
DESCRIPTION:Living Fossils with Ann Arbor Hands On Museum!*\nDiscover how ancient adaptations live on today \nTravel back millions of years to meet animals whose traits connect them to prehistoric life. Participants observe live animals up close while learning how adaptations and survival strategies have allowed these species to thrive through time. \nIntended for ages 5 and up. \n*Registration required\, registration opens two weeks before the event on July 2nd\, 2026. Call the library to register!
URL:https://taylor.lib.mi.us/event/living-fossils-with-ann-arbor-hands-on-museum/
LOCATION:Community Rooms (Papp & Trolley)\, 12303 Pardee Road\, Taylor\, MI\, 48180\, United States
CATEGORIES:Youth & Families
ORGANIZER;CN="Jasmine Riehl":MAILTO:jriehl@cityoftaylormi.gov
END:VEVENT
BEGIN:VEVENT
DTSTART;TZID=America/Detroit:20260728T140000
DTEND;TZID=America/Detroit:20260728T150000
DTSTAMP:20260421T144140
CREATED:20260420T220331Z
LAST-MODIFIED:20260420T220331Z
UID:20723-1785247200-1785250800@taylor.lib.mi.us
SUMMARY:Dino Fossils
DESCRIPTION:Dino Fossil Exploration\nCome dig up your very own dinosaur fossils. All supplies will be provided. \nThis Event is for Kids & Families
URL:https://taylor.lib.mi.us/event/dino-fossils/
LOCATION:Community Rooms (Papp & Trolley)\, 12303 Pardee Road\, Taylor\, MI\, 48180\, United States
CATEGORIES:Youth & Families
ORGANIZER;CN="Carolyn Somerville-Jones":MAILTO:csomerville@cityoftaylormi.gov
END:VEVENT
BEGIN:VEVENT
DTSTART;TZID=America/Detroit:20260728T160000
DTEND;TZID=America/Detroit:20260728T170000
DTSTAMP:20260421T144140
CREATED:20260401T180651Z
LAST-MODIFIED:20260420T220345Z
UID:20752-1785254400-1785258000@taylor.lib.mi.us
SUMMARY:Baby Dinosaur Experience
DESCRIPTION:Baby Dinosaur Experience\nBefore humans walked the Earth\, dinosaurs were the rulers of the planet! With this Baby Dino Experience\, you’ll have the chance to learn exciting facts about the creatures that were once as big as buildings and the ones as little as puppies! \nA Dinosaur Trainer and Dinosaur Explorer will amaze attendees though dinosaur fun facts\, an adventure story about the baby dinosaur\, and will show and tell dinosaur relics and close up pictures …. and all with a realistic baby dinosaur. This unique realistic dinosaur experience will keep you talking for many years to come! \n  \nThis event is intended for: Children and their families
URL:https://taylor.lib.mi.us/event/baby-dinosaur-experience/
LOCATION:Community Rooms (Papp & Trolley)\, 12303 Pardee Road\, Taylor\, MI\, 48180\, United States
CATEGORIES:Youth & Families
ORGANIZER;CN="Jasmine Riehl":MAILTO:jriehl@cityoftaylormi.gov
END:VEVENT
BEGIN:VEVENT
DTSTART;TZID=America/Detroit:20260806T180000
DTEND;TZID=America/Detroit:20260806T190000
DTSTAMP:20260421T144140
CREATED:20260327T160752Z
LAST-MODIFIED:20260420T220907Z
UID:20619-1786039200-1786042800@taylor.lib.mi.us
SUMMARY:Dinosaur Day with PaleoJoe!*
DESCRIPTION:Dinosaur Day with PaleoJoe!*\nPaleoJoe recently returned from a Dinosaur dig to tell tales of Dinosaur Hunting in the famous Morrison formation in Utah. Join PaleoJoe as he takes you on a trip back in time and brings you right into the present\, searching for and finding these magnificent creatures of long ago. \n*Registration required\, registration opens two weeks before the event on July 23rd\, 2026. Call the library to register!
URL:https://taylor.lib.mi.us/event/dinosaur-day-with-paleojoe/
LOCATION:Papp (South) Community Room\, 12303 Pardee Road\, Taylor\, MI\, 48180\, United States
CATEGORIES:Youth & Families
ORGANIZER;CN="Jasmine Riehl":MAILTO:jriehl@cityoftaylormi.gov
END:VEVENT
BEGIN:VEVENT
DTSTART;TZID=America/Detroit:20260813T180000
DTEND;TZID=America/Detroit:20260813T190000
DTSTAMP:20260421T144140
CREATED:20260327T161027Z
LAST-MODIFIED:20260420T221021Z
UID:20620-1786644000-1786647600@taylor.lib.mi.us
SUMMARY:Dino-Rama Design with Sloan Museum!*
DESCRIPTION:Dino-Rama Design with Sloan Museum!*\nDesign and create your own dinosaur-themed diorama! You’ll learn about dinosaur habitats\, sketch a design plan\, then build a dino-rama to keep. Intended for ages 4-12. \n*Registration required\, registration opens two weeks before the event on July 30th\, 2026. Call the library to register!
URL:https://taylor.lib.mi.us/event/dino-rama-design-with-sloan-museum/
LOCATION:Trolley (North) Unity Room\, 12303 Pardee Road\, Taylor\, MI\, 48180\, United States
CATEGORIES:Youth & Families
ORGANIZER;CN="Jasmine Riehl":MAILTO:jriehl@cityoftaylormi.gov
END:VEVENT
BEGIN:VEVENT
DTSTART;TZID=America/Detroit:20260820T180000
DTEND;TZID=America/Detroit:20260820T190000
DTSTAMP:20260421T144140
CREATED:20260327T161332Z
LAST-MODIFIED:20260420T221551Z
UID:20621-1787248800-1787252400@taylor.lib.mi.us
SUMMARY:Rock On! with Ann Arbor Hands on Museum!*
DESCRIPTION:Rock On! with Ann Arbor Hands on Museum!*\nA hands on geology experience for curious minds \nLeave no stone unturned as participants explore rocks\, minerals\, and the processes that formed them. Through experiments and observation\, participants learn how scientists identify mystery specimens and uncover the stories written in stone. \nIntended for ages 8 and up. \n*Registration required\, registration opens two weeks before the event on August 6th\, 2026. Call the library to register!
URL:https://taylor.lib.mi.us/event/rock-on-with-ann-arbor-hands-on-museum/
LOCATION:Trolley (North) Unity Room\, 12303 Pardee Road\, Taylor\, MI\, 48180\, United States
CATEGORIES:Youth & Families
ORGANIZER;CN="Jasmine Riehl":MAILTO:jriehl@cityoftaylormi.gov
END:VEVENT
BEGIN:VEVENT
DTSTART;TZID=America/Detroit:20260825T140000
DTEND;TZID=America/Detroit:20260825T150000
DTSTAMP:20260421T144140
CREATED:20260420T221222Z
LAST-MODIFIED:20260420T221222Z
UID:20717-1787666400-1787670000@taylor.lib.mi.us
SUMMARY:Dino Tea-Party
DESCRIPTION:Dino Tea-Party\nBring your dino for a fun dino themed Tea-Party there will be bingo\, snacks\, and of course tea and lemonade! \nThis event is intended for: Kids and Families
URL:https://taylor.lib.mi.us/event/dino-tea-party/
LOCATION:Community Rooms (Papp & Trolley)\, 12303 Pardee Road\, Taylor\, MI\, 48180\, United States
CATEGORIES:Youth & Families
ORGANIZER;CN="Carolyn Somerville-Jones":MAILTO:csomerville@cityoftaylormi.gov
END:VEVENT
END:VCALENDAR