BEGIN:VCALENDAR
VERSION:2.0
PRODID:-//Taylor Community Library - ECPv6.15.20//NONSGML v1.0//EN
CALSCALE:GREGORIAN
METHOD:PUBLISH
X-ORIGINAL-URL:https://taylor.lib.mi.us
X-WR-CALDESC:Events for Taylor Community Library
REFRESH-INTERVAL;VALUE=DURATION:PT1H
X-Robots-Tag:noindex
X-PUBLISHED-TTL:PT1H
BEGIN:VTIMEZONE
TZID:America/Detroit
BEGIN:DAYLIGHT
TZOFFSETFROM:-0500
TZOFFSETTO:-0400
TZNAME:EDT
DTSTART:20230312T070000
END:DAYLIGHT
BEGIN:STANDARD
TZOFFSETFROM:-0400
TZOFFSETTO:-0500
TZNAME:EST
DTSTART:20231105T060000
END:STANDARD
BEGIN:DAYLIGHT
TZOFFSETFROM:-0500
TZOFFSETTO:-0400
TZNAME:EDT
DTSTART:20240310T070000
END:DAYLIGHT
BEGIN:STANDARD
TZOFFSETFROM:-0400
TZOFFSETTO:-0500
TZNAME:EST
DTSTART:20241103T060000
END:STANDARD
BEGIN:DAYLIGHT
TZOFFSETFROM:-0500
TZOFFSETTO:-0400
TZNAME:EDT
DTSTART:20250309T070000
END:DAYLIGHT
BEGIN:STANDARD
TZOFFSETFROM:-0400
TZOFFSETTO:-0500
TZNAME:EST
DTSTART:20251102T060000
END:STANDARD
END:VTIMEZONE
BEGIN:VEVENT
DTSTART;TZID=America/Detroit:20241028T110000
DTEND;TZID=America/Detroit:20241028T130000
DTSTAMP:20260420T233907
CREATED:20240831T153717Z
LAST-MODIFIED:20240831T154404Z
UID:14658-1730113200-1730120400@taylor.lib.mi.us
SUMMARY:Hooks & Needles
DESCRIPTION:Hooks & Needles\n\nCome and join other yarn enthusiasts in our community who love to knit and crochet.  This is a weekly event to share ideas\, projects\, and do a little yarning.  Bring your own projects to work on.
URL:https://taylor.lib.mi.us/event/2024-10-28-2/
LOCATION:Trolley (North) Unity Room\, 12303 Pardee Road\, Taylor\, MI\, 48180\, United States
CATEGORIES:Adults
ORGANIZER;CN="Stephanie Herm":MAILTO:sherm@cityoftaylormi.gov
END:VEVENT
BEGIN:VEVENT
DTSTART;TZID=America/Detroit:20241028T180000
DTEND;TZID=America/Detroit:20241028T190000
DTSTAMP:20260420T233907
CREATED:20221205T212808Z
LAST-MODIFIED:20240907T202651Z
UID:14574-1730138400-1730142000@taylor.lib.mi.us
SUMMARY:LEGO Club
DESCRIPTION:LEGO Club\nDo you love Legos? Join our Lego Club! Every Monday at 6 p.m. come in and start building.  Everyone is welcome to free build.  If you are up for it\, we will provide a challenge or theme for you to make something related to that week’s challenge or theme. We will display your creation for one week and will tear them apart at the next event. This event is open to kids\, tweens\, teens\, and parents. No registration is required\, just stop in and build!
URL:https://taylor.lib.mi.us/event/lego-club-2-2023-03-06-2023-07-03-2023-10-02-2024-09-09-2024-10-28/
LOCATION:Taylor Community Library\, 12303 Pardee Road\, Taylor\, MI\, 48180\, United States
CATEGORIES:Teens,Youth & Families
END:VEVENT
BEGIN:VEVENT
DTSTART;TZID=America/Detroit:20241029T140000
DTEND;TZID=America/Detroit:20241029T143000
DTSTAMP:20260420T233907
CREATED:20240907T202656Z
LAST-MODIFIED:20240907T202656Z
UID:14774-1730210400-1730212200@taylor.lib.mi.us
SUMMARY:Halloween Baby Buddies Storytime (Ages 0-1)
DESCRIPTION:Halloween Baby Buddies Storytime (Ages 0-1)\nThis week’s theme will be Halloween Storytime Baby Buddies is aimed toward parents with infants (ages 0-1)\, but older siblings are welcome. We will have lap time\, singing\, and read several books together. At the end\, there will be time for creative play and parent conversation.
URL:https://taylor.lib.mi.us/event/halloween-baby-buddies-storytime-ages-0-1/
LOCATION:Community Rooms (Papp & Trolley)\, 12303 Pardee Road\, Taylor\, MI\, 48180\, United States
END:VEVENT
BEGIN:VEVENT
DTSTART;TZID=America/Detroit:20241029T173000
DTEND;TZID=America/Detroit:20241029T193000
DTSTAMP:20260420T233907
CREATED:20230319T192214Z
LAST-MODIFIED:20240831T155217Z
UID:14260-1730223000-1730230200@taylor.lib.mi.us
SUMMARY:Textile Lab
DESCRIPTION:Textile Lab\nTextile Lab is a weekly lab for textile crafters to come together and work on their projects.  If you love to quilt\, sew\, knit\, crochet\, embroider\, needlepoint\, or any other textile crafting\, this is the place for you!  An instructor will be available to teach you how to quilt\, or to guide you on your projects. This is a weekly lab that is open on Tuesdays from 5:30 – 7:30 p.m.
URL:https://taylor.lib.mi.us/event/2023-06-27-2023-10-03-2024-07-02-2024-10-29/
LOCATION:Community Rooms (Papp & Trolley)\, 12303 Pardee Road\, Taylor\, MI\, 48180\, United States
CATEGORIES:Adults
END:VEVENT
BEGIN:VEVENT
DTSTART;TZID=America/Detroit:20241030T180000
DTEND;TZID=America/Detroit:20241030T190000
DTSTAMP:20260420T233907
CREATED:20240907T202700Z
LAST-MODIFIED:20240920T161303Z
UID:14791-1730311200-1730314800@taylor.lib.mi.us
SUMMARY:Monster Madness (0-12)
DESCRIPTION:Monster Madness (0-12)\nWant to have some free holiday fun\, and escape the cold\, come join us for a Special Halloween event Monster Madness. There will be games\, crafts\, music\, and more\, all while you trick or treat in the Monsters Incorporated headquarters; this event is geared towards kids ages 0-12 but everyone is welcome.
URL:https://taylor.lib.mi.us/event/monster-madness-0-12/
LOCATION:Community Rooms (Papp & Trolley)\, 12303 Pardee Road\, Taylor\, MI\, 48180\, United States
CATEGORIES:Youth & Families
END:VEVENT
BEGIN:VEVENT
DTSTART;VALUE=DATE:20241031
DTEND;VALUE=DATE:20241101
DTSTAMP:20260420T233907
CREATED:20240912T212116Z
LAST-MODIFIED:20240912T215611Z
UID:15254-1730332800-1730419199@taylor.lib.mi.us
SUMMARY:Fall Reading Challenge Ends
DESCRIPTION:Fall Reading Challenge Ends\nFor more information\, visit our Fall Reading Challenge Page.
URL:https://taylor.lib.mi.us/event/fall-reading-challenge-ends-2/
LOCATION:Community Rooms (Papp & Trolley)\, 12303 Pardee Road\, Taylor\, MI\, 48180\, United States
CATEGORIES:Adults,Teens,Youth & Families
ORGANIZER;CN="Becky Price":MAILTO:bprice@cityoftaylormi.gov
END:VEVENT
BEGIN:VEVENT
DTSTART;TZID=America/Detroit:20241031T143000
DTEND;TZID=America/Detroit:20241031T163000
DTSTAMP:20260420T233907
CREATED:20240907T202715Z
LAST-MODIFIED:20240907T202715Z
UID:13510-1730385000-1730392200@taylor.lib.mi.us
SUMMARY:Writing Sessions
DESCRIPTION:Writing Sessions\nCalling all writers! We will have one of the front Community Rooms available for those looking for motivation to start writing to come in and write every Thursday\, from 2:30-4:30pm. It’ll be a quiet place with little to no interruptions\, and enough space to spread out your notes and plotline maps. Are you up for the challenge?
URL:https://taylor.lib.mi.us/event/2024-10-31/
LOCATION:Community Rooms (Papp & Trolley)\, 12303 Pardee Road\, Taylor\, MI\, 48180\, United States
CATEGORIES:Adults
END:VEVENT
END:VCALENDAR