BEGIN:VCALENDAR
VERSION:2.0
PRODID:-//Taylor Community Library - ECPv6.15.20//NONSGML v1.0//EN
CALSCALE:GREGORIAN
METHOD:PUBLISH
X-WR-CALNAME:Taylor Community Library
X-ORIGINAL-URL:https://taylor.lib.mi.us
X-WR-CALDESC:Events for Taylor Community Library
REFRESH-INTERVAL;VALUE=DURATION:PT1H
X-Robots-Tag:noindex
X-PUBLISHED-TTL:PT1H
BEGIN:VTIMEZONE
TZID:America/Detroit
BEGIN:DAYLIGHT
TZOFFSETFROM:-0500
TZOFFSETTO:-0400
TZNAME:EDT
DTSTART:20230312T070000
END:DAYLIGHT
BEGIN:STANDARD
TZOFFSETFROM:-0400
TZOFFSETTO:-0500
TZNAME:EST
DTSTART:20231105T060000
END:STANDARD
BEGIN:DAYLIGHT
TZOFFSETFROM:-0500
TZOFFSETTO:-0400
TZNAME:EDT
DTSTART:20240310T070000
END:DAYLIGHT
BEGIN:STANDARD
TZOFFSETFROM:-0400
TZOFFSETTO:-0500
TZNAME:EST
DTSTART:20241103T060000
END:STANDARD
BEGIN:DAYLIGHT
TZOFFSETFROM:-0500
TZOFFSETTO:-0400
TZNAME:EDT
DTSTART:20250309T070000
END:DAYLIGHT
BEGIN:STANDARD
TZOFFSETFROM:-0400
TZOFFSETTO:-0500
TZNAME:EST
DTSTART:20251102T060000
END:STANDARD
END:VTIMEZONE
BEGIN:VEVENT
DTSTART;TZID=America/Detroit:20241104T110000
DTEND;TZID=America/Detroit:20241104T130000
DTSTAMP:20260420T181453
CREATED:20240831T153744Z
LAST-MODIFIED:20240831T154409Z
UID:14659-1730718000-1730725200@taylor.lib.mi.us
SUMMARY:Hooks & Needles
DESCRIPTION:Hooks & Needles\n\nCome and join other yarn enthusiasts in our community who love to knit and crochet.  This is a weekly event to share ideas\, projects\, and do a little yarning.  Bring your own projects to work on.
URL:https://taylor.lib.mi.us/event/2024-11-04/
LOCATION:Trolley (North) Unity Room\, 12303 Pardee Road\, Taylor\, MI\, 48180\, United States
CATEGORIES:Adults
ORGANIZER;CN="Stephanie Herm":MAILTO:sherm@cityoftaylormi.gov
END:VEVENT
BEGIN:VEVENT
DTSTART;TZID=America/Detroit:20241104T140000
DTEND;TZID=America/Detroit:20241104T153000
DTSTAMP:20260420T181453
CREATED:20240916T205802Z
LAST-MODIFIED:20240918T232844Z
UID:15278-1730728800-1730734200@taylor.lib.mi.us
SUMMARY:Medicare 101
DESCRIPTION:Medicare 101\nJoin us for an information night with Independent Insurance Agent Tiffany J. Stone where she will explain what Medicare is\, the penalties\, when the enrollment period is\, and how to avoid Medicare scams. Light refreshments will be provided.
URL:https://taylor.lib.mi.us/event/medicare-101-3/
LOCATION:Community Rooms (Papp & Trolley)\, 12303 Pardee Road\, Taylor\, MI\, 48180\, United States
CATEGORIES:Adults
ORGANIZER;CN="Becky Price":MAILTO:bprice@cityoftaylormi.gov
END:VEVENT
BEGIN:VEVENT
DTSTART;TZID=America/Detroit:20241104T180000
DTEND;TZID=America/Detroit:20241104T190000
DTSTAMP:20260420T181453
CREATED:20221205T212808Z
LAST-MODIFIED:20240907T202950Z
UID:14575-1730743200-1730746800@taylor.lib.mi.us
SUMMARY:LEGO Club
DESCRIPTION:LEGO Club\nDo you love Legos? Join our Lego Club! Every Monday at 6 p.m. come in and start building.  Everyone is welcome to free build.  If you are up for it\, we will provide a challenge or theme for you to make something related to that week’s challenge or theme. We will display your creation for one week and will tear them apart at the next event. This event is open to kids\, tweens\, teens\, and parents. No registration is required\, just stop in and build!
URL:https://taylor.lib.mi.us/event/lego-club-2-2023-03-06-2023-07-03-2023-10-02-2024-09-09-2024-11-04/
LOCATION:Taylor Community Library\, 12303 Pardee Road\, Taylor\, MI\, 48180\, United States
CATEGORIES:Teens,Youth & Families
END:VEVENT
BEGIN:VEVENT
DTSTART;TZID=America/Detroit:20241105T103000
DTEND;TZID=America/Detroit:20241105T111500
DTSTAMP:20260420T181453
CREATED:20240910T223625Z
LAST-MODIFIED:20240910T223625Z
UID:14843-1730802600-1730805300@taylor.lib.mi.us
SUMMARY:Toddler Storytime
DESCRIPTION:Toddler Storytime\n\nJoin us for stories\, songs\, fingerplays\, and fun! Toddler Storytime is for ages 2-4\, but older and younger siblings are welcome. Bring your toddler for a chance to learn and practice some early reading skills. We will reserve some time at the end for creative play or a craft.
URL:https://taylor.lib.mi.us/event/toddler-storytime-18/
LOCATION:Community Rooms (Papp & Trolley)\, 12303 Pardee Road\, Taylor\, MI\, 48180\, United States
CATEGORIES:Youth & Families
ORGANIZER;CN="Jasmine Riehl":MAILTO:jriehl@cityoftaylormi.gov
END:VEVENT
BEGIN:VEVENT
DTSTART;TZID=America/Detroit:20241105T173000
DTEND;TZID=America/Detroit:20241105T193000
DTSTAMP:20260420T181453
CREATED:20230319T192214Z
LAST-MODIFIED:20240831T155316Z
UID:14261-1730827800-1730835000@taylor.lib.mi.us
SUMMARY:Textile Lab
DESCRIPTION:Textile Lab\nTextile Lab is a weekly lab for textile crafters to come together and work on their projects.  If you love to quilt\, sew\, knit\, crochet\, embroider\, needlepoint\, or any other textile crafting\, this is the place for you!  An instructor will be available to teach you how to quilt\, or to guide you on your projects. This is a weekly lab that is open on Tuesdays from 5:30 – 7:30 p.m.
URL:https://taylor.lib.mi.us/event/2023-06-27-2023-10-03-2024-07-02-2024-11-05/
LOCATION:Community Rooms (Papp & Trolley)\, 12303 Pardee Road\, Taylor\, MI\, 48180\, United States
CATEGORIES:Adults
END:VEVENT
BEGIN:VEVENT
DTSTART;TZID=America/Detroit:20241106T120000
DTEND;TZID=America/Detroit:20241106T140000
DTSTAMP:20260420T181453
CREATED:20240831T162941Z
LAST-MODIFIED:20240831T163046Z
UID:14954-1730894400-1730901600@taylor.lib.mi.us
SUMMARY:Audio Described Movie Day
DESCRIPTION:Audio Described Movie Day\nPop in the 1st Wednesday of each month to watch a new\, popular film with the Audio Description (AD) narration track added.
URL:https://taylor.lib.mi.us/event/audio-described-movie-day-9-2024-11-06/
LOCATION:Papp (South) Community Room\, 12303 Pardee Road\, Taylor\, MI\, 48180\, United States
CATEGORIES:Adults
END:VEVENT
BEGIN:VEVENT
DTSTART;TZID=America/Detroit:20241106T160000
DTEND;TZID=America/Detroit:20241106T180000
DTSTAMP:20260420T181453
CREATED:20221208T231101Z
LAST-MODIFIED:20241014T214527Z
UID:14175-1730908800-1730916000@taylor.lib.mi.us
SUMMARY:Teen Volunteer Group*
DESCRIPTION:Teen Volunteer Group*\nAre you a teen who’s looking for volunteer hours? Join our Teen Volunteer Group! \nTeen volunteers help plan\, implement\, and promote ways to improve services offered at TCL. Joining our group builds your resume\, earns you volunteer hours\, and gives you a chance to be heard. Tasks will include helping the library with collection maintenance\, programming prep\, maintaining the TCL Tiny Taylor Library\, and more! \nWe meet every other Wednesday at 4 p.m. in person at the library. \nWant to earn volunteer hours for this? Visit our Volunteer page to see if space is available and to sign up!  \n*Registration Required
URL:https://taylor.lib.mi.us/event/teen-volunteer-group-2023-09-13-2023-09-27-2023-10-11-2024-07-03-2024-11-06/
LOCATION:Community Rooms (Papp & Trolley)\, 12303 Pardee Road\, Taylor\, MI\, 48180\, United States
CATEGORIES:Teens
ORGANIZER;CN="Jasmine Riehl":MAILTO:jriehl@cityoftaylormi.gov
END:VEVENT
BEGIN:VEVENT
DTSTART;TZID=America/Detroit:20241106T173000
DTEND;TZID=America/Detroit:20241106T193000
DTSTAMP:20260420T181453
CREATED:20240910T224131Z
LAST-MODIFIED:20240910T224252Z
UID:14508-1730914200-1730921400@taylor.lib.mi.us
SUMMARY:Silent Book Club
DESCRIPTION:Silent Book Club\nEver wanted to join a book club\, but felt like it was too much pressure? Join this super low-key book club where you show up with a book of your choice and read! At each meeting the first and last 15 minutes will be designated for sharing what you’re reading/socializing with other members and then the hour and half in-between will be designated for reading. We will have an ambience room playing at low volume in the background and different options for seating. Feel free to bring a snack\, beverage\, or blanket to make this event extra cozy. This book club will meet every Wednesday.
URL:https://taylor.lib.mi.us/event/2024-11-06/
LOCATION:Community Rooms (Papp & Trolley)\, 12303 Pardee Road\, Taylor\, MI\, 48180\, United States
CATEGORIES:Adults
ORGANIZER;CN="Becky Price":MAILTO:bprice@cityoftaylormi.gov
END:VEVENT
BEGIN:VEVENT
DTSTART;TZID=America/Detroit:20241107T143000
DTEND;TZID=America/Detroit:20241107T163000
DTSTAMP:20260420T181453
CREATED:20240910T223907Z
LAST-MODIFIED:20240910T223907Z
UID:13511-1730989800-1730997000@taylor.lib.mi.us
SUMMARY:Writing Sessions
DESCRIPTION:Writing Sessions\nCalling all writers! We will have one of the front Community Rooms available for those looking for motivation to start writing to come in and write every Thursday\, from 2:30-4:30pm. It’ll be a quiet place with little to no interruptions\, and enough space to spread out your notes and plotline maps. Are you up for the challenge?
URL:https://taylor.lib.mi.us/event/2024-11-07/
LOCATION:Community Rooms (Papp & Trolley)\, 12303 Pardee Road\, Taylor\, MI\, 48180\, United States
CATEGORIES:Adults
END:VEVENT
BEGIN:VEVENT
DTSTART;TZID=America/Detroit:20241107T170000
DTEND;TZID=America/Detroit:20241107T190000
DTSTAMP:20260420T181453
CREATED:20240910T223926Z
LAST-MODIFIED:20241108T155448Z
UID:14855-1730998800-1731006000@taylor.lib.mi.us
SUMMARY:Blue Heeler Meet & Greet
DESCRIPTION:Blue Heeler Meet & Greet\nCome meet your favorite Australian Blue Heeler! We’ll be making fairy toast\, playing games\, and you’ll get a chance to meet this special pup herself and grab a picture with her! There will also be another character from this magical world who you’ll be able to meet\, but you have to stop in to find out who it is. We are so excited to have these special guests come to the library\, and hope you’ll join us in hanging out with her for an evening. \nThis event is geared towards families.
URL:https://taylor.lib.mi.us/event/bluey-meet-greet/
LOCATION:Community Rooms (Papp & Trolley)\, 12303 Pardee Road\, Taylor\, MI\, 48180\, United States
CATEGORIES:Youth & Families
ORGANIZER;CN="Jasmine Riehl":MAILTO:jriehl@cityoftaylormi.gov
END:VEVENT
END:VCALENDAR