BEGIN:VCALENDAR
VERSION:2.0
PRODID:-//Taylor Community Library - ECPv6.15.20//NONSGML v1.0//EN
CALSCALE:GREGORIAN
METHOD:PUBLISH
X-WR-CALNAME:Taylor Community Library
X-ORIGINAL-URL:https://taylor.lib.mi.us
X-WR-CALDESC:Events for Taylor Community Library
REFRESH-INTERVAL;VALUE=DURATION:PT1H
X-Robots-Tag:noindex
X-PUBLISHED-TTL:PT1H
BEGIN:VTIMEZONE
TZID:America/Detroit
BEGIN:DAYLIGHT
TZOFFSETFROM:-0500
TZOFFSETTO:-0400
TZNAME:EDT
DTSTART:20230312T070000
END:DAYLIGHT
BEGIN:STANDARD
TZOFFSETFROM:-0400
TZOFFSETTO:-0500
TZNAME:EST
DTSTART:20231105T060000
END:STANDARD
BEGIN:DAYLIGHT
TZOFFSETFROM:-0500
TZOFFSETTO:-0400
TZNAME:EDT
DTSTART:20240310T070000
END:DAYLIGHT
BEGIN:STANDARD
TZOFFSETFROM:-0400
TZOFFSETTO:-0500
TZNAME:EST
DTSTART:20241103T060000
END:STANDARD
BEGIN:DAYLIGHT
TZOFFSETFROM:-0500
TZOFFSETTO:-0400
TZNAME:EDT
DTSTART:20250309T070000
END:DAYLIGHT
BEGIN:STANDARD
TZOFFSETFROM:-0400
TZOFFSETTO:-0500
TZNAME:EST
DTSTART:20251102T060000
END:STANDARD
END:VTIMEZONE
BEGIN:VEVENT
DTSTART;TZID=America/Detroit:20241118T110000
DTEND;TZID=America/Detroit:20241118T130000
DTSTAMP:20260420T181510
CREATED:20240831T153908Z
LAST-MODIFIED:20240831T154415Z
UID:14661-1731927600-1731934800@taylor.lib.mi.us
SUMMARY:Hooks & Needles
DESCRIPTION:Hooks & Needles\n\nCome and join other yarn enthusiasts in our community who love to knit and crochet.  This is a weekly event to share ideas\, projects\, and do a little yarning.  Bring your own projects to work on.
URL:https://taylor.lib.mi.us/event/2024-11-18/
LOCATION:Trolley (North) Unity Room\, 12303 Pardee Road\, Taylor\, MI\, 48180\, United States
CATEGORIES:Adults
ORGANIZER;CN="Stephanie Herm":MAILTO:sherm@cityoftaylormi.gov
END:VEVENT
BEGIN:VEVENT
DTSTART;TZID=America/Detroit:20241118T140000
DTEND;TZID=America/Detroit:20241118T153000
DTSTAMP:20260420T181510
CREATED:20240916T205802Z
LAST-MODIFIED:20240918T232923Z
UID:15293-1731938400-1731943800@taylor.lib.mi.us
SUMMARY:Medicare 101
DESCRIPTION:Medicare 101\nJoin us for an information night with Independent Insurance Agent Tiffany J. Stone where she will explain what Medicare is\, the penalties\, when the enrollment period is\, and how to avoid Medicare scams. Light refreshments will be provided.
URL:https://taylor.lib.mi.us/event/medicare-101-3-2024-11-18/
LOCATION:Community Rooms (Papp & Trolley)\, 12303 Pardee Road\, Taylor\, MI\, 48180\, United States
CATEGORIES:Adults
ORGANIZER;CN="Becky Price":MAILTO:bprice@cityoftaylormi.gov
END:VEVENT
BEGIN:VEVENT
DTSTART;TZID=America/Detroit:20241118T170000
DTEND;TZID=America/Detroit:20241118T180000
DTSTAMP:20260420T181510
CREATED:20240907T203020Z
LAST-MODIFIED:20241029T163225Z
UID:14960-1731949200-1731952800@taylor.lib.mi.us
SUMMARY:Craft & Info Night with NHA
DESCRIPTION:Crafting & Info Night with National Heritage Academy Schools\nJoin a staff member from Taylor’s National Heritage Academy schools at the library for a fun fall craft! We will be making Wheels of Thankfulness\, paper wheels full of color and pictures of things we are grateful for. We will also have information about the school and enrollment opportunities set out\, as well as recommended reading lists for elementary aged children. This is event is geared towards families and is a space to see what resources are available to you in this community. Also\, if you end up having so much fun at this event\, feel free to stick around for Lego Club immediately after.
URL:https://taylor.lib.mi.us/event/crafting-with-national-heritage-academy-schools/
LOCATION:Youth Section\, 12303 Pardee Road\, Taylor\, MI\, 48180\, United States
CATEGORIES:Youth & Families
ORGANIZER;CN="Jasmine Riehl":MAILTO:jriehl@cityoftaylormi.gov
END:VEVENT
BEGIN:VEVENT
DTSTART;TZID=America/Detroit:20241118T180000
DTEND;TZID=America/Detroit:20241118T190000
DTSTAMP:20260420T181510
CREATED:20221205T212808Z
LAST-MODIFIED:20240907T203015Z
UID:14577-1731952800-1731956400@taylor.lib.mi.us
SUMMARY:LEGO Club
DESCRIPTION:LEGO Club\nDo you love Legos? Join our Lego Club! Every Monday at 6 p.m. come in and start building.  Everyone is welcome to free build.  If you are up for it\, we will provide a challenge or theme for you to make something related to that week’s challenge or theme. We will display your creation for one week and will tear them apart at the next event. This event is open to kids\, tweens\, teens\, and parents. No registration is required\, just stop in and build!
URL:https://taylor.lib.mi.us/event/lego-club-2-2023-03-06-2023-07-03-2023-10-02-2024-09-09-2024-11-18/
LOCATION:Taylor Community Library\, 12303 Pardee Road\, Taylor\, MI\, 48180\, United States
CATEGORIES:Teens,Youth & Families
END:VEVENT
BEGIN:VEVENT
DTSTART;TZID=America/Detroit:20241118T180000
DTEND;TZID=America/Detroit:20241118T190000
DTSTAMP:20260420T181510
CREATED:20240912T213152Z
LAST-MODIFIED:20240923T183507Z
UID:15259-1731952800-1731956400@taylor.lib.mi.us
SUMMARY:Winter Comfort Food Demo
DESCRIPTION:Winter Comfort Food Demo\nJoin us for a 1-hour cooking demonstration with Chef Mary as she teaches us how to make Steak with Creamy Mushrooms and Spinach as well as a One Pan Chicken Parmesan Pasta to help us prepare for the winter months. Attendees will get to learn the recipes\, see how they’re made\, and enjoy samples of each dish.
URL:https://taylor.lib.mi.us/event/canva-class-drop-in/
LOCATION:Community Rooms (Papp & Trolley)\, 12303 Pardee Road\, Taylor\, MI\, 48180\, United States
CATEGORIES:Adults
ORGANIZER;CN="Becky Price":MAILTO:bprice@cityoftaylormi.gov
END:VEVENT
BEGIN:VEVENT
DTSTART;TZID=America/Detroit:20241119T103000
DTEND;TZID=America/Detroit:20241119T111500
DTSTAMP:20260420T181510
CREATED:20240910T223632Z
LAST-MODIFIED:20240910T223632Z
UID:14846-1732012200-1732014900@taylor.lib.mi.us
SUMMARY:Toddler Storytime
DESCRIPTION:Toddler Storytime\n\nJoin us for stories\, songs\, fingerplays\, and fun! Toddler Storytime is for ages 2-4\, but older and younger siblings are welcome. Bring your toddler for a chance to learn and practice some early reading skills. We will reserve some time at the end for creative play or a craft.
URL:https://taylor.lib.mi.us/event/2024-11-19/
LOCATION:Community Rooms (Papp & Trolley)\, 12303 Pardee Road\, Taylor\, MI\, 48180\, United States
CATEGORIES:Youth & Families
ORGANIZER;CN="Jasmine Riehl":MAILTO:jriehl@cityoftaylormi.gov
END:VEVENT
BEGIN:VEVENT
DTSTART;TZID=America/Detroit:20241119T173000
DTEND;TZID=America/Detroit:20241119T193000
DTSTAMP:20260420T181510
CREATED:20230319T192214Z
LAST-MODIFIED:20240831T155331Z
UID:14263-1732037400-1732044600@taylor.lib.mi.us
SUMMARY:Textile Lab
DESCRIPTION:Textile Lab\nTextile Lab is a weekly lab for textile crafters to come together and work on their projects.  If you love to quilt\, sew\, knit\, crochet\, embroider\, needlepoint\, or any other textile crafting\, this is the place for you!  An instructor will be available to teach you how to quilt\, or to guide you on your projects. This is a weekly lab that is open on Tuesdays from 5:30 – 7:30 p.m.
URL:https://taylor.lib.mi.us/event/2023-06-27-2023-10-03-2024-07-02-2024-11-19/
LOCATION:Community Rooms (Papp & Trolley)\, 12303 Pardee Road\, Taylor\, MI\, 48180\, United States
CATEGORIES:Adults
END:VEVENT
BEGIN:VEVENT
DTSTART;TZID=America/Detroit:20241120T160000
DTEND;TZID=America/Detroit:20241120T180000
DTSTAMP:20260420T181510
CREATED:20221208T231101Z
LAST-MODIFIED:20241014T214520Z
UID:14176-1732118400-1732125600@taylor.lib.mi.us
SUMMARY:Teen Volunteer Group*
DESCRIPTION:Teen Volunteer Group*\nAre you a teen who’s looking for volunteer hours? Join our Teen Volunteer Group! \nTeen volunteers help plan\, implement\, and promote ways to improve services offered at TCL. Joining our group builds your resume\, earns you volunteer hours\, and gives you a chance to be heard. Tasks will include helping the library with collection maintenance\, programming prep\, maintaining the TCL Tiny Taylor Library\, and more! \nWe meet every other Wednesday at 4 p.m. in person at the library. \nWant to earn volunteer hours for this? Visit our Volunteer page to see if space is available and to sign up!  \n*Registration Required
URL:https://taylor.lib.mi.us/event/teen-volunteer-group-2023-09-13-2023-09-27-2023-10-11-2024-07-03-2024-11-20/
LOCATION:Community Rooms (Papp & Trolley)\, 12303 Pardee Road\, Taylor\, MI\, 48180\, United States
CATEGORIES:Teens
ORGANIZER;CN="Jasmine Riehl":MAILTO:jriehl@cityoftaylormi.gov
END:VEVENT
BEGIN:VEVENT
DTSTART;TZID=America/Detroit:20241120T173000
DTEND;TZID=America/Detroit:20241120T193000
DTSTAMP:20260420T181510
CREATED:20240910T224717Z
LAST-MODIFIED:20240910T224717Z
UID:15086-1732123800-1732131000@taylor.lib.mi.us
SUMMARY:Silent Book Club
DESCRIPTION:Silent Book Club\nEver wanted to join a book club\, but felt like it was too much pressure? Join this super low-key book club where you show up with a book of your choice and read! At each meeting the first and last 15 minutes will be designated for sharing what you’re reading/socializing with other members and then the hour and half in-between will be designated for reading. We will have an ambience room playing at low volume in the background and different options for seating. Feel free to bring a snack\, beverage\, or blanket to make this event extra cozy. This book club meets every Wednesday.
URL:https://taylor.lib.mi.us/event/2024-12-04-2024-11-20/
LOCATION:Community Rooms (Papp & Trolley)\, 12303 Pardee Road\, Taylor\, MI\, 48180\, United States
CATEGORIES:Adults
ORGANIZER;CN="Becky Price":MAILTO:bprice@cityoftaylormi.gov
END:VEVENT
BEGIN:VEVENT
DTSTART;TZID=America/Detroit:20241120T180000
DTEND;TZID=America/Detroit:20241120T190000
DTSTAMP:20260420T181510
CREATED:20240910T224153Z
LAST-MODIFIED:20241014T214559Z
UID:14828-1732125600-1732129200@taylor.lib.mi.us
SUMMARY:Adult Book Club*
DESCRIPTION:Adult Book Club*\n  \nJoin us as we read fiction from all walks of life and perspectives. For our next discussion\, we’ll be reading The Fraud by Zadie Smith. \n \n*Please call ahead to make sure we have room for new members
URL:https://taylor.lib.mi.us/event/adult-book-club-9/
LOCATION:Community Rooms (Papp & Trolley)\, 12303 Pardee Road\, Taylor\, MI\, 48180\, United States
CATEGORIES:Adults
END:VEVENT
BEGIN:VEVENT
DTSTART;TZID=America/Detroit:20241121T143000
DTEND;TZID=America/Detroit:20241121T163000
DTSTAMP:20260420T181510
CREATED:20240910T224029Z
LAST-MODIFIED:20240910T224029Z
UID:13513-1732199400-1732206600@taylor.lib.mi.us
SUMMARY:Writing Sessions
DESCRIPTION:Writing Sessions\nCalling all writers! We will have one of the front Community Rooms available for those looking for motivation to start writing to come in and write every Thursday\, from 2:30-4:30pm. It’ll be a quiet place with little to no interruptions\, and enough space to spread out your notes and plotline maps. Are you up for the challenge?
URL:https://taylor.lib.mi.us/event/2024-11-21/
LOCATION:Community Rooms (Papp & Trolley)\, 12303 Pardee Road\, Taylor\, MI\, 48180\, United States
CATEGORIES:Adults
END:VEVENT
BEGIN:VEVENT
DTSTART;TZID=America/Detroit:20241121T170000
DTEND;TZID=America/Detroit:20241121T180000
DTSTAMP:20260420T181510
CREATED:20241015T192534Z
LAST-MODIFIED:20241121T200441Z
UID:15354-1732208400-1732212000@taylor.lib.mi.us
SUMMARY:CANCELLED Teen Crochet a Bookmark*
DESCRIPTION:CANCELLED: Teen Crochet a Bookmark\nCANCELLED BUT WILL TRY RESCHEDULING SOMETIME IN JAN – MARCH
URL:https://taylor.lib.mi.us/event/teen-crochet-a-bookmark/
LOCATION:Community Rooms (Papp & Trolley)\, 12303 Pardee Road\, Taylor\, MI\, 48180\, United States
CATEGORIES:Teens
ORGANIZER;CN="Jasmine Riehl":MAILTO:jriehl@cityoftaylormi.gov
END:VEVENT
BEGIN:VEVENT
DTSTART;TZID=America/Detroit:20241121T180000
DTEND;TZID=America/Detroit:20241121T190000
DTSTAMP:20260420T181510
CREATED:20241015T192550Z
LAST-MODIFIED:20241121T182310Z
UID:15352-1732212000-1732215600@taylor.lib.mi.us
SUMMARY:CANCELLED Tween Crochet a Bookmark*
DESCRIPTION:CANCELLED: Tween Crochet a Bookmark\nEvent is canceled but will be rescheduled in the winter quarter sometime jan-march
URL:https://taylor.lib.mi.us/event/tween-crochet-a-bookmark/
LOCATION:Community Rooms (Papp & Trolley)\, 12303 Pardee Road\, Taylor\, MI\, 48180\, United States
CATEGORIES:Youth & Families
ORGANIZER;CN="Jasmine Riehl":MAILTO:jriehl@cityoftaylormi.gov
END:VEVENT
BEGIN:VEVENT
DTSTART;TZID=America/Detroit:20241123T110000
DTEND;TZID=America/Detroit:20241123T120000
DTSTAMP:20260420T181510
CREATED:20240826T224905Z
LAST-MODIFIED:20241007T195719Z
UID:14809-1732359600-1732363200@taylor.lib.mi.us
SUMMARY:Baby Buddies Fall Ball
DESCRIPTION:Baby Buddies Fall Ball\nWear your best and join us for the Baby Ball! There will be music\, snacks\, photo ops\, and so much more.
URL:https://taylor.lib.mi.us/event/baby-buddies-fall-ball/
LOCATION:Community Rooms (Papp & Trolley)\, 12303 Pardee Road\, Taylor\, MI\, 48180\, United States
END:VEVENT
END:VCALENDAR